BEGIN:VCALENDAR
VERSION:2.0
PRODID:-//RitualCravt School - ECPv6.7.0//NONSGML v1.0//EN
CALSCALE:GREGORIAN
METHOD:PUBLISH
X-WR-CALNAME:RitualCravt School
X-ORIGINAL-URL:https://school.ritualcravt.com
X-WR-CALDESC:Events for RitualCravt School
REFRESH-INTERVAL;VALUE=DURATION:PT1H
X-Robots-Tag:noindex
X-PUBLISHED-TTL:PT1H
BEGIN:VTIMEZONE
TZID:America/Denver
BEGIN:DAYLIGHT
TZOFFSETFROM:-0700
TZOFFSETTO:-0600
TZNAME:MDT
DTSTART:20240310T090000
END:DAYLIGHT
BEGIN:STANDARD
TZOFFSETFROM:-0600
TZOFFSETTO:-0700
TZNAME:MST
DTSTART:20241103T080000
END:STANDARD
END:VTIMEZONE
BEGIN:VEVENT
DTSTART;TZID=America/Denver:20240111T180000
DTEND;TZID=America/Denver:20240111T200000
DTSTAMP:20260419T093305
CREATED:20231210T222326Z
LAST-MODIFIED:20231211T193207Z
UID:10000268-1704996000-1705003200@school.ritualcravt.com
SUMMARY:{VIRTUAL} THE WELL OF SLEEP & DREAMS
DESCRIPTION:PLEASE READ ENTIRE CLASS DESCRIPTION \nZOOM CLASSES OPERATE THE SAME AS IN PERSON CLASSES. WE DO NOT RECORD CLASSES TO PROTECT THE INTELLECTUAL PROPERTY OF OUR TEACHERS. \nPLEASE NOTE: This class is not an in-person class. This class is being offered as a LIVE ONLINE-ONLY OFFERING. The zoom link will be attached to your receipt. Please check your junk folder in your email if you do not receive a receipt. If you have not received one please email learn@ritualcravt.com. Please register ahead of time to ensure that you make it to the online session on time! (Class times are in MDT time zone) \nClass fees are non transferable\, please note that we stick to the student agreements clicked on during registration. Please ensure you are able to attend the scheduled class time. \nRegistration will close one hour prior to class starting. \n“And it shall come to pass in the last days\, saith God\, I will pour out of my Spirit upon all flesh: and your sons and your daughters shall prophesy\, and your young men shall see visions\, and your old men shall dream dreams.” Acts 2:17 \nHuman Beings spend one-third of our lives asleep. We know that healthy sleep and dreaming are essential for our health. Sleep and Dream can be potent tools for any magical practice\, if we can learn to draw upon their potential as a well of profound insight and spiritual connection. \nThis class presents methods to prepare the bed and body for restful sleep\, works for protection while asleep\, ritual cures for nightmares\, practices to emphasize lucid dreaming\, and protocols to enhance dream recall. \nVarious materia associated with prophetic and vivid dreaming will be discussed in detail. Lucky Numbers and Policy Player dream books\, common ephemera in the tradition of Hoodoo & Rootwork\, will be shown and examined for both their historical interest and relevance to contemporary practice. \nThis class is useful to practitioners of many paths and centered in the practice of Rootwork & Southern conjure. With its long history of true dreaming and dream-prophecy workers\, conjure is a beautiful example of a folk magical practice where dreams are taken seriously as divination\, spirit communication\, and ancestral guidance. \nPhoebe Hildegard Finch is a traditionally trained conjurer\, card reader\, and writer.\n{Originally brought to earth after a series of baleful magical experiments\,} she currently resides in Denton\, Texas as the live-in apprentice of Professor Charles Porterfield. A lifelong herbalist\, her work with plants is the loamy heart of her craft\, anchoring the arcane in the physical. \n  \n 
URL:https://school.ritualcravt.com/class/virtual-the-well-of-sleep-dreams/
LOCATION:RitualCravt\, Ritualcravt\, 7700 W 44th Ave CO\, Wheat Ridge\, CO\, 80033\, United States
ATTACH;FMTTYPE=image/jpeg:https://school.ritualcravt.com/wp-content/uploads/2022/09/renna-shesso1.jpg
ORGANIZER;CN="RitualCravt School":MAILTO:Learn@Ritualcravt.com
END:VEVENT
END:VCALENDAR