BEGIN:VCALENDAR
VERSION:2.0
PRODID:-//RitualCravt School - ECPv6.7.0//NONSGML v1.0//EN
CALSCALE:GREGORIAN
METHOD:PUBLISH
X-ORIGINAL-URL:https://school.ritualcravt.com
X-WR-CALDESC:Events for RitualCravt School
REFRESH-INTERVAL;VALUE=DURATION:PT1H
X-Robots-Tag:noindex
X-PUBLISHED-TTL:PT1H
BEGIN:VTIMEZONE
TZID:America/Denver
BEGIN:DAYLIGHT
TZOFFSETFROM:-0700
TZOFFSETTO:-0600
TZNAME:MDT
DTSTART:20240310T090000
END:DAYLIGHT
BEGIN:STANDARD
TZOFFSETFROM:-0600
TZOFFSETTO:-0700
TZNAME:MST
DTSTART:20241103T080000
END:STANDARD
END:VTIMEZONE
BEGIN:VEVENT
DTSTART;TZID=America/Denver:20240117T183000
DTEND;TZID=America/Denver:20240117T200000
DTSTAMP:20260423T071638
CREATED:20231209T232823Z
LAST-MODIFIED:20240117T225123Z
UID:10000258-1705516200-1705521600@school.ritualcravt.com
SUMMARY:{IN PERSON} LAY ME IN HONOR: AN EVENING OF DEATH CONTEMPLATION
DESCRIPTION:Please read class description in its entirety. This for is for IN PERSON registration only. \nTICKETS ARE NOT TRANSFERABLE. \nClass fees are non transferable\, please note that we stick to the student agreements clicked on during registration. Please ensure you are able to attend the scheduled class time. \nAn Evening of Death Contemplation with Death Doula & Midwife Carla Torres of A Venerated Death\, LLC End of Life Care \n  \nJoin Death Doula & Midwife Carla Torres for an evening of Death Contemplation! \nThe Contemplation of Death is a Traditional Practice of looking deeply and symptomatically into the nature of Death – physically & spiritually and into our own personal relationship with it. \nDeath Contemplation opens us up to the reality of Death in a very personal and intimate level. Death is a part of our everyday lives\, Death Contemplation helps us become aware of it\, relate to it\, accept & honor it in our world. \nIn this class\, Carla will take through a physical & spiritual journey of your own living death by experiencing a Ritual Death Washing\, Shrouding & being “Laid In Honor” through holy departed Death Meditation. \nYou will leave feeling refreshed on many levels with a new found love and appreciation for Life! \n  \nCarla is a Witch\, End of Life Coach & Death Doula\, she has been practicing magick since she was 18 years old and is an initiate of COTW Coven here in Colorado. Carla received both her End of Life Coaching & Death Doula certifications through her course work with the Conscious Dying Institute in Boulder\, Colorado. Carla is passionate about the Death Positive movement and is an advocate of normalizing death and mortality in everyday life. She hopes to bring death back to its scared place in the community through her death work services and discussions. Carla’s strengths in the death work field are being able to approach this part of life with a radical presence of non-judgment\, love and a bold vulnerability. Carla is a end of life care volunteer for Hospice and is currently working towards a Home Funeral Guide certification. When Carla is not hosting death related discussions\, helping families plan for a good death or sitting vigil\, she can be found talking to her house plants or rolling around in laughter with her two daughters.
URL:https://school.ritualcravt.com/class/in-person-lay-me-in-honor-an-evening-of-death-contemplation-3/
LOCATION:RitualCravt\, Ritualcravt\, 7700 W 44th Ave CO\, Wheat Ridge\, CO\, 80033\, United States
ATTACH;FMTTYPE=image/png:https://school.ritualcravt.com/wp-content/uploads/2023/09/image0.png
ORGANIZER;CN="RitualCravt School":MAILTO:Learn@Ritualcravt.com
END:VEVENT
BEGIN:VEVENT
DTSTART;TZID=America/Denver:20240117T190000
DTEND;TZID=America/Denver:20240117T203000
DTSTAMP:20260423T071638
CREATED:20231210T231829Z
LAST-MODIFIED:20240118T012035Z
UID:10000271-1705518000-1705523400@school.ritualcravt.com
SUMMARY:{VIRTUAL} THE SPRINGTIDE IN NORDIC TRADITION
DESCRIPTION:PLEASE READ ENTIRE CLASS DESCRIPTION \nZOOM CLASSES OPERATE THE SAME AS IN PERSON CLASSES. WE DO NOT RECORD CLASSES TO PROTECT THE INTELLECTUAL PROPERTY OF OUR TEACHERS. \nPLEASE NOTE: This class is not an in-person class. This class is being offered as a LIVE ONLINE-ONLY OFFERING. The zoom link will be attached to your receipt. Please check your junk folder in your email if you do not receive a receipt. If you have not received one please email learn@ritualcravt.com. Please register ahead of time to ensure that you make it to the online session on time! (Class times are in MDT time zone) \nClass fees are non transferable\, please note that we stick to the student agreements clicked on during registration. Please ensure you are able to attend the scheduled class time. \nRegistration will close one hour prior to class starting. \nThe spring tide welcomes the return of the sun and marks a time when we’ve made it through the darkness of the wintertide. I will share a keynote presentation on the springtide\, with important timings and events we can observe in the diaspora. We will go over folk magic and medicine\, and ancestral practices we can utilize to bring the fresh energy of the Spring into our modern lives on the lands we live on today. \nMissy Johanna Rhysing is an American woman practicing Nordic folk traditions in Denver\, CO and Mpls\, MN. Her people hail from Scandinavia\, Bohemia/Czech Republic\, France and England. She places great importance on working with our ancestral root cultures as a means of reclaiming and reweaving folk magic and medicine to improve our lives and our relationships with the lands we live on today.\nMissy’s trainings include Trolldom\, Nordic spirituality and animism\, Swedish massage\, past life regression\, meditation\, shiatsu\, tattooing\, folk herbal and nutritional support\, and more. Missy facilitates community sauna ceremonies and is passionate about sauna tradition and culture. She has been offered the name Völva\, or cunning woman\, and holds that close to her heart with great honor. She carries immense gratitude for her mentors\, spirit council\, and peers for the doors that have been opened to her and the blessings she has received.
URL:https://school.ritualcravt.com/class/virtual-the-springtide-in-nordic-tradition/
LOCATION:RitualCravt\, Ritualcravt\, 7700 W 44th Ave CO\, Wheat Ridge\, CO\, 80033\, United States
ATTACH;FMTTYPE=image/jpeg:https://school.ritualcravt.com/wp-content/uploads/2023/12/1920@40.jpg
ORGANIZER;CN="RitualCravt School":MAILTO:Learn@Ritualcravt.com
END:VEVENT
END:VCALENDAR