BEGIN:VCALENDAR
VERSION:2.0
PRODID:-//RitualCravt School - ECPv6.7.0//NONSGML v1.0//EN
CALSCALE:GREGORIAN
METHOD:PUBLISH
X-ORIGINAL-URL:https://school.ritualcravt.com
X-WR-CALDESC:Events for RitualCravt School
REFRESH-INTERVAL;VALUE=DURATION:PT1H
X-Robots-Tag:noindex
X-PUBLISHED-TTL:PT1H
BEGIN:VTIMEZONE
TZID:America/Denver
BEGIN:DAYLIGHT
TZOFFSETFROM:-0700
TZOFFSETTO:-0600
TZNAME:MDT
DTSTART:20240310T090000
END:DAYLIGHT
BEGIN:STANDARD
TZOFFSETFROM:-0600
TZOFFSETTO:-0700
TZNAME:MST
DTSTART:20241103T080000
END:STANDARD
END:VTIMEZONE
BEGIN:VEVENT
DTSTART;TZID=America/Denver:20240202T180000
DTEND;TZID=America/Denver:20240202T200000
DTSTAMP:20260420T041719
CREATED:20231231T000637Z
LAST-MODIFIED:20240202T222402Z
UID:10000298-1706896800-1706904000@school.ritualcravt.com
SUMMARY:{IN PERSON} FIRE CIDER
DESCRIPTION:Please read class description in its entirety. This for is for IN PERSON registration only. \nTICKETS ARE NOT TRANSFERABLE. \nClass fees are non transferable\, please note that we stick to the student agreements clicked on during registration. Please ensure you are able to attend the scheduled class time. \n  \nThe goal of this class is to leave you empowered to cultivate and create medicine for yourself and your community! We’ll discuss a handful of great herbs and plants to keep in your back pocket during cold and flu season. We will also make fire cider together\, for you to take home and share with your people! \nMamie Trotter is the herbalist behind Herbal Riot- a small herbal business located in Denver. Mamie believes that knowledge of plant medicine is meant to be shared and multiplied. There is truly nothing more empowering than knowing that you can create medicines to help your family and friends. Come prepared to get your hands a little dirty\, and to dip your toes in the pond of herbal medicine. \nPlease come with your own cutting board\, knife\, and a 32oz jar! All other ingredients are included in fee. \n  \n 
URL:https://school.ritualcravt.com/class/in-person-fire-cider/
LOCATION:RitualCravt\, Ritualcravt\, 7700 W 44th Ave CO\, Wheat Ridge\, CO\, 80033\, United States
ATTACH;FMTTYPE=image/jpeg:https://school.ritualcravt.com/wp-content/uploads/2020/06/brown-plant-in-clear-glass-4631020-scaled.jpg
ORGANIZER;CN="RitualCravt School":MAILTO:Learn@Ritualcravt.com
END:VEVENT
END:VCALENDAR