BEGIN:VCALENDAR
VERSION:2.0
PRODID:-//RitualCravt School - ECPv6.7.0//NONSGML v1.0//EN
CALSCALE:GREGORIAN
METHOD:PUBLISH
X-WR-CALNAME:RitualCravt School
X-ORIGINAL-URL:https://school.ritualcravt.com
X-WR-CALDESC:Events for RitualCravt School
REFRESH-INTERVAL;VALUE=DURATION:PT1H
X-Robots-Tag:noindex
X-PUBLISHED-TTL:PT1H
BEGIN:VTIMEZONE
TZID:America/Denver
BEGIN:DAYLIGHT
TZOFFSETFROM:-0700
TZOFFSETTO:-0600
TZNAME:MDT
DTSTART:20240310T090000
END:DAYLIGHT
BEGIN:STANDARD
TZOFFSETFROM:-0600
TZOFFSETTO:-0700
TZNAME:MST
DTSTART:20241103T080000
END:STANDARD
END:VTIMEZONE
BEGIN:VEVENT
DTSTART;TZID=America/Denver:20240416T183000
DTEND;TZID=America/Denver:20240416T200000
DTSTAMP:20260423T210756
CREATED:20240312T144926Z
LAST-MODIFIED:20240312T144926Z
UID:10000323-1713292200-1713297600@school.ritualcravt.com
SUMMARY:{IN PERSON} LAY ME IN HONOR: AN EVENING OF DEATH CONTEMPLATION
DESCRIPTION:Please read class description in its entirety. This for is for IN PERSON registration only. \nTICKETS ARE NOT TRANSFERABLE. \nClass fees are non transferable\, please note that we stick to the student agreements clicked on during registration. Please ensure you are able to attend the scheduled class time. \n  \n“Join Death Doula & Midwife Carla Torres for an evening of Death Contemplation! \nThe Contemplation of Death is Traditional Practice of looking deeply and symptomatically into the nature of Death – physically & spiritually and into our own personal relationship with it. \nDeath Contemplation opens us up to the reality of Death in a very personal and intimate level. Death plays a part of our everyday lives and our existence depends on it. Death Contemplation helps us become aware it\, relate to it and accept and honor it in our lives while we still have it. \nIn this class\, Carla will take you through a physical and spiritual journey of your own living death by way of a traditional Ritual Death Washing\, Shrouding and being “Laid In Honor” through a hold departed Death Meditation. \nYou will leave with a deeper understand of what it means to be alive with an inspired appreciation for your life!” \nCarla is a Witch\, End of Life Coach & Death Doula\, she has been practicing magick since she was 18 years old and is an initiate of COTW Coven here in Colorado. Carla received both her End of Life Coaching & Death Doula certifications through her course work with the Conscious Dying Institute in Boulder\, Colorado. Carla is passionate about the Death Positive movement and is an advocate of normalizing death and mortality in everyday life. She hopes to bring death back to its scared place in the community through her death work services and discussions. Carla’s strengths in the death work field are being able to approach this part of life with a radical presence of non-judgment\, love and a bold vulnerability. Carla is a end of life care volunteer for Hospice and is currently working towards a Home Funeral Guide certification. When Carla is not hosting death related discussions\, helping families plan for a good death or sitting vigil\, she can be found talking to her house plants or rolling around in laughter with her two daughters. \n 
URL:https://school.ritualcravt.com/class/in-person-lay-me-in-honor-an-evening-of-death-contemplation-4/
LOCATION:RitualCravt\, Ritualcravt\, 7700 W 44th Ave CO\, Wheat Ridge\, CO\, 80033\, United States
ATTACH;FMTTYPE=image/png:https://school.ritualcravt.com/wp-content/uploads/2023/09/image0.png
ORGANIZER;CN="RitualCravt School":MAILTO:Learn@Ritualcravt.com
END:VEVENT
END:VCALENDAR