BEGIN:VCALENDAR
VERSION:2.0
PRODID:-//RitualCravt School - ECPv6.7.0//NONSGML v1.0//EN
CALSCALE:GREGORIAN
METHOD:PUBLISH
X-ORIGINAL-URL:https://school.ritualcravt.com
X-WR-CALDESC:Events for RitualCravt School
REFRESH-INTERVAL;VALUE=DURATION:PT1H
X-Robots-Tag:noindex
X-PUBLISHED-TTL:PT1H
BEGIN:VTIMEZONE
TZID:America/Denver
BEGIN:DAYLIGHT
TZOFFSETFROM:-0700
TZOFFSETTO:-0600
TZNAME:MDT
DTSTART:20250309T090000
END:DAYLIGHT
BEGIN:STANDARD
TZOFFSETFROM:-0600
TZOFFSETTO:-0700
TZNAME:MST
DTSTART:20251102T080000
END:STANDARD
END:VTIMEZONE
BEGIN:VEVENT
DTSTART;TZID=America/Denver:20250615T100000
DTEND;TZID=America/Denver:20250615T120000
DTSTAMP:20260423T054209
CREATED:20250416T174751Z
LAST-MODIFIED:20250416T175604Z
UID:10000476-1749981600-1749988800@school.ritualcravt.com
SUMMARY:{VIRTUAL} Your Birth Chart & Your Mental Health!
DESCRIPTION:PLEASE READ: VIRTUAL ZOOM CLASSES OPERATE AS LIVE CLASSES ONLY\, WE DO NOT RECORD TO PROTECT THE INTELLECTUAL PROPERTY OF OUR TEACHERS. \nThis class is not an in-person class. It is being offered as a LIVE ONLINE-ONLY OFFERING. The zoom link will be attached to your ticket. Please also check your junk\, spam and promotions folders in your email for your ticket. If you have not received one please email learn@ritualcravt.com.  \nPlease register ahead of time to ensure that you make it to the online session on time! (Classes are in MDT time zone.) Class fees are non transferable\, we stick to the student agreements agreed upon during registration. Registration closes one hour prior to class starting. \n  \n\n\nIn “Your Birth Chart & Your Mental Health\,” we’ll explore how your astrological chart can provide valuable insights into your emotional well-being and mental health. \nThis class offers tools to help you better understand your unique mental health needs and empower you to work with your chart to create balance and healing. \nDiscover how astrology can be a supportive tool in nurturing your mind\, body\, and spirit\, fostering a more grounded and resilient you. \n\n\nYOUR INSTRUCTOR: \nCrane\, The Water Bearer\, has grown to learn many of the best ways to soothe the soul and open the heart! He uses his platform to shine a light on societal structures and  inequalities…as a reflective dialogue for our time! Allowing a space to foster new possibilities for society & ourselves! \nStarting “The Water Bearer’s Tea” in the Fall of 2016\, Crane currently shares insight on several platforms! He delivers exclusive guidance to his members at ‘THE BREW: Membership & Community’\, and offers Personal Astrology readings\, on a daily basis! His Astrology readings are always discounted for Queer and/or POC clients.
URL:https://school.ritualcravt.com/class/in-person-your-birth-chart-your-mental-health/
LOCATION:Virtual
CATEGORIES:Virtual
ATTACH;FMTTYPE=image/webp:https://school.ritualcravt.com/wp-content/uploads/2025/04/pexels-photo-31612712.webp
ORGANIZER;CN="RitualCravt School":MAILTO:Learn@Ritualcravt.com
END:VEVENT
END:VCALENDAR