BEGIN:VCALENDAR
VERSION:2.0
PRODID:-//RitualCravt School - ECPv6.7.0//NONSGML v1.0//EN
CALSCALE:GREGORIAN
METHOD:PUBLISH
X-WR-CALNAME:RitualCravt School
X-ORIGINAL-URL:https://school.ritualcravt.com
X-WR-CALDESC:Events for RitualCravt School
REFRESH-INTERVAL;VALUE=DURATION:PT1H
X-Robots-Tag:noindex
X-PUBLISHED-TTL:PT1H
BEGIN:VTIMEZONE
TZID:America/Denver
BEGIN:DAYLIGHT
TZOFFSETFROM:-0700
TZOFFSETTO:-0600
TZNAME:MDT
DTSTART:20250309T090000
END:DAYLIGHT
BEGIN:STANDARD
TZOFFSETFROM:-0600
TZOFFSETTO:-0700
TZNAME:MST
DTSTART:20251102T080000
END:STANDARD
END:VTIMEZONE
BEGIN:VEVENT
DTSTART;TZID=America/Denver:20250726T140000
DTEND;TZID=America/Denver:20250726T160000
DTSTAMP:20260424T091357
CREATED:20250616T222737Z
LAST-MODIFIED:20250716T162116Z
UID:10000512-1753538400-1753545600@school.ritualcravt.com
SUMMARY:{IN PERSON} Candle Magick
DESCRIPTION:PLEASE READ: This class is IN PERSON. TICKETS ARE NOT TRANSFERABLE. \nClass fees are non transferable\, we stick to the student agreements agreed upon during registration. Please ensure you are able to attend the scheduled class time. \nReal-world challenges?\nMagical leverage can unsnarl them.\nCandle magick is a luscious way of spell-working. It engages heart\, head and all of our sensory awareness. Using a candle as focal point\, you’ll learn practical techniques and some big secrets for performing successful spells. Especially\, we’ll look at how to custom-design beautiful and effective spells\, from start to finish\, including the follow-through: Getting results you can use.\nAbracadabra\, indeed. (Aramaic : Abraq ad habra = “I will create as I speak”) \nPlease bring: — Note-taking materials\nFee includes Renna’s small book\, Candle Magick \nTeacher Renna Shesso has been designing and working effective candle-spells for several decades. \n  \nYOUR INSTRUCTOR: \n\nRenna Shesso is a shamanic healing practitioner and teacher\, professional tarot reader\, priestess of the Craft\, and writer. \n\n\nShe began exploring magical knowledge-paths as a young adult\, learning astrology from her grandmother\, and has expended her interests exponentially in the decades since then. In addition to her own self-published zines on magical workings\, Renna is the author of Planets for Pagans and Math for Mystics (both published by Weiser Books). While privileged to study with many fine teachers\, she turns to Nature Herself as the ultimate teacher and healer.
URL:https://school.ritualcravt.com/class/in-person-candle-magick-5/
LOCATION:RitualCravt\, Ritualcravt\, 7700 W 44th Ave CO\, Wheat Ridge\, CO\, 80033\, United States
ATTACH;FMTTYPE=image/jpeg:https://school.ritualcravt.com/wp-content/uploads/2025/06/3-3-1.jpg
ORGANIZER;CN="RitualCravt School":MAILTO:Learn@Ritualcravt.com
END:VEVENT
BEGIN:VEVENT
DTSTART;TZID=America/Denver:20250726T183000
DTEND;TZID=America/Denver:20250726T203000
DTSTAMP:20260424T091357
CREATED:20250616T223730Z
LAST-MODIFIED:20250616T223730Z
UID:10000513-1753554600-1753561800@school.ritualcravt.com
SUMMARY:{IN PERSON} Black Mirror Gazing: A Monthly Spirit Communication Experience with Kaedrich & Nelly Olsen
DESCRIPTION:PLEASE READ: This class is IN PERSON. TICKETS ARE NOT TRANSFERABLE. \nClass fees are non transferable\, we stick to the student agreements agreed upon during registration. Please ensure you are able to attend the scheduled class time. \nStep beyond the veil and discover the ancient art of black mirror gazing—a sacred method of spirit communication used for centuries to receive guidance\, healing\, and insight from higher-dimensional beings. \nWhether you’re a seasoned spiritual practitioner or just beginning your journey\, this immersive monthly class offers a powerful opportunity to engage the black mirror as a portal to the unseen realms. You’ll be guided step-by-step to connect with benevolent spirits—guides\, ancestors\, ascended masters\, and more—to receive the messages meant for you. \nWhat You’ll Experience: \n\nA powerful lecture on subtle communication and the energetic mechanics behind mirror gazing.\nHands-on instruction for using the black mirror—even if it’s your very first time.\nLive spirit communication session where we invite high-vibrational beings for insight\, inspiration\, clarity\, and healing.\nIntegration circle to share experiences\, receive guidance\, and learn how to apply what you receive in everyday life.\n\n Why the Black Mirror? \nUsed by mystics\, prophets\, and oracles through the ages\, the black mirror opens a direct channel to the unseen realms. In this modern revival of an ancient practice\, you’ll awaken your natural abilities to perceive messages from beyond—clearly\, safely\, and with purpose. \nWhy join us? \n\nGain spiritual clarity and guidance\nActivate your intuitive and psychic gifts\nConnect with your spirit allies and higher self\nHeal emotional and energetic blocks\nDeepen your relationship with the unseen world\n\nNo experience necessary. Just bring an open heart\, a curious spirit\, and a willingness to connect. \nYOUR INSTRUCTOR: \n\nKaedrich Olsen is a renowned author\, speaker\, spiritual teacher\, and paranormal expert with over 30 years of experience helping others navigate the unseen realms. Known for his extraordinary life lived between worlds\, Kaedrich brings deep wisdom and practical guidance to those ready to explore the mysteries of the afterlife\, shadow work\, and ancient spiritual traditions. \nFrom growing up in a haunted house to training in séance and channeling at a spiritualist church\, Kaedrich’s path has always been intertwined with the supernatural. His lifelong connection with advanced spiritual beings—known as the Whisperers—gives him unparalleled insight into the spiritual dimensions\, the structure of the afterlife\, and how to work with spirits and entities of all kinds. As seen on: Gaia.com\, Coast to Coast AM\, Fade to Black\, and many more
URL:https://school.ritualcravt.com/class/in-person-black-mirror-gazing-a-monthly-spirit-communication-experience-with-kaedrich-nelly-olsen/
LOCATION:RitualCravt\, Ritualcravt\, 7700 W 44th Ave CO\, Wheat Ridge\, CO\, 80033\, United States
ORGANIZER;CN="RitualCravt School":MAILTO:Learn@Ritualcravt.com
END:VEVENT
END:VCALENDAR