BEGIN:VCALENDAR
VERSION:2.0
PRODID:-//RitualCravt School - ECPv6.7.0//NONSGML v1.0//EN
CALSCALE:GREGORIAN
METHOD:PUBLISH
X-WR-CALNAME:RitualCravt School
X-ORIGINAL-URL:https://school.ritualcravt.com
X-WR-CALDESC:Events for RitualCravt School
REFRESH-INTERVAL;VALUE=DURATION:PT1H
X-Robots-Tag:noindex
X-PUBLISHED-TTL:PT1H
BEGIN:VTIMEZONE
TZID:America/Denver
BEGIN:DAYLIGHT
TZOFFSETFROM:-0700
TZOFFSETTO:-0600
TZNAME:MDT
DTSTART:20250309T090000
END:DAYLIGHT
BEGIN:STANDARD
TZOFFSETFROM:-0600
TZOFFSETTO:-0700
TZNAME:MST
DTSTART:20251102T080000
END:STANDARD
END:VTIMEZONE
BEGIN:VEVENT
DTSTART;TZID=America/Denver:20250728T190000
DTEND;TZID=America/Denver:20250728T210000
DTSTAMP:20260422T142537
CREATED:20250616T232613Z
LAST-MODIFIED:20250616T232613Z
UID:10000516-1753729200-1753736400@school.ritualcravt.com
SUMMARY:{VIRTUAL} Autumntide in Scandinavian Folk Traditions
DESCRIPTION:PLEASE READ: VIRTUAL ZOOM CLASSES OPERATE AS LIVE CLASSES ONLY\, WE DO NOT RECORD TO PROTECT THE INTELLECTUAL PROPERTY OF OUR TEACHERS. \nThis class is not an in-person class. It is being offered as a LIVE ONLINE-ONLY OFFERING. The zoom link will be attached to your ticket. Please also check your junk\, spam and promotions folders in your email for your ticket. If you have not received one please email learn@ritualcravt.com.  \nPlease register ahead of time to ensure that you make it to the online session on time! (Classes are in MDT time zone.) Class fees are non transferable\, we stick to the student agreements agreed upon during registration. Registration closes one hour prior to class starting. \nAutumn is an important time of year with natural emphasis on the harvest- ripening\, collecting\, storing away\, and pruning back. Missy will share a keynote lecture on the Autumntide\, with important timings\, holy days\, lore\, and ancestral practices that we can observe in the diaspora. We will go over folk magic and more with emphasis on the ancestors as we near the end of the autumn and move closer to wintertide. We will discuss modern methods to utilize these practices on the lands we live on today in meaningful and beneficial ways. \n  \nYOUR INSTRUCTOR: \nMissy Johanna Rhysing is a Swedish-American woman who grew up in the Swedish diaspora in Minnesota\, and is the owner and founder of Ritualcravt in Colorado. Her people hail from Scandinavia\, Bohemia/Czech Republic\, France and England. She places great importance on working with our ancestral root cultures as a means of reweaving folk magic and traditions to improve our lives and our relationships with the lands we live on today.\n\nMissy’s trainings include Trolldom\, Scandinavian spirituality and animism\, Swedish massage\, past life regression\, meditation\, shiatsu\, tattooing\, folk herbal and nutritional support\, and more. She facilitates community sauna ceremonies and is passionate about sauna culture. Missy has been offered the name Mästerinna as a lineage teacher in Trolldom\, and holds that close to her heart with great honor. She carries immense gratitude for her mentors\, spirit council\, and peers for the doors that have been opened to her and the blessings she has received.
URL:https://school.ritualcravt.com/class/virtual-autumntide-in-scandinavian-folk-traditions/
LOCATION:Virtual
CATEGORIES:Virtual
ORGANIZER;CN="RitualCravt School":MAILTO:Learn@Ritualcravt.com
END:VEVENT
END:VCALENDAR