BEGIN:VCALENDAR
VERSION:2.0
PRODID:-//RitualCravt School - ECPv6.7.0//NONSGML v1.0//EN
CALSCALE:GREGORIAN
METHOD:PUBLISH
X-ORIGINAL-URL:https://school.ritualcravt.com
X-WR-CALDESC:Events for RitualCravt School
REFRESH-INTERVAL;VALUE=DURATION:PT1H
X-Robots-Tag:noindex
X-PUBLISHED-TTL:PT1H
BEGIN:VTIMEZONE
TZID:America/Denver
BEGIN:DAYLIGHT
TZOFFSETFROM:-0700
TZOFFSETTO:-0600
TZNAME:MDT
DTSTART:20250309T090000
END:DAYLIGHT
BEGIN:STANDARD
TZOFFSETFROM:-0600
TZOFFSETTO:-0700
TZNAME:MST
DTSTART:20251102T080000
END:STANDARD
END:VTIMEZONE
BEGIN:VEVENT
DTSTART;TZID=America/Denver:20250823T140000
DTEND;TZID=America/Denver:20250823T153000
DTSTAMP:20260422T161958
CREATED:20250616T202437Z
LAST-MODIFIED:20250823T194700Z
UID:10000504-1755957600-1755963000@school.ritualcravt.com
SUMMARY:{VIRTUAL} Past Life for Money & Resource Empowerment with Marcella Kroll
DESCRIPTION:PLEASE READ: VIRTUAL ZOOM CLASSES OPERATE AS LIVE CLASSES ONLY\, WE DO NOT RECORD TO PROTECT THE INTELLECTUAL PROPERTY OF OUR TEACHERS. \nThis class is not an in-person class. It is being offered as a LIVE ONLINE-ONLY OFFERING. The zoom link will be attached to your ticket. Please also check your junk\, spam and promotions folders in your email for your ticket. If you have not received one please email learn@ritualcravt.com.  \nPlease register ahead of time to ensure that you make it to the online session on time! (Classes are in MDT time zone.) Class fees are non transferable\, we stick to the student agreements agreed upon during registration. Registration closes one hour prior to class starting. \nIn this mediation we will explore the connections between your past life experiences and your current relationship with wealth and resources. You’ll have the chance to uncover hidden patterns and beliefs that may be impacting your financial well-being. Gain clarity\, release limiting beliefs\, and empower yourself to attract abundance and prosperity in your life. \n  \nYOUR INSTRUCTOR: \nHi\, I’m Marcella Kroll – an Artist\, Author\, Metaphysical Teacher\, and Tarot & Oracle Creator with 27 years of experience doing divinatory readings\, teaching classes\, and working with individuals and groups on their spiritual journey. As well as creative consulting\, and guest speaking on divination\, psychic protection\, magical and neurodivergent living.
URL:https://school.ritualcravt.com/class/virtual-past-life-for-money-resource-empowerment/
LOCATION:Virtual
CATEGORIES:Virtual
ORGANIZER;CN="RitualCravt School":MAILTO:Learn@Ritualcravt.com
END:VEVENT
BEGIN:VEVENT
DTSTART;TZID=America/Denver:20250823T140000
DTEND;TZID=America/Denver:20250823T160000
DTSTAMP:20260422T161958
CREATED:20250616T203327Z
LAST-MODIFIED:20250616T203327Z
UID:10000506-1755957600-1755964800@school.ritualcravt.com
SUMMARY:{IN PERSON} Self-Designed Ceremony
DESCRIPTION:PLEASE READ: This class is IN PERSON. TICKETS ARE NOT TRANSFERABLE. \nClass fees are non transferable\, we stick to the student agreements agreed upon during registration. Please ensure you are able to attend the scheduled class time. \nWhat is the next-level soulful unfolding that is awaiting in you to be ignited or acknowledged via ceremony? As we create ceremonies\, we step from the ordinary into the sacred. We move into deeper connection with ourselves and the world\, marking this unique moment in our lives. Ritual asks us to be active and intentional participants in the unfolding of our story. Whether we create a ceremony to grieve the loss of a loved one or a part of ourselves\, to celebrate the start of a new chapter in our lives or even to enliven our everyday passages ~ ritual helps to mark the spot\, to catch us up physically\, emotionally and energetically. I’ll share my personal connection to making ceremonies throughout my life\, including the opportunity of making more everyday magic through the art and ongoing practice of making our own unique ceremonies. We’ll talk about the importance of resourcing our ideas and ingredients sustainably and ethically\, reaching into the roots of our authentic belonging. You will be guided through deep imaginative waking dream-space to consider what ceremony is waiting to be unveiled in your life presently. Intentional art-making and potion-making will be included to help support the process. I’ll walk you through a process of planning your very own self-designed ceremony\, to perform on your own (not in class time). You’ll leave class feeling supported and inspired\, with a solid and potent personal plan to unleash your very own self-designed ceremony in the days ahead. \nYOUR INSTRUCTOR: \nEmily Duhaime has been a dreamer\, an artist and a magic-maker since early childhood and so it makes sense that these are inextricably interwoven in all aspects of her world. Emily is a soulful & creative life coach\, art therapist\, mentor\, guide\, artist and dreamer. Trained as a transpersonal psychotherapist and art therapist\, she provides soul-centered life coaching through art therapy\, dreamwork\, plant spirit guidance and self-designed ceremony support to those individuals who are called to step deeply in\, bridging their everyday and spiritual selves. \nShe graduated with a BFA from The School of the Art Institute of Chicago\, IL and went on to earn an MA from Naropa University\, CO\, practicing as a licensed transpersonal art psychotherapist for over 20 years. She lives in Denver and is happy and grateful to be making and selling intentional art\, custom portraits and talismans\, all in her unique and dreamy style of Magical Realism\, where the worlds of spirit and flesh\, magic and ‘reality’ come together. \nHaving always known herself as a Witch\, she is one who holds deep intentions of health\, healing\, love and increased spiritual consciousness for all. She dedicates her life to becoming visible in her magic and to supporting others to also live unapologetically into their own unique experience of their divinity. Check out Emily’s practice\, Modern-Day Alchemy\, at www.emilyduhaime.com
URL:https://school.ritualcravt.com/class/in-person-self-designed-ceremony/
LOCATION:RitualCravt\, Ritualcravt\, 7700 W 44th Ave CO\, Wheat Ridge\, CO\, 80033\, United States
ATTACH;FMTTYPE=image/jpeg:https://school.ritualcravt.com/wp-content/uploads/2025/06/Self-Designed-Ceremony-scaled.jpeg
ORGANIZER;CN="RitualCravt School":MAILTO:Learn@Ritualcravt.com
END:VEVENT
END:VCALENDAR