BEGIN:VCALENDAR
VERSION:2.0
PRODID:-//RitualCravt School - ECPv6.7.0//NONSGML v1.0//EN
CALSCALE:GREGORIAN
METHOD:PUBLISH
X-WR-CALNAME:RitualCravt School
X-ORIGINAL-URL:https://school.ritualcravt.com
X-WR-CALDESC:Events for RitualCravt School
REFRESH-INTERVAL;VALUE=DURATION:PT1H
X-Robots-Tag:noindex
X-PUBLISHED-TTL:PT1H
BEGIN:VTIMEZONE
TZID:America/Denver
BEGIN:DAYLIGHT
TZOFFSETFROM:-0700
TZOFFSETTO:-0600
TZNAME:MDT
DTSTART:20260308T090000
END:DAYLIGHT
BEGIN:STANDARD
TZOFFSETFROM:-0600
TZOFFSETTO:-0700
TZNAME:MST
DTSTART:20261101T080000
END:STANDARD
END:VTIMEZONE
BEGIN:VEVENT
DTSTART;TZID=America/Denver:20260121T183000
DTEND;TZID=America/Denver:20260121T210000
DTSTAMP:20260419T112627
CREATED:20251217T211014Z
LAST-MODIFIED:20251217T211053Z
UID:10000599-1769020200-1769029200@school.ritualcravt.com
SUMMARY:{VIRTUAL} Fairy Tales 101
DESCRIPTION:PLEASE READ: VIRTUAL ZOOM CLASSES OPERATE AS LIVE CLASSES ONLY\, WE DO NOT RECORD TO PROTECT THE INTELLECTUAL PROPERTY OF OUR TEACHERS. This class is not an in-person class\, it is a live\, online only offering. Your zoom link will be attached to your ticket. Please also check your junk\, spam and promotions folders in your email for your ticket. Email learn@ritualcravt.com with any questions. Classes are in MDT time zone. Class fees are non transferable\, we stick to the student agreements agreed upon during registration. Registration closes one hour prior to class beginning. \n  \nIn this introduction to the study of fairy tales\, I’ll be covering basics of the European tradition\nwith an emphasis on some of the different literary figures of the age and the way they collected\, shaped\, and promoted fairy tales. Because the early tales which came from multiple tellers were created for adults by adults\, sex and violence often were integral parts\, either increased or toned down based on the tellers. Literary criticism\, especially different types of critical theory\, will be explained in an accessible way to help you discover different ways to read the same text based on the lens you apply and the questions you ask (a bonus is that you can apply the same kinds of lenses to other works you read!). Finally\, you’ll learn how to approach a set of variants that provide different versions of the same core story (such as Cinderella or Little Red Riding Hood) in order to see how variants change with differences in time periods\, the geographical area\, and the teller’s unique characteristics\, such as their age\, gender\, and spiritual leanings.\nCopies of variants of tales will be distributed to you during the class. \nTwo sliding scale options for tickets. \n  \nYOUR INSTRUCTOR \nSusan Redington Bobby\, the founder of Professor of Words\, LLC\, is an online teacher\, a freelance editor\, a writing mentor\, and a tutor. Her specialty is being able to read people on a deeper level through their writing\, and she has recently completed a certificate course on integrative somatic trauma therapy.  She is a retired professor of English with expertise in fairy tales\, adolescent literature\, goddess archetypes\, magical realism\, creative writing\, and film studies. She is the author of Beyond His Dark Materials\, the editor of Fairy Tales Reimagined\, and co-editor of The Artemis Archetype in Popular Culture. The Series Editor of Tales from Fiddler’s Green\, she also occasionally publishes creative fiction. She is currently studying the Bardic Course in Druidry from OBOD. She maintains Mellie’s Grove\, a certified NWF backyard wildlife habitat that is home to a rescued and small stabilized cat family and all manner of wildlife.
URL:https://school.ritualcravt.com/class/24915/
LOCATION:Virtual
CATEGORIES:Virtual
ATTACH;FMTTYPE=image/jpeg:https://school.ritualcravt.com/wp-content/uploads/2025/12/pexels-ahmetyuksek-28825113.jpg
ORGANIZER;CN="RitualCravt School":MAILTO:Learn@Ritualcravt.com
END:VEVENT
END:VCALENDAR