BEGIN:VCALENDAR
VERSION:2.0
PRODID:-//RitualCravt School - ECPv6.7.0//NONSGML v1.0//EN
CALSCALE:GREGORIAN
METHOD:PUBLISH
X-ORIGINAL-URL:https://school.ritualcravt.com
X-WR-CALDESC:Events for RitualCravt School
REFRESH-INTERVAL;VALUE=DURATION:PT1H
X-Robots-Tag:noindex
X-PUBLISHED-TTL:PT1H
BEGIN:VTIMEZONE
TZID:America/Denver
BEGIN:DAYLIGHT
TZOFFSETFROM:-0700
TZOFFSETTO:-0600
TZNAME:MDT
DTSTART:20260308T090000
END:DAYLIGHT
BEGIN:STANDARD
TZOFFSETFROM:-0600
TZOFFSETTO:-0700
TZNAME:MST
DTSTART:20261101T080000
END:STANDARD
END:VTIMEZONE
BEGIN:VEVENT
DTSTART;TZID=America/Denver:20260503T120000
DTEND;TZID=America/Denver:20260503T133000
DTSTAMP:20260424T052818
CREATED:20260331T180856Z
LAST-MODIFIED:20260413T160405Z
UID:10000674-1777809600-1777815000@school.ritualcravt.com
SUMMARY:{VIRTUAL} Community Dream Circle with Urania Harp
DESCRIPTION:PLEASE READ: VIRTUAL ZOOM CLASSES OPERATE AS LIVE CLASSES ONLY\, WE DO NOT RECORD TO PROTECT THE INTELLECTUAL PROPERTY OF OUR TEACHERS. \nThis class is not an in-person class. It is being offered as a LIVE ONLINE-ONLY OFFERING. The zoom link will be attached to your ticket. Please also check your junk\, spam and promotions folders in your email for your ticket. If you have not received one please email learn@ritualcravt.com.  \nPlease register ahead of time to ensure that you make it to the online session on time! (Classes are in MDT time zone.) Class fees are non transferable\, we stick to the student agreements agreed upon during registration. Registration closes one hour prior to class starting. \n  \n\n\n\n\n\n\n\n\n\n\nDreams can reveal what is unfolding within you\, illuminate hidden patterns\, and offer guidance for the path ahead. This dream circle is a sacred gathering for those who feel called to explore the wisdom of their dreams in community.\n\nDreams connect us to the deeper currents moving through our lives\, individually and collectively. When dreams are explored in community\, they often reveal wisdom from another perspective we may not be aware of.\n\nIn this circle you may:\n \n\nShare a dream and receive supportive reflection from the group.\nAsk questions about dream symbols or recurring dream experiences.\nExplore how current astrological movements and lunar cycles may be influencing the dreaming psyche.\nListen and learn from the dreams of others.\nDeepen your relationship with your own inner guidance.\n\n\n\n\n\n\n\n\n\n\n\n\n\nYOUR INSTRUCTOR: \n\nUrania Harp is a professional astrologer and intuitive guide. She has over 15 years experience in adapting esoteric teachings and practices to modern ways of existence. Her areas of expertise are astrology\, tarot\, dreams\, ritual practices\, and energetic healing. \nAs a graduate of the University of Colorado at Boulder with a B.A. in astronomy\, Urania has an instinctual drive to bridge the gap between science and spirituality. She is passionate about uncovering the core connection between the spiritual and physical realms \nUrania has oriented her studies and practices towards dream analysis for healing and self-transformation. She is a co-host of Journey Through the Innerverse\, a podcast discussing various topics pertaining to dreams\, astral travel and mysticism. \nVisit www.uraniaharpmetaphysics.com to explore her work and offerings.
URL:https://school.ritualcravt.com/class/virtual-community-dream-circle-with-urania-harp/
LOCATION:Virtual
CATEGORIES:Virtual
ATTACH;FMTTYPE=image/jpeg:https://school.ritualcravt.com/wp-content/uploads/2026/03/pexels-ron-lach-8263050.jpg
ORGANIZER;CN="RitualCravt School":MAILTO:Learn@Ritualcravt.com
END:VEVENT
END:VCALENDAR