BEGIN:VCALENDAR
VERSION:2.0
PRODID:-//RitualCravt School - ECPv6.7.0//NONSGML v1.0//EN
CALSCALE:GREGORIAN
METHOD:PUBLISH
X-ORIGINAL-URL:https://school.ritualcravt.com
X-WR-CALDESC:Events for RitualCravt School
REFRESH-INTERVAL;VALUE=DURATION:PT1H
X-Robots-Tag:noindex
X-PUBLISHED-TTL:PT1H
BEGIN:VTIMEZONE
TZID:America/Denver
BEGIN:DAYLIGHT
TZOFFSETFROM:-0700
TZOFFSETTO:-0600
TZNAME:MDT
DTSTART:20260308T090000
END:DAYLIGHT
BEGIN:STANDARD
TZOFFSETFROM:-0600
TZOFFSETTO:-0700
TZNAME:MST
DTSTART:20261101T080000
END:STANDARD
END:VTIMEZONE
BEGIN:VEVENT
DTSTART;TZID=America/Denver:20260606T140000
DTEND;TZID=America/Denver:20260606T160000
DTSTAMP:20260422T050259
CREATED:20260324T225216Z
LAST-MODIFIED:20260326T180557Z
UID:10000646-1780754400-1780761600@school.ritualcravt.com
SUMMARY:{IN PERSON} Monthly Tarot Meetup!
DESCRIPTION:This class is IN PERSON. TICKETS ARE NOT TRANSFERABLE. Class fees are non transferable\, we stick to the student agreements agreed upon during registration. Please ensure you are able to attend the scheduled class time. \n  \nJoin us for our monthly tarot meet-up! This meet-up is designed to be a facilitated space for those interested in tarot\, not a “class.”  \nTarot meet-ups will start with a monthly topic discussion decided by your facilitator or the prior month’s group! Your facilitator will be there to offer topics for discussion\, hold space for questions\, encourage “practice” readings\, and provide time for intentional community building as it fits the group.\nPlease come with your tarot deck and your curiosity! Tarot decks will also be available to borrow if you do not have your own just yet! \n  \nYOUR INSTRUCTOR: \nReese Quinn (she/they) is a tarot and astrology reader and what they lovingly call a practical witch. They have a strong awareness of the crossroads between astrology\, cartomancy\, and elemental practices. You’ll note that Reese embraces their queer\, intersectional identities when both teaching and reading. Reese has been a reader at Ritualcravt for over two years and has studied with well-known witches like Lindsay Mack and Pam Grossman and well-respected teachers locally in Denver. In 2021-2022\, they completed an apprenticeship with best-selling author and reader of 20+ years\, Stefanie Caponi. Their writing is available via the Moon Void Tarot website and they have additional works forthcoming. (@western.moon.witch)
URL:https://school.ritualcravt.com/class/in-person-monthly-tarot-meetup-16/
LOCATION:RitualCravt\, Ritualcravt\, 7700 W 44th Ave CO\, Wheat Ridge\, CO\, 80033\, United States
ATTACH;FMTTYPE=image/jpeg:https://school.ritualcravt.com/wp-content/uploads/2026/03/pexels-torilavart-2147603692-30161159.jpg
ORGANIZER;CN="RitualCravt School":MAILTO:Learn@Ritualcravt.com
END:VEVENT
END:VCALENDAR