BEGIN:VCALENDAR
VERSION:2.0
PRODID:-//RitualCravt School - ECPv6.7.0//NONSGML v1.0//EN
CALSCALE:GREGORIAN
METHOD:PUBLISH
X-WR-CALNAME:RitualCravt School
X-ORIGINAL-URL:https://school.ritualcravt.com
X-WR-CALDESC:Events for RitualCravt School
REFRESH-INTERVAL;VALUE=DURATION:PT1H
X-Robots-Tag:noindex
X-PUBLISHED-TTL:PT1H
BEGIN:VTIMEZONE
TZID:America/Denver
BEGIN:DAYLIGHT
TZOFFSETFROM:-0700
TZOFFSETTO:-0600
TZNAME:MDT
DTSTART:20260308T090000
END:DAYLIGHT
BEGIN:STANDARD
TZOFFSETFROM:-0600
TZOFFSETTO:-0700
TZNAME:MST
DTSTART:20261101T080000
END:STANDARD
END:VTIMEZONE
BEGIN:VEVENT
DTSTART;TZID=America/Denver:20260617T180000
DTEND;TZID=America/Denver:20260617T200000
DTSTAMP:20260422T184205
CREATED:20260331T171650Z
LAST-MODIFIED:20260416T151050Z
UID:10000669-1781719200-1781726400@school.ritualcravt.com
SUMMARY:{VIRTUAL} Invoking the Muse: A Form of Automatic Writing
DESCRIPTION:PLEASE READ: VIRTUAL ZOOM CLASSES OPERATE AS LIVE CLASSES ONLY\, WE DO NOT RECORD TO PROTECT THE INTELLECTUAL PROPERTY OF OUR TEACHERS. This class is not an in-person class\, it is a live\, online only offering. Your zoom link will be attached to your ticket. Please also check your junk\, spam and promotions folders in your email for your ticket. Email learn@ritualcravt.com with any questions. Classes are in MDT time zone. Class fees are non transferable\, we stick to the student agreements agreed upon during registration. Registration closes one hour prior to class beginning. \n  \nFor those who want to learn a way to “get out of their own head” when writing creatively\, I will teach you how to let your intuition work as your muse to assist you in the writing process. I’ll share exactly what has worked for me—including how I wrote two books plus several fairy tales using this approach—and guide you through trying these techniques to help you write more freely and without self-judgment. \nUnderstanding that editing is a separate step for later\, we will focus purely on the act of creating ideas and the raw\, potent magic of the first draft. We will begin with guided imagery\, using visual keys to unlock the gate to the endless stories floating out there\, waiting for the perfect teller. \nYou will have time during the workshop to practice and are encouraged to share your work for supportive feedback\, either in the session or privately with me after the class concludes. You’ll also receive “The Seeds of Stories”\, a downloadable handout with additional story starters and writing prompts. \n  \nYOUR INSTRUCTOR \nSusan Redington Bobby\, the founder of Professor of Words\, LLC\, is an online teacher\, a freelance editor\, a writing mentor\, and a tutor. Her specialty is being able to read people on a deeper level through their writing\, and she has recently completed a certificate course on integrative somatic trauma therapy.  She is a retired professor of English with expertise in fairy tales\, adolescent literature\, goddess archetypes\, magical realism\, creative writing\, and film studies. She is the author of Beyond His Dark Materials\, the editor of Fairy Tales Reimagined\, and co-editor of The Artemis Archetype in Popular Culture. The Series Editor of Tales from Fiddler’s Green\, she also occasionally publishes creative fiction. She is currently studying the Bardic Course in Druidry from OBOD. She maintains Mellie’s Grove\, a certified NWF backyard wildlife habitat that is home to a rescued and small stabilized cat family and all manner of wildlife.
URL:https://school.ritualcravt.com/class/virtual-invoking-the-muse-a-form-of-automatic-writing-2/
LOCATION:Virtual
CATEGORIES:Virtual
ATTACH;FMTTYPE=image/jpeg:https://school.ritualcravt.com/wp-content/uploads/2026/03/pexels-seymasungr-1499342462-29253139.jpg
ORGANIZER;CN="RitualCravt School":MAILTO:Learn@Ritualcravt.com
END:VEVENT
END:VCALENDAR