BEGIN:VCALENDAR
VERSION:2.0
PRODID:-//RitualCravt School - ECPv6.7.0//NONSGML v1.0//EN
CALSCALE:GREGORIAN
METHOD:PUBLISH
X-ORIGINAL-URL:https://school.ritualcravt.com
X-WR-CALDESC:Events for RitualCravt School
REFRESH-INTERVAL;VALUE=DURATION:PT1H
X-Robots-Tag:noindex
X-PUBLISHED-TTL:PT1H
BEGIN:VTIMEZONE
TZID:America/Denver
BEGIN:DAYLIGHT
TZOFFSETFROM:-0700
TZOFFSETTO:-0600
TZNAME:MDT
DTSTART:20250309T090000
END:DAYLIGHT
BEGIN:STANDARD
TZOFFSETFROM:-0600
TZOFFSETTO:-0700
TZNAME:MST
DTSTART:20251102T080000
END:STANDARD
END:VTIMEZONE
BEGIN:VEVENT
DTSTART;TZID=America/Denver:20250111T120000
DTEND;TZID=America/Denver:20250111T140000
DTSTAMP:20260423T144124
CREATED:20241218T022716Z
LAST-MODIFIED:20241218T022716Z
UID:10000409-1736596800-1736604000@school.ritualcravt.com
SUMMARY:{VIRTUAL} Psychic Self Defense
DESCRIPTION:PLEASE READ: VIRTUAL ZOOM CLASSES OPERATE AS LIVE CLASSES ONLY\, WE DO NOT RECORD TO PROTECT THE INTELLECTUAL PROPERTY OF OUR TEACHERS. \nThis class is not an in-person class. It is being offered as a LIVE ONLINE-ONLY OFFERING. The zoom link will be attached to your ticket. Please also check your junk\, spam and promotions folders in your email for your ticket. If you have not received one please email learn@ritualcravt.com.  \nPlease register ahead of time to ensure that you make it to the online session on time! (Classes are in MDT time zone.) Class fees are non transferable\, we stick to the student agreements agreed upon during registration. Registration closes one hour prior to class starting. \nProtecting your energy in the digital age\, online and offline with Marcella Kroll. Learn about Psychic Attack\, how to identify it\, how to disarm it\, and how to not participate in psychic warfare. \n  \nYOUR INSTRUCTOR: \nHi\, I’m Marcella Kroll – an Artist\, Author\, Metaphysical Teacher\, and Tarot & Oracle Creator with 27 years of experience doing divinatory readings\, teaching classes\, and working with individuals and groups on their spiritual journey. As well as creative consulting\, and guest speaking on divination\, psychic protection\, magical and neurodivergent living.
URL:https://school.ritualcravt.com/class/virtual-psychic-self-defense/
LOCATION:Virtual
CATEGORIES:Virtual
ATTACH;FMTTYPE=image/jpeg:https://school.ritualcravt.com/wp-content/uploads/2024/12/4e2f4793-fbb3-419a-99e6-361727ffc677__link-in-bio__image-block__efcf0859-faa8-4c01-b697-1d5620fb5791__f1c44508-8cf4-41e3-8072-c4c38c9b2f7b__5042f0eb-db98-4a70-bb86-3986875f2af2.jpg
ORGANIZER;CN="RitualCravt School":MAILTO:Learn@Ritualcravt.com
END:VEVENT
END:VCALENDAR