BEGIN:VCALENDAR
VERSION:2.0
PRODID:-//RitualCravt School - ECPv6.7.0//NONSGML v1.0//EN
CALSCALE:GREGORIAN
METHOD:PUBLISH
X-ORIGINAL-URL:https://school.ritualcravt.com
X-WR-CALDESC:Events for RitualCravt School
REFRESH-INTERVAL;VALUE=DURATION:PT1H
X-Robots-Tag:noindex
X-PUBLISHED-TTL:PT1H
BEGIN:VTIMEZONE
TZID:America/Denver
BEGIN:DAYLIGHT
TZOFFSETFROM:-0700
TZOFFSETTO:-0600
TZNAME:MDT
DTSTART:20250309T090000
END:DAYLIGHT
BEGIN:STANDARD
TZOFFSETFROM:-0600
TZOFFSETTO:-0700
TZNAME:MST
DTSTART:20251102T080000
END:STANDARD
END:VTIMEZONE
BEGIN:VEVENT
DTSTART;TZID=America/Denver:20250602T123000
DTEND;TZID=America/Denver:20250608T130000
DTSTAMP:20260422T222800
CREATED:20250504T190034Z
LAST-MODIFIED:20250505T163821Z
UID:10000478-1748867400-1749387600@school.ritualcravt.com
SUMMARY:Northern Folk Traditions Conference- Weeklong Conference Pass
DESCRIPTION:**PLEASE READ: This conference is not in-person\, all classes are virtual via ZOOM. All classes are in MST timezone. When you purchase the Conference Pass\, you will receive a separate email with zoom links to all classes in the series which you may attend live. NFTC begins June 2 and runs through June 8 with 1-2 classes per day\, pass students have access to all 12 classes in the conference. Conference Pass students will also have access to all class recordings after the conference for 30 days\, recordings will be available within about one week of the end of the conference. A separate email will be sent to you with links to the recordings. Classes may also be purchased individually\, see our school calendar for individual class tickets and full descriptions! \nThe Northern Folk Traditions Conference is a weeklong virtual conference taking place June 2-8! Ritualcravt School is proud to virtually host 9 teachers for 12 unique classes rooted in presenting our shared love of northern magical and spiritual traditions related to the Nordic countries\, and our love for the ancestors and ancestral ways. This conference aims to explore rare and unusual topics of interest relating to the folk ways of our northern ancestors. The 2025 Conference schedule includes: \nMon\, June 2\n1-3pm The Animistic Worldview in Old Norse Mythology- Mathias Nordvig\n5-7pm The Wisdom of the Threads: The Magic of Spinning\, Weaving\, and Binding in the North\, Hayley Huston\n*\nTues\, June 3\n7-9pm Utiseta: Forging Bonds of Magical Power\, Erik Ohlsen\n*\nWeds\, June 4\n1-3pm Nordic Totemism: Traditional Animal Kinship in Northern Europe\, Rune Hjarnø Rasmussen\n7-9pm Rune Magic and Animism\, Mathias Nordvig\n*\nThurs\, June 5\n11am-1pm Magick of the Finnish Mythology & Roots 1\, Eeva Maria Leino\n7-9pm Folk Sauna Traditions: Magic and Culture in Scandinavia\, Missy Johanna Rhysing\n*\nFri\, June 6\n11am-1pm Magick of the Finnish Mythology & Roots 2\, Eeva Maria Leino\n6-8pm Starlight\, Forge-fire\, & Hearth Embers: The Elves\, Trolls and Dwarves in Scandinavian Folklore & Practice\, Rose Aurora\n*\nSat\, June 7\n11am-1pm Trolldom Herb\, Tree\, & Root Magic: All Good Things Are Three\, Johannes B. Gårdbäck\n3-5pm The Troll Cunning Forge: Magic of the Blacksmith\, Marcus R. McCoy\n*\nSun\, June 8\n11am-1pm Draugadrott: Necromancy\, Spiritism\, and Relating to the Dead and the Ancestors in the Trolldom Tradition\, Johannes B. Gårdbäck\n*\nPurchasing this Conference Pass will give you access to all 12 classes at a nearly 20% discount! All zoom links will be sent in a separate email shortly after purchase. You will also receive an email about 1 week after the conference ends with access to the recordings. Please view Ritualcravt School’s live class calendar for individual class tickets\, full class descriptions\, and teacher bio information!
URL:https://school.ritualcravt.com/class/northern-folk-traditions-conference-weeklong-conference-pass/
LOCATION:Virtual
CATEGORIES:Virtual
ATTACH;FMTTYPE=image/png:https://school.ritualcravt.com/wp-content/uploads/2025/05/IMG_7535.png
END:VEVENT
BEGIN:VEVENT
DTSTART;TZID=America/Denver:20250603T190000
DTEND;TZID=America/Denver:20250603T210000
DTSTAMP:20260422T222800
CREATED:20250504T203416Z
LAST-MODIFIED:20250504T235101Z
UID:10000481-1748977200-1748984400@school.ritualcravt.com
SUMMARY:Utiseta: Forging Bonds of Magical Power
DESCRIPTION:**PLEASE READ: This class is part of the Northern Folk Traditions Conference! This class is not in-person\, it is virtual via ZOOM. All classes are in MST timezone. You will receive a separate email with your zoom link. Students will also have access to a class recording after the conference for 30 days\, recordings will be available within about one week of the end of the conference. A separate email will be sent to you with links to the recording. See our school calendar for all NFTC classes which may be purchased separately or you may purchase a Conference Pass for all classes at a discounted price.  \n\n\nUtiseta: Forging Bonds of Magical Power:\n\n\n\nThe roots of folk magic is found among the patterns of nature; the stones and soil\, the trees and roots\, the mounds and cairns\, and in the wind and weather. Most wisdom cultures have systems for deepening perception of the natural world both inside and outside of us. Utiseta\, or “sitting out” is one such custom found in northern folk traditions. Engaging in this practice amplifies your capacity to forge authentic bonds with the great powers of the land.\n\n\nThis class will explore the old lore of sitting out on burial mounds as it has been passed through the ages\, a practice filled with relevancy for every magical practitioner. Equally\, we will learn an even deeper practice— complete perception of the energy\, spirits\, and patterns found in the natural world. We will discuss methods of sitting on the land\, communicating with elements\, the language of birds\, the indicators of ecology\, and how to walk the land in a sacred way. Ancient sorcerers\, farmers\, and healers knew how to listen to the wind\, smell the season\, taste when the harvest was ripe\, and influence forces of nature. Here\, we learn these practices of immersive nature awareness for the modern world. Here\, we will forge the threads of connection\, the reciprocity\, and the communication systems to fully integrate nature’s pattern to empower authentic sorcery.\n\n\n\nYOUR INSTRUCTOR: \nErik Ohlsen is a master of regenerative design\, an internationally recognized Permaculture teacher\, author\, farmer\, magical herbalist\, storyteller\, and practitioner of Nordic folk traditions.\nSince 1999 Erik has founded numerous organizations that regenerate ecosystems including his award winning design and build firm Permaculture Artisans and The Permaculture Skills Center where thousands of students around the world learn ecological landscaping and regenerative agriculture.\nWorking as an internationally renowned regenerative designer\, he has committed decades to repairing ecosystems and connecting people with the land throughout the globe. He has designed and implemented hundreds of regenerated landscapes ranging from small urban lots to large tracts of land.\nHis many years of experience observing and listening to landscape patterns while managing installation crews have led to an extensive knowledge of ecological land development and planning. He is a specialist in water harvesting systems\, food forest design\, community organizing\, facilitation\, vocational education and much more. In all of his work there is a presence of social equity\, climate justice\, and ecosystem restoration and his stories and achievements continue to empower people worldwide.\n*The Northern Folk Traditions Conference is a weeklong virtual conference taking place June 2-8! Ritualcravt School is proud to virtually host 9 teachers for 12 unique classes rooted in presenting our shared love of northern magical and spiritual traditions related to the Nordic countries\, and our love for the ancestors and ancestral ways. This conference aims to explore rare and unusual topics of interest relating to the folk ways of our northern ancestors.
URL:https://school.ritualcravt.com/class/utiseta-forging-bonds-of-magical-power/
LOCATION:Virtual
CATEGORIES:Virtual
ATTACH;FMTTYPE=image/png:https://school.ritualcravt.com/wp-content/uploads/2025/05/erik2.png
ORGANIZER;CN="RitualCravt School":MAILTO:Learn@Ritualcravt.com
END:VEVENT
END:VCALENDAR