BEGIN:VCALENDAR
VERSION:2.0
PRODID:-//RitualCravt School - ECPv6.7.0//NONSGML v1.0//EN
CALSCALE:GREGORIAN
METHOD:PUBLISH
X-ORIGINAL-URL:https://school.ritualcravt.com
X-WR-CALDESC:Events for RitualCravt School
REFRESH-INTERVAL;VALUE=DURATION:PT1H
X-Robots-Tag:noindex
X-PUBLISHED-TTL:PT1H
BEGIN:VTIMEZONE
TZID:America/Denver
BEGIN:DAYLIGHT
TZOFFSETFROM:-0700
TZOFFSETTO:-0600
TZNAME:MDT
DTSTART:20250309T090000
END:DAYLIGHT
BEGIN:STANDARD
TZOFFSETFROM:-0600
TZOFFSETTO:-0700
TZNAME:MST
DTSTART:20251102T080000
END:STANDARD
END:VTIMEZONE
BEGIN:VEVENT
DTSTART;TZID=America/Denver:20250602T123000
DTEND;TZID=America/Denver:20250608T130000
DTSTAMP:20260423T010715
CREATED:20250504T190034Z
LAST-MODIFIED:20250505T163821Z
UID:10000478-1748867400-1749387600@school.ritualcravt.com
SUMMARY:Northern Folk Traditions Conference- Weeklong Conference Pass
DESCRIPTION:**PLEASE READ: This conference is not in-person\, all classes are virtual via ZOOM. All classes are in MST timezone. When you purchase the Conference Pass\, you will receive a separate email with zoom links to all classes in the series which you may attend live. NFTC begins June 2 and runs through June 8 with 1-2 classes per day\, pass students have access to all 12 classes in the conference. Conference Pass students will also have access to all class recordings after the conference for 30 days\, recordings will be available within about one week of the end of the conference. A separate email will be sent to you with links to the recordings. Classes may also be purchased individually\, see our school calendar for individual class tickets and full descriptions! \nThe Northern Folk Traditions Conference is a weeklong virtual conference taking place June 2-8! Ritualcravt School is proud to virtually host 9 teachers for 12 unique classes rooted in presenting our shared love of northern magical and spiritual traditions related to the Nordic countries\, and our love for the ancestors and ancestral ways. This conference aims to explore rare and unusual topics of interest relating to the folk ways of our northern ancestors. The 2025 Conference schedule includes: \nMon\, June 2\n1-3pm The Animistic Worldview in Old Norse Mythology- Mathias Nordvig\n5-7pm The Wisdom of the Threads: The Magic of Spinning\, Weaving\, and Binding in the North\, Hayley Huston\n*\nTues\, June 3\n7-9pm Utiseta: Forging Bonds of Magical Power\, Erik Ohlsen\n*\nWeds\, June 4\n1-3pm Nordic Totemism: Traditional Animal Kinship in Northern Europe\, Rune Hjarnø Rasmussen\n7-9pm Rune Magic and Animism\, Mathias Nordvig\n*\nThurs\, June 5\n11am-1pm Magick of the Finnish Mythology & Roots 1\, Eeva Maria Leino\n7-9pm Folk Sauna Traditions: Magic and Culture in Scandinavia\, Missy Johanna Rhysing\n*\nFri\, June 6\n11am-1pm Magick of the Finnish Mythology & Roots 2\, Eeva Maria Leino\n6-8pm Starlight\, Forge-fire\, & Hearth Embers: The Elves\, Trolls and Dwarves in Scandinavian Folklore & Practice\, Rose Aurora\n*\nSat\, June 7\n11am-1pm Trolldom Herb\, Tree\, & Root Magic: All Good Things Are Three\, Johannes B. Gårdbäck\n3-5pm The Troll Cunning Forge: Magic of the Blacksmith\, Marcus R. McCoy\n*\nSun\, June 8\n11am-1pm Draugadrott: Necromancy\, Spiritism\, and Relating to the Dead and the Ancestors in the Trolldom Tradition\, Johannes B. Gårdbäck\n*\nPurchasing this Conference Pass will give you access to all 12 classes at a nearly 20% discount! All zoom links will be sent in a separate email shortly after purchase. You will also receive an email about 1 week after the conference ends with access to the recordings. Please view Ritualcravt School’s live class calendar for individual class tickets\, full class descriptions\, and teacher bio information!
URL:https://school.ritualcravt.com/class/northern-folk-traditions-conference-weeklong-conference-pass/
LOCATION:Virtual
CATEGORIES:Virtual
ATTACH;FMTTYPE=image/png:https://school.ritualcravt.com/wp-content/uploads/2025/05/IMG_7535.png
END:VEVENT
BEGIN:VEVENT
DTSTART;TZID=America/Denver:20250605T110000
DTEND;TZID=America/Denver:20250605T130000
DTSTAMP:20260423T010715
CREATED:20250504T221813Z
LAST-MODIFIED:20250504T221813Z
UID:10000484-1749121200-1749128400@school.ritualcravt.com
SUMMARY:Magic of the Finnish Mythology & Roots 1
DESCRIPTION:**PLEASE READ: This class is part of the Northern Folk Traditions Conference! This class is not in-person\, it is virtual via ZOOM. All classes are in MST timezone. You will receive a separate email with your zoom link. Students will also have access to a class recording after the conference for 30 days\, recordings will be available within about one week of the end of the conference. A separate email will be sent to you with links to the recording. See our school calendar for all NFTC classes which may be purchased separately or you may purchase a Conference Pass for all classes at a discounted price.  \nMagic of the Finnish Mythology & Roots 1: \nThis workshop will lead you to a journey into the old tales\, magick and myths in Finnish folklore.\nLecture is leading you to the wild heart of nature that is filled with ancient goddesses\, gods\, and spirits.\nThis workhop will guide you to the roots of the ancient Finnish culture and shares tales\, spell songs\nand rituals that has been done\, and still some people remember these old ways of connection.\nIn the centre of this workshop are goddesses and certain nature spirits and places\, and rituals that has been used for empowerment\, protection and healing.\nYOUR INSTRUCTOR: \nEeva Maria Leino grew is an Finnish author that has dedicated herself to study and teaching of Finnish mythology\,\nfolklore\, herbalism and ancestral wisdom through her books\, courses\, coaching and work.\nShe has written three well spread books in Finnish that weave these subjects with esoteric perspectives and depths of the soul.\nHer passion is also connect finno-ugric shamanistic traditions with the modern days practises.\nYou will hear her rune singing and drumming in workshops too.\nShe believes that mythopoetic connection to the tales of folklore is more than a way to see things and symbols\, it is a way of living soulful life.\n*The Northern Folk Traditions Conference is a weeklong virtual conference taking place June 2-8! Ritualcravt School is proud to virtually host 9 teachers for 12 unique classes rooted in presenting our shared love of northern magical and spiritual traditions related to the Nordic countries\, and our love for the ancestors and ancestral ways. This conference aims to explore rare and unusual topics of interest relating to the folk ways of our northern ancestors.
URL:https://school.ritualcravt.com/class/magic-of-the-finnish-mythology-roots-1/
LOCATION:Virtual
CATEGORIES:Virtual
ATTACH;FMTTYPE=image/png:https://school.ritualcravt.com/wp-content/uploads/2025/05/eeva2.png
ORGANIZER;CN="RitualCravt School":MAILTO:Learn@Ritualcravt.com
END:VEVENT
BEGIN:VEVENT
DTSTART;TZID=America/Denver:20250605T190000
DTEND;TZID=America/Denver:20250605T210000
DTSTAMP:20260423T010715
CREATED:20250504T230220Z
LAST-MODIFIED:20250504T230220Z
UID:10000487-1749150000-1749157200@school.ritualcravt.com
SUMMARY:Folk Sauna Traditions: Magic and Culture in Scandinavia
DESCRIPTION:**PLEASE READ: This class is part of the Northern Folk Traditions Conference! This class is not in-person\, it is virtual via ZOOM. All classes are in MST timezone. You will receive a separate email with your zoom link. Students will also have access to a class recording after the conference for 30 days\, recordings will be available within about one week of the end of the conference. A separate email will be sent to you with links to the recording. See our school calendar for all NFTC classes which may be purchased separately or you may purchase a Conference Pass for all classes at a discounted price.  \nFolk Sauna Traditions: Magic and Culture in Scandinavia: \n\n\nSauna is a living cultural tradition in the Nordic countries with a very long history. I will share a keynote presentation on folk sauna culture- history\, rituals\, practices\, healing techniques\, folklore and more. I will discuss ways in which we can utilize this tradition in our modern lives\, as well as sharing my personal sauna rituals as a trolldom practitioner in the hopes of inspiring others to remember and reweave these beautiful practices in beneficial ways on the lands we live on today. \n\nYOUR INSTRUCTOR: \n\n\nMissy Johanna Rhysing is a Swedish-American woman who grew up in the Swedish diaspora in Minnesota\, and is the owner and founder of Ritualcravt in Colorado. Her people hail from Scandinavia\, Bohemia/Czech Republic\, France and England. She places great importance on working with our ancestral root cultures as a means of reweaving folk magic and traditions to improve our lives and our relationships with the lands we live on today.\nMissy’s trainings include Trolldom\, Nordic spirituality and animism\, Swedish massage\, past life regression\, meditation\, shiatsu\, tattooing\, folk herbal and nutritional support\, and more. She facilitates community sauna ceremonies and is passionate about sauna culture. Missy has been offered the name Mästerinna as a lineage teacher in Trolldom\, and holds that close to her heart with great honor. She carries immense gratitude for her mentors\, spirit council\, and peers for the doors that have been opened to her and the blessings she has received.\n\n*The Northern Folk Traditions Conference is a weeklong virtual conference taking place June 2-8! Ritualcravt School is proud to virtually host 9 teachers for 12 unique classes rooted in presenting our shared love of northern magical and spiritual traditions related to the Nordic countries\, and our love for the ancestors and ancestral ways. This conference aims to explore rare and unusual topics of interest relating to the folk ways of our northern ancestors.
URL:https://school.ritualcravt.com/class/folk-sauna-traditions-magic-and-culture-in-scandinavia/
LOCATION:Virtual
CATEGORIES:Virtual
ATTACH;FMTTYPE=image/png:https://school.ritualcravt.com/wp-content/uploads/2025/05/missy2.png
ORGANIZER;CN="RitualCravt School":MAILTO:Learn@Ritualcravt.com
END:VEVENT
END:VCALENDAR