BEGIN:VCALENDAR
VERSION:2.0
PRODID:-//RitualCravt School - ECPv6.7.0//NONSGML v1.0//EN
CALSCALE:GREGORIAN
METHOD:PUBLISH
X-ORIGINAL-URL:https://school.ritualcravt.com
X-WR-CALDESC:Events for RitualCravt School
REFRESH-INTERVAL;VALUE=DURATION:PT1H
X-Robots-Tag:noindex
X-PUBLISHED-TTL:PT1H
BEGIN:VTIMEZONE
TZID:America/Denver
BEGIN:DAYLIGHT
TZOFFSETFROM:-0700
TZOFFSETTO:-0600
TZNAME:MDT
DTSTART:20250309T090000
END:DAYLIGHT
BEGIN:STANDARD
TZOFFSETFROM:-0600
TZOFFSETTO:-0700
TZNAME:MST
DTSTART:20251102T080000
END:STANDARD
END:VTIMEZONE
BEGIN:VEVENT
DTSTART;TZID=America/Denver:20250126T140000
DTEND;TZID=America/Denver:20250126T160000
DTSTAMP:20260423T172801
CREATED:20241219T225116Z
LAST-MODIFIED:20250106T192218Z
UID:10000424-1737900000-1737907200@school.ritualcravt.com
SUMMARY:{VIRTUAL} The Dreamer's Quest: Journey Into the Inner Self
DESCRIPTION:PLEASE READ: VIRTUAL ZOOM CLASSES OPERATE AS LIVE CLASSES ONLY\, WE DO NOT RECORD TO PROTECT THE INTELLECTUAL PROPERTY OF OUR TEACHERS. \nThis class is not an in-person class. It is being offered as a LIVE ONLINE-ONLY OFFERING. The zoom link will be attached to your ticket. Please also check your junk\, spam and promotions folders in your email for your ticket. If you have not received one please email learn@ritualcravt.com.  \nPlease register ahead of time to ensure that you make it to the online session on time! (Classes are in MDT time zone.) Class fees are non transferable\, we stick to the student agreements agreed upon during registration. Registration closes one hour prior to class starting. \nThis class is a dreamer’s guide and tutorial on how to to integrate your hidden self with your conscious self\, bridging the dream realm to your waking life. You will learn the basics of dream work: creating a bedtime ritual\, organizing and recording your dream journal and the key points of interpretation. In addition\, you will learn how to bring your dream journey full circle through dream reflection\, integration and embodiment.\n\nThis class is perfect for you if you desire to:\n-Uncover hidden blocks that are deep within your subconscious mind.\n-Build confidence by overcoming fears and anxieties.\n-Illuminate untapped creative and spiritual gifts.\n-Connect with spirit guides and ancestors.\n-Integrate all aspects of yourself – unconscious and conscious self.\nYOUR INSTRUCTOR: \n\nUrania Harp is a professional astrologer and intuitive guide. She has over 15 years experience in adapting esoteric teachings and practices to modern ways of existence. Her areas of expertise are astrology\, tarot\, dreams\, ritual practices\, and energetic healing. \nAs a graduate of the University of Colorado at Boulder with a B.A. in astronomy\, Urania has an instinctual drive to bridge the gap between science and spirituality. She is passionate about uncovering the core connection between the spiritual and physical realms \nUrania has oriented her studies and practices towards dream analysis for healing and self-transformation. She is a co-host of Journey Through the Innerverse\, a podcast discussing various topics pertaining to dreams\, astral travel and mysticism. \nVisit www.uraniauniverse.com to explore her work and offerings.
URL:https://school.ritualcravt.com/class/virtual-the-dreamers-quest-journey-into-the-inner-self/
LOCATION:Virtual
CATEGORIES:Virtual
ATTACH;FMTTYPE=image/webp:https://school.ritualcravt.com/wp-content/uploads/2024/12/pexels-photo-1410227-scaled.webp
ORGANIZER;CN="RitualCravt School":MAILTO:Learn@Ritualcravt.com
END:VEVENT
END:VCALENDAR