BEGIN:VCALENDAR
VERSION:2.0
PRODID:-//RitualCravt School - ECPv6.7.0//NONSGML v1.0//EN
CALSCALE:GREGORIAN
METHOD:PUBLISH
X-ORIGINAL-URL:https://school.ritualcravt.com
X-WR-CALDESC:Events for RitualCravt School
REFRESH-INTERVAL;VALUE=DURATION:PT1H
X-Robots-Tag:noindex
X-PUBLISHED-TTL:PT1H
BEGIN:VTIMEZONE
TZID:America/Denver
BEGIN:DAYLIGHT
TZOFFSETFROM:-0700
TZOFFSETTO:-0600
TZNAME:MDT
DTSTART:20250309T090000
END:DAYLIGHT
BEGIN:STANDARD
TZOFFSETFROM:-0600
TZOFFSETTO:-0700
TZNAME:MST
DTSTART:20251102T080000
END:STANDARD
END:VTIMEZONE
BEGIN:VEVENT
DTSTART;TZID=America/Denver:20250323T190000
DTEND;TZID=America/Denver:20250323T200000
DTSTAMP:20260419T122418
CREATED:20241218T024159Z
LAST-MODIFIED:20241218T030031Z
UID:10000410-1742756400-1742760000@school.ritualcravt.com
SUMMARY:{VIRTUAL} Timeline Jump Meditation with Marcella Kroll
DESCRIPTION:PLEASE READ: VIRTUAL ZOOM CLASSES OPERATE AS LIVE CLASSES ONLY\, WE DO NOT RECORD TO PROTECT THE INTELLECTUAL PROPERTY OF OUR TEACHERS. \nThis class is not an in-person class. It is being offered as a LIVE ONLINE-ONLY OFFERING. The zoom link will be attached to your ticket. Please also check your junk\, spam and promotions folders in your email for your ticket. If you have not received one please email learn@ritualcravt.com.  \nPlease register ahead of time to ensure that you make it to the online session on time! (Classes are in MDT time zone.) Class fees are non transferable\, we stick to the student agreements agreed upon during registration. Registration closes one hour prior to class starting. \nReady to shift into a new timeline? Join Marcella Kroll for a powerful guided meditation that blends Timeline Jumping with Quantum Leaping techniques. In this immersive experience\, we’ll dissolve your current timeline and connect you with the next available version of your path. \nThis practice requires your full presence\, as transformation can unfold immediately or over the next few weeks. All you need is an open mind\, commitment to the process\, and a willingness to do the follow-up work to support your transformation. \n  \nYOUR INSTRUCTOR: \nHi\, I’m Marcella Kroll – an Artist\, Author\, Metaphysical Teacher\, and Tarot & Oracle Creator with 27 years of experience doing divinatory readings\, teaching classes\, and working with individuals and groups on their spiritual journey. As well as creative consulting\, and guest speaking on divination\, psychic protection\, magical and neurodivergent living.
URL:https://school.ritualcravt.com/class/virtual-timeline-jump-meditation-with-marcella-kroll/
LOCATION:Virtual
CATEGORIES:Virtual
ATTACH;FMTTYPE=image/webp:https://school.ritualcravt.com/wp-content/uploads/2024/12/pexels-photo-1178684.webp
ORGANIZER;CN="RitualCravt School":MAILTO:Learn@Ritualcravt.com
END:VEVENT
END:VCALENDAR