BEGIN:VCALENDAR
VERSION:2.0
PRODID:-//RitualCravt School - ECPv6.7.0//NONSGML v1.0//EN
CALSCALE:GREGORIAN
METHOD:PUBLISH
X-ORIGINAL-URL:https://school.ritualcravt.com
X-WR-CALDESC:Events for RitualCravt School
REFRESH-INTERVAL;VALUE=DURATION:PT1H
X-Robots-Tag:noindex
X-PUBLISHED-TTL:PT1H
BEGIN:VTIMEZONE
TZID:America/Denver
BEGIN:DAYLIGHT
TZOFFSETFROM:-0700
TZOFFSETTO:-0600
TZNAME:MDT
DTSTART:20250309T090000
END:DAYLIGHT
BEGIN:STANDARD
TZOFFSETFROM:-0600
TZOFFSETTO:-0700
TZNAME:MST
DTSTART:20251102T080000
END:STANDARD
END:VTIMEZONE
BEGIN:VEVENT
DTSTART;TZID=America/Denver:20251210T190000
DTEND;TZID=America/Denver:20251210T200000
DTSTAMP:20260421T043612
CREATED:20250916T173152Z
LAST-MODIFIED:20250916T173152Z
UID:10000546-1765393200-1765396800@school.ritualcravt.com
SUMMARY:{VIRTUAL} Spiritual Fitness for Magical People
DESCRIPTION:PLEASE READ: VIRTUAL ZOOM CLASSES OPERATE AS LIVE CLASSES ONLY\, WE DO NOT RECORD TO PROTECT THE INTELLECTUAL PROPERTY OF OUR TEACHERS. This class is not an in-person class\, it is a live\, online only offering. Your zoom link will be attached to your ticket. Please also check your junk\, spam and promotions folders in your email for your ticket. Email learn@ritualcravt.com with any questions. Classes are in MDT time zone. Class fees are non transferable\, we stick to the student agreements agreed upon during registration. Registration closes one hour prior to class beginning. \n  \nIn this meet up we will practice some essential tools to help maintain your peace in chaotic world. \n  \nYOUR INSTRUCTOR \nMarcella Kroll is a renowned artist\, intuitive\, and spiritual teacher with over 25 years of experience. Her mystical artwork has been exhibited nationwide\, and some of her works are held in the permanent collection of the Rhode Island School of Design Museum\, as well as in Beth DeWoody’s Collection in The Bunker Artspace. Marcella has taught Tarot for Teens at the Los Angeles Public Library\, read for celebrity clients\, consulted in the television/media industry\, and now leads workshops and healing circles worldwide. She’s the author of Healing the Liminal\, the creator of several celebrated tarot and oracle decks\, and the coauthor of Tarot in the Library Esoterica series by Taschen. Marcella’s work blends art\, divination\, and spirituality\, inspiring people to transform their lives and reclaim their multidimensional identities.
URL:https://school.ritualcravt.com/class/virtual-spiritual-fitness-for-magical-people/
LOCATION:Virtual
CATEGORIES:Virtual
ATTACH;FMTTYPE=image/jpeg:https://school.ritualcravt.com/wp-content/uploads/2025/09/pexels-mccutcheon-1407278.jpg
ORGANIZER;CN="RitualCravt School":MAILTO:Learn@Ritualcravt.com
END:VEVENT
BEGIN:VEVENT
DTSTART;TZID=America/Denver:20251212T190000
DTEND;TZID=America/Denver:20251212T210000
DTSTAMP:20260421T043612
CREATED:20250923T201627Z
LAST-MODIFIED:20250924T161101Z
UID:10000577-1765566000-1765573200@school.ritualcravt.com
SUMMARY:{VIRTUAL} Southern Folk Magic 101
DESCRIPTION:PLEASE READ: VIRTUAL ZOOM CLASSES OPERATE AS LIVE CLASSES ONLY\, WE DO NOT RECORD TO PROTECT THE INTELLECTUAL PROPERTY OF OUR TEACHERS. This class is not an in-person class\, it is a live\, online only offering. Your zoom link will be attached to your ticket. Please also check your junk\, spam and promotions folders in your email for your ticket. Email learn@ritualcravt.com with any questions. Classes are in MDT time zone. Class fees are non transferable\, we stick to the student agreements agreed upon during registration. Registration closes one hour prior to class beginning. \n  \nCrossroads\, haints\, grandma’s prayers\, Southern Folk Magic is more than Bible prayers and kitchen remedies. This living tradition involves resilience\, healing\, and everyday wisdom passed on from family to family. During this class\, we will see the connections of African\, Indigenous\, and European influences that make up this spiritual practice\, look at common tools and herbal material used\, and at the end of class\, we will learn how to set up your altar through the lens of Southern Folk Magic. \n  \nYOUR INSTRUCTOR \nGabriel Varzalyi-Lopez is a southern folk practitioner who is a devotee to his ancestors\, nature spirits\, and the God and Goddess of his mother and father. He is a seer\, diviner\, spiritual medium\, and conjuror trained here in New Orleans\, Louisiana. His practice and divinations have always been centered on community\, resilience\, and compassion. He has worked in New Orleans\, Denver\, and Pittsburgh\, Pennsylvania\, where he currently calls home. Born into a lineage of witches\, orthodox priests\, farmers\, artists\, and rebels\, he understands the blessing that has been placed upon his shoulders. An adventurous spirit\, Gabriel feels and hears the call of Spirit through the wind and winding southern brooks\, and on the highest mountain peaks\, observing and watching the simple magics that each of us cherishes in our everyday lives.
URL:https://school.ritualcravt.com/class/virtual-southern-folk-magic-101/
LOCATION:Virtual
CATEGORIES:Virtual
ATTACH;FMTTYPE=image/jpeg:https://school.ritualcravt.com/wp-content/uploads/2025/09/pexels-gabby-k-20419214.jpg
ORGANIZER;CN="RitualCravt School":MAILTO:Learn@Ritualcravt.com
END:VEVENT
END:VCALENDAR