BEGIN:VCALENDAR
VERSION:2.0
PRODID:-//RitualCravt School - ECPv6.7.0//NONSGML v1.0//EN
CALSCALE:GREGORIAN
METHOD:PUBLISH
X-ORIGINAL-URL:https://school.ritualcravt.com
X-WR-CALDESC:Events for RitualCravt School
REFRESH-INTERVAL;VALUE=DURATION:PT1H
X-Robots-Tag:noindex
X-PUBLISHED-TTL:PT1H
BEGIN:VTIMEZONE
TZID:America/Denver
BEGIN:DAYLIGHT
TZOFFSETFROM:-0700
TZOFFSETTO:-0600
TZNAME:MDT
DTSTART:20250309T090000
END:DAYLIGHT
BEGIN:STANDARD
TZOFFSETFROM:-0600
TZOFFSETTO:-0700
TZNAME:MST
DTSTART:20251102T080000
END:STANDARD
END:VTIMEZONE
BEGIN:VEVENT
DTSTART;TZID=America/Denver:20251216T183000
DTEND;TZID=America/Denver:20251216T210000
DTSTAMP:20260425T085331
CREATED:20250916T005528Z
LAST-MODIFIED:20250916T005528Z
UID:10000543-1765909800-1765918800@school.ritualcravt.com
SUMMARY:{VIRTUAL} Moving Through Labyrinths for the Winter Solstice
DESCRIPTION:PLEASE READ: VIRTUAL ZOOM CLASSES OPERATE AS LIVE CLASSES ONLY\, WE DO NOT RECORD TO PROTECT THE INTELLECTUAL PROPERTY OF OUR TEACHERS. This class is not an in-person class\, it is a live\, online only offering. Your zoom link will be attached to your ticket. Please also check your junk\, spam and promotions folders in your email for your ticket. Email learn@ritualcravt.com with any questions. Classes are in MDT time zone. Class fees are non transferable\, we stick to the student agreements agreed upon during registration. Registration closes one hour prior to class beginning. \n  \nThe darkest days of the year are often a challenge for many of us. Even for those of us who love the cozy time of colder temperatures and sun setting earlier\, with tea and books and various hobbies\, the holiday season itself can ensnare us in feelings of isolation\, depression\, sadness\, and grief\, especially if there are associations with this time of year in terms of past traumas or missing those who are no longer with us to share these times. I would like to try to help people in dealing with these difficult emotions by considering the healing magic of traveling through labyrinths. \nIn this class\, you will discover how the labyrinth serves as a symbol of the journey inward\, leading us to the center of our being where we confront our shadows and emerge wiser and more self-aware. We will examine both the Cretan and Greek depictions of Ariadne and consider ways we can connect with her energy and call upon her as a guide when we are deep in shadow work. We will consider visualizations and simple prompts to help you identify a place in your life where you will benefit from “walking” a labyrinth to its center and back. I will also offer ritual suggestions\, as well as practical exercises for incorporating labyrinths into your daily life for spiritual growthand healing. Class is taught from a trauma-informed perspective. \n  \nYOUR INSTRUCTOR \nSusan Redington Bobby\, the founder of Professor of Words\, LLC\, is an online teacher\, a freelance editor\, a writing mentor\, and a tutor. Her specialty is being able to read people on a deeper level through their writing\, and she has recently completed a certificate course on integrative somatic trauma therapy.  She is a retired professor of English with expertise in fairy tales\, adolescent literature\, goddess archetypes\, magical realism\, creative writing\, and film studies. She is the author of Beyond His Dark Materials\, the editor of Fairy Tales Reimagined\, and co-editor of The Artemis Archetype in Popular Culture. The Series Editor of Tales from Fiddler’s Green\, she also occasionally publishes creative fiction. She is currently studying the Bardic Course in Druidry from OBOD. She maintains Mellie’s Grove\, a certified NWF backyard wildlife habitat that is home to a rescued and small stabilized cat family and all manner of wildlife.
URL:https://school.ritualcravt.com/class/virtual-moving-through-labyrinths-for-the-winter-solstice/
LOCATION:Virtual
CATEGORIES:Virtual
ATTACH;FMTTYPE=image/jpeg:https://school.ritualcravt.com/wp-content/uploads/2025/09/pexels-gabriel-senna-694030279-18020382.jpg
ORGANIZER;CN="RitualCravt School":MAILTO:Learn@Ritualcravt.com
END:VEVENT
END:VCALENDAR