BEGIN:VCALENDAR
VERSION:2.0
PRODID:-//RitualCravt School - ECPv6.7.0//NONSGML v1.0//EN
CALSCALE:GREGORIAN
METHOD:PUBLISH
X-ORIGINAL-URL:https://school.ritualcravt.com
X-WR-CALDESC:Events for RitualCravt School
REFRESH-INTERVAL;VALUE=DURATION:PT1H
X-Robots-Tag:noindex
X-PUBLISHED-TTL:PT1H
BEGIN:VTIMEZONE
TZID:America/Denver
BEGIN:DAYLIGHT
TZOFFSETFROM:-0700
TZOFFSETTO:-0600
TZNAME:MDT
DTSTART:20260308T090000
END:DAYLIGHT
BEGIN:STANDARD
TZOFFSETFROM:-0600
TZOFFSETTO:-0700
TZNAME:MST
DTSTART:20261101T080000
END:STANDARD
END:VTIMEZONE
BEGIN:VEVENT
DTSTART;TZID=America/Denver:20260627T183000
DTEND;TZID=America/Denver:20260627T203000
DTSTAMP:20260419T095244
CREATED:20260331T163736Z
LAST-MODIFIED:20260331T163736Z
UID:10000666-1782585000-1782592200@school.ritualcravt.com
SUMMARY:{IN PERSON} Post-Ragnarök: Rebuilding the World of the Gods\, A Monthly Training in Norse Lore\, Ritual\, and Personal Practice
DESCRIPTION:PLEASE READ: This class is IN PERSON. TICKETS ARE NOT TRANSFERABLE. Class fees are non transferable\, we stick to the student agreements agreed upon during registration. Please ensure you are able to attend the scheduled class time. \n  \n\n\n\n\n\n\nJune: Baldr\, the Returning Light \nBaldr’s return\, after Ragnarök\, marks the moment when light\, truth\, and harmony begin to rise again from the ashes of the fallen world. \nIn this class we explore the deeper meaning of Baldr in the Norse tradition and what his return represents in a post-Ragnarök world. Often remembered only as the god whose death set the final events in motion\, Baldr also embodies a profound mythic principle: the restoration of clarity\, integrity\, and luminous presence after the darkness of collapse. \nThrough lore\, discussion\, and reflection\, we will consider how the qualities associated with Baldr: truth\, coherence\, and radiant integrity\, can be cultivated in our own lives as we navigate times of uncertainty and transformation. \nThe session concludes with a ritual honoring Baldr and the returning light he represents. Through offering and invocation\, participants will connect with this renewing power and symbolically awaken the gifts of clarity\, balance\, and luminous presence within themselves. \n\nYOUR INSTRUCTORS: \n\n\n\n\n\n\nKaedrich Olsen has a lifetime of experience exploring the spirit world and more than 30 years teaching and guiding others in the paranormal arts. Growing up in a haunted house and attending a spiritualist church\, he developed early skills in séance work and spirit communication. Today he helps others understand paranormal experiences\, communicate with spirits responsibly\, and navigate the unseen world with clarity and confidence. \nNelly Olsen has had a connection with the spirit world since childhood. After growing up in a religious environment that discouraged these experiences\, she later reclaimed her abilities through years of study\, practice\, and deep personal work. Today she is known for her clear communication with spirits and her work helping souls cross over and serving as a trusted guide for those seeking to better understand the paranormal.
URL:https://school.ritualcravt.com/class/in-person-post-ragnarok-rebuilding-the-world-of-the-gods-a-monthly-training-in-norse-lore-ritual-and-personal-practice-3/
LOCATION:RitualCravt\, Ritualcravt\, 7700 W 44th Ave CO\, Wheat Ridge\, CO\, 80033\, United States
ATTACH;FMTTYPE=image/jpeg:https://school.ritualcravt.com/wp-content/uploads/2026/03/pexels-pixabay-41949.jpg
ORGANIZER;CN="RitualCravt School":MAILTO:Learn@Ritualcravt.com
END:VEVENT
END:VCALENDAR