BEGIN:VCALENDAR
VERSION:2.0
PRODID:-//RitualCravt School - ECPv6.7.0//NONSGML v1.0//EN
CALSCALE:GREGORIAN
METHOD:PUBLISH
X-WR-CALNAME:RitualCravt School
X-ORIGINAL-URL:https://school.ritualcravt.com
X-WR-CALDESC:Events for RitualCravt School
REFRESH-INTERVAL;VALUE=DURATION:PT1H
X-Robots-Tag:noindex
X-PUBLISHED-TTL:PT1H
BEGIN:VTIMEZONE
TZID:America/Denver
BEGIN:DAYLIGHT
TZOFFSETFROM:-0700
TZOFFSETTO:-0600
TZNAME:MDT
DTSTART:20240310T090000
END:DAYLIGHT
BEGIN:STANDARD
TZOFFSETFROM:-0600
TZOFFSETTO:-0700
TZNAME:MST
DTSTART:20241103T080000
END:STANDARD
END:VTIMEZONE
BEGIN:VEVENT
DTSTART;TZID=America/Denver:20240310T100000
DTEND;TZID=America/Denver:20240310T110000
DTSTAMP:20260425T101023
CREATED:20231211T234605Z
LAST-MODIFIED:20240310T155031Z
UID:10000296-1710064800-1710068400@school.ritualcravt.com
SUMMARY:{VIRTUAL} ASTROCARTOGRAPHY (YOUR ASTROLOGY AROUND THE WORLD)
DESCRIPTION:  \nZOOM CLASSES OPERATE THE SAME AS IN PERSON CLASSES. WE DO NOT RECORD CLASSES TO PROTECT THE INTELLECTUAL PROPERTY OF OUR TEACHERS. \nPLEASE NOTE: This class is not an in-person class. This class is being offered as a LIVE ONLINE-ONLY OFFERING. The zoom link will be attached to your ticket. Please check your junk folder in your email if you do not receive a ticket. If you have not received one please email learn@ritualcravt.com. Please register ahead of time to ensure that you make it to the online session on time! (Class times are in MDT time zone) \nClass fees are non transferable\, please note that we stick to the student agreements clicked on during registration. Please ensure you are able to attend the scheduled class time. \n  \n“Your natal chart is specific to the time and location of your birth! And as you travel the world\, your natal chart shifts with you! Ever wondered why certain places are an instant YES when you visit\, and why certain other places carry a more unsettling resonance? It has to do with how your natal chart has shifted with that location! Lots to share in this class! Astrocartography can be used as well to identify the best areas to celebrate your birthday! Because\, YES…where ever you are on your birthday\, in the world\, will shift the trajectory of your year!” \nCrane\, The Water Bearer\, has grown to learn many of the best ways to soothe the soul and open the heart! He uses his platform to shine a light on societal structures and inequalities…as a reflective dialogue for our time! Allowing a space to foster new possibilities for society & ourselves!\nStarting “The Water Bearer’s Tea” in the Fall of 2016\, Crane currently shares insight on several platforms! He delivers exclusive guidance to his members at ‘THE BREW: Membership & Community’\, and offers Personal Astrology readings\, on a daily basis! His Astrology readings are always discounted for Queer and/or POC clients.
URL:https://school.ritualcravt.com/class/virtual-astrocartography-your-astrology-around-the-world/
LOCATION:RitualCravt\, Ritualcravt\, 7700 W 44th Ave CO\, Wheat Ridge\, CO\, 80033\, United States
ORGANIZER;CN="RitualCravt School":MAILTO:Learn@Ritualcravt.com
END:VEVENT
BEGIN:VEVENT
DTSTART;TZID=America/Denver:20240310T140000
DTEND;TZID=America/Denver:20240310T160000
DTSTAMP:20260425T101023
CREATED:20231210T221114Z
LAST-MODIFIED:20240310T170240Z
UID:10000267-1710079200-1710086400@school.ritualcravt.com
SUMMARY:{IN PERSON} THE TRANCE-WORK OF SHAMANIC JOURNEYING
DESCRIPTION:Please read class description in its entirety. This for is for IN PERSON registration only. \nTICKETS ARE NOT TRANSFERABLE. \nClass fees are non transferable\, please note that we stick to the student agreements clicked on during registration. Please ensure you are able to attend the scheduled class time. \n  \nThe Trance-work of Shamanic Journeying \nWe each have a personal direct-line to spirit. Journeying is a means of reawakening and accessing it. \nThe ability to intentionally shift into a trance state and commune with our spirit-plane helpers is an asset to many spiritual paths\, and the shamanic journey is one very dependable means of doing that – for guidance\, healing\, and the outright joy of direct connection with Spirit. \nIn this gathering\, we’ll play with the rudiments of drum-driven journeying to begin meeting the personal allies that live in that place of spirit. These are the spiritual practices of animism\, and this is an empowering path! \nPlease bring/wear:\n— Note-taking materials\n— Comfortable clothes\, if your choose to lay down\n— A bandana/scarf eye-covering (for maximum darkness)\n— Optional: your own small blanket or yoga pad \nRenna Shesso is a shamanic practitioner\, witch\, and author. Her shamanic path took root in the late 1980s\, moving through intensive studies with Sandra Ingerman. Other teachers have fed the fires of Scandinavian and other ancestral explorations. Our relatives in natural world – plants and sky\, animals and elements – remain her most essential and heart-direct teachers.
URL:https://school.ritualcravt.com/class/in-person-the-trance-work-of-shamanic-journeying-2/
LOCATION:RitualCravt\, Ritualcravt\, 7700 W 44th Ave CO\, Wheat Ridge\, CO\, 80033\, United States
ORGANIZER;CN="RitualCravt School":MAILTO:Learn@Ritualcravt.com
END:VEVENT
BEGIN:VEVENT
DTSTART;TZID=America/Denver:20240312T180000
DTEND;TZID=America/Denver:20240312T193000
DTSTAMP:20260425T101023
CREATED:20231210T183816Z
LAST-MODIFIED:20231211T190419Z
UID:10000261-1710266400-1710271800@school.ritualcravt.com
SUMMARY:{VIRTUAL} CUT & CLEAR\, ROAD OPENER & BLOCKBUSTER MAGIC
DESCRIPTION:ZOOM CLASSES OPERATE THE SAME AS IN PERSON CLASSES. WE DO NOT RECORD CLASSES TO PROTECT THE INTELLECTUAL PROPERTY OF OUR TEACHERS. \nPLEASE NOTE: This class is not an in-person class. This class is being offered as a LIVE ONLINE-ONLY OFFERING. The zoom link will be attached to your ticket. Please check your junk folder in your email if you do not receive a ticket. If you have not received one please email learn@ritualcravt.com. Please register ahead of time to ensure that you make it to the online session on time! (Class times are in MDT time zone) \nClass fees are non transferable\, please note that we stick to the student agreements clicked on during registration. Please ensure you are able to attend the scheduled class time. \nRegistration will close one hour prior to class starting. \nAs we go through daily life we sometimes accumulate negativity that needs to be cleared away in order to make space for blessings\, happiness\, & prosperity in our lives. \nBlessings come to us on the path of least resistance. When we feel stuck\, stagnant\, or that our magical workings are not yielding results\, it may be time to clear away conditions and blockages on our path. \nHoodoo\, Rootwork\, and Conjure offer us many techniques and rituals to purify our spirit and space\, as well as to clear our paths to receive blessings. Some traditional workings include rituals such as Road Openers\, Blockbusters and Cut & Clear which help to put us back in alignment with our blessings and positive luck. \nThis class will explore the different approaches used in hoodoo for removing blockages and restoring blessings as well as WHEN and HOW to utilize these techniques. \nCleansing is a form of spiritual hygiene\, and this class will give you the tools and knowledge to enhance your spellwork and give you a boost of power in everything you do. \nYona Glickman is a conjureman\, cartomancer and teacher of Hoodoo & rootwork.\nBorn in a family deeply rooted in spirituality and folk magic allowed him to nurture his natural “gift” & relationship with the spirit realm. Itis the diversity in his mentorship as well as his personal life experiences that gives him a well-rounded and practical perspective to his spiritual workings.\nAs an approachable\,“every day man” he prides himself on using the old time tradition of Hoodoo to find solutions for modern day problems.\nHe is highly skilled and well-versed in candle rituals\, biblical magic\, herbs\, curios and creating handcrafted spiritual products. As One ofthe legacy students of Professor Charles Porterfield\, promoting strength in others and keeping the tradition alive is his mission. Contact him at (786)586-9215 or @propheticsoulguideinc on instagram.
URL:https://school.ritualcravt.com/class/virtual-cut-clear-road-opener-blockbuster-magic/
LOCATION:RitualCravt\, Ritualcravt\, 7700 W 44th Ave CO\, Wheat Ridge\, CO\, 80033\, United States
ATTACH;FMTTYPE=image/jpeg:https://school.ritualcravt.com/wp-content/uploads/2023/12/pexels-ekaterina-belinskaya-4922023-scaled.jpg
ORGANIZER;CN="RitualCravt School":MAILTO:Learn@Ritualcravt.com
END:VEVENT
BEGIN:VEVENT
DTSTART;TZID=America/Denver:20240316T180000
DTEND;TZID=America/Denver:20240316T193000
DTSTAMP:20260425T101023
CREATED:20231211T223042Z
LAST-MODIFIED:20231211T223042Z
UID:10000290-1710612000-1710617400@school.ritualcravt.com
SUMMARY:{VIRTUAL} TASSEOMANCY 101
DESCRIPTION:ZOOM CLASSES OPERATE THE SAME AS IN PERSON CLASSES. WE DO NOT RECORD CLASSES TO PROTECT THE INTELLECTUAL PROPERTY OF OUR TEACHERS. \nPLEASE NOTE: This class is not an in-person class. This class is being offered as a LIVE ONLINE-ONLY OFFERING. The zoom link will be attached to your ticket. Please check your junk folder in your email if you do not receive a ticket. If you have not received one please email learn@ritualcravt.com. Please register ahead of time to ensure that you make it to the online session on time! (Class times are in MDT time zone) \nClass fees are non transferable\, please note that we stick to the student agreements clicked on during registration. Please ensure you are able to attend the scheduled class time. \nRegistration will close one hour prior to class starting. \n  \nFrom the days of old\, Tasseomancy was a form of divination that was used by seers for hundreds of years. From the countryside of England and Scotland to even the palaces of sheiks of the Middle East\, to even having emperors of Rome in Italy\, Tasseomany has been a form of divination that has captured the attention of and minds of each person exposed to such an art. In this class\, we will dive into the history of tasseomancy through tea leaf readings\, coffee grounds\, and wine sediments\, and at the end\, even try our hands at learning how to do tea leaf readings! For the class\, please bring a tea cup and your favorite type of loose-leaf tea. \nGabriel Varzal is a tarot reader\, medium\, and generational practitioner. Learning at a very young age from his grandmother\, Gabriel understood the importance of the ancestors and the spirits of the land and sea. Under the tutelage of teachers and family members in New Orleans\, Pittsburgh\, and New York\, Gabriel has honed his skills to help anyone in need.
URL:https://school.ritualcravt.com/class/virtual-tasseomancy-101-3/
LOCATION:RitualCravt\, Ritualcravt\, 7700 W 44th Ave CO\, Wheat Ridge\, CO\, 80033\, United States
ORGANIZER;CN="RitualCravt School":MAILTO:Learn@Ritualcravt.com
END:VEVENT
END:VCALENDAR