BEGIN:VCALENDAR
VERSION:2.0
PRODID:-//RitualCravt School - ECPv6.7.0//NONSGML v1.0//EN
CALSCALE:GREGORIAN
METHOD:PUBLISH
X-ORIGINAL-URL:https://school.ritualcravt.com
X-WR-CALDESC:Events for RitualCravt School
REFRESH-INTERVAL;VALUE=DURATION:PT1H
X-Robots-Tag:noindex
X-PUBLISHED-TTL:PT1H
BEGIN:VTIMEZONE
TZID:America/Denver
BEGIN:DAYLIGHT
TZOFFSETFROM:-0700
TZOFFSETTO:-0600
TZNAME:MDT
DTSTART:20240310T090000
END:DAYLIGHT
BEGIN:STANDARD
TZOFFSETFROM:-0600
TZOFFSETTO:-0700
TZNAME:MST
DTSTART:20241103T080000
END:STANDARD
END:VTIMEZONE
BEGIN:VEVENT
DTSTART;TZID=America/Denver:20240403T180000
DTEND;TZID=America/Denver:20240403T200000
DTSTAMP:20260423T150403
CREATED:20240311T174727Z
LAST-MODIFIED:20240311T223516Z
UID:10000301-1712167200-1712174400@school.ritualcravt.com
SUMMARY:{VIRTUAL} WINDOW BOX GARDENING FOR WITCHES
DESCRIPTION:ZOOM CLASSES OPERATE THE SAME AS IN PERSON CLASSES. WE DO NOT RECORD CLASSES TO PROTECT THE INTELLECTUAL PROPERTY OF OUR TEACHERS. \nPLEASE NOTE: This class is not an in-person class. This class is being offered as a LIVE ONLINE-ONLY OFFERING. The zoom link will be attached to your ticket. Please check your junk folder in your email if you do not receive a ticket. If you have not received one please email learn@ritualcravt.com. Please register ahead of time to ensure that you make it to the online session on time! (Class times are in MDT time zone) \nClass fees are non transferable\, please note that we stick to the student agreements clicked on during registration. Please ensure you are able to attend the scheduled class time. \nRegistration will close one hour prior to class starting. \n  \n  \nNothing beats fresh plants for Witchcraft\, and to grow plants from seed\, observing their entire life cycle\, is both an offering to their green spirits and a more profound insight into their nature than one can find in any book. \nThis class presents strategies for growing magical plants in window boxes\, as well as indoor growing in miniature greenhouses\, terrariums\, and cold frames. \nLifelong gardener and consultant sorceress Phoebe HIldegard Finch will share recommendations for easy to grow plants\, suited for every experience level. \nWhether your interest is in magical plants to use in spellwork\, growing your own herbs to make delicious teas\, lovely flowers to make your own bouquets – or all of the above\, this class will provide all the information needed for successful growing in every gardening zone. \nThe well-tended window box can attract birds\, butterflies\, beneficial pollinators and even helpful spirits to aid in magic and witchcraft. Herbs and flowers can be worked with magically in every phase of their growth\, and add life & delight to any home. \nGone are the days when growing a magical garden required acres of land or a cottage in the woods – bring the cottage to you and enchant your own living space with the simple techniques shared in this class. \n  \nPhoebe Hildegard Finch is a traditionally trained conjurer\, card reader\, and writer.\nOriginally brought to earth after a series of baleful magical experiments\, she currently resides in Denton\, Texas as the live-in apprentice of Professor Charles Porterfield. A lifelong herbalist\, her work with plants is the loamy heart of her craft\, anchoring the arcane in the physical. \n 
URL:https://school.ritualcravt.com/class/virtual-window-box-gardening-for-witches/
LOCATION:RitualCravt\, Ritualcravt\, 7700 W 44th Ave CO\, Wheat Ridge\, CO\, 80033\, United States
ORGANIZER;CN="RitualCravt School":MAILTO:Learn@Ritualcravt.com
END:VEVENT
END:VCALENDAR