BEGIN:VCALENDAR
VERSION:2.0
PRODID:-//RitualCravt School - ECPv6.7.0//NONSGML v1.0//EN
CALSCALE:GREGORIAN
METHOD:PUBLISH
X-ORIGINAL-URL:https://school.ritualcravt.com
X-WR-CALDESC:Events for RitualCravt School
REFRESH-INTERVAL;VALUE=DURATION:PT1H
X-Robots-Tag:noindex
X-PUBLISHED-TTL:PT1H
BEGIN:VTIMEZONE
TZID:America/Denver
BEGIN:DAYLIGHT
TZOFFSETFROM:-0700
TZOFFSETTO:-0600
TZNAME:MDT
DTSTART:20240310T090000
END:DAYLIGHT
BEGIN:STANDARD
TZOFFSETFROM:-0600
TZOFFSETTO:-0700
TZNAME:MST
DTSTART:20241103T080000
END:STANDARD
END:VTIMEZONE
BEGIN:VEVENT
DTSTART;TZID=America/Denver:20240421T180000
DTEND;TZID=America/Denver:20240421T200000
DTSTAMP:20260424T024226
CREATED:20240312T000434Z
LAST-MODIFIED:20240312T000434Z
UID:10000313-1713722400-1713729600@school.ritualcravt.com
SUMMARY:{VIRTUAL} GODS PHARMACY: HOODOO HERBS\, ROOTS & CURIOS
DESCRIPTION:ZOOM CLASSES OPERATE THE SAME AS IN PERSON CLASSES. WE DO NOT RECORD CLASSES TO PROTECT THE INTELLECTUAL PROPERTY OF OUR TEACHERS. \nPLEASE NOTE: This class is not an in-person class. This class is being offered as a LIVE ONLINE-ONLY OFFERING. The zoom link will be attached to your ticket. Please check your junk folder in your email if you do not receive a ticket. If you have not received one please email learn@ritualcravt.com. Please register ahead of time to ensure that you make it to the online session on time! (Class times are in MDT time zone) \nClass fees are non transferable\, please note that we stick to the student agreements clicked on during registration. Please ensure you are able to attend the scheduled class time. \nRegistration will close one hour prior to class starting. \n“He who finds an herb\, finds a cure…. Walk tall\, and believe in the power of the flower.”\nWorking with roots\, botanicals & curios is the cornerstone of Hoodoo\, Rootwork & Conjure. No pun intended\, it is deeply rooted in ancient tradition.\nIn God’s pharmacy\, every plant has a unique spirit imbued with medicinal & magic power.\nDiscover with me an entire world of uses\, from potent spiritual baths/washes to floor sweeps\, candle magic\, oils\, lamps and mojo bags.\nThis class will dive into a wide range of herbs & roots popular within the\nHoodoo/Conjure tradition. In addition we will explore folklore\, spell work & combined formulas for increased potency.\nWith herbs & roots being easily accessible\, it’s a blessing to know that we always have magic tools right at our fingertips.\n“Herbs are the healing of the nation.” – Bob Marley \nYona Glickman is a conjureman\, cartomancer and teacher of Hoodoo & rootwork.\nBorn in a family deeply rooted in spirituality and folk magic allowed him to nurture his natural “gift” & relationship with the spirit realm. Itis the diversity in his mentorship as well as his personal life experiences that gives him a well-rounded and practical perspective to his spiritual workings.\nAs an approachable\,“every day man” he prides himself on using the old time tradition of Hoodoo to find solutions for modern day problems.\nHe is highly skilled and well-versed in candle rituals\, biblical magic\, herbs\, curios and creating handcrafted spiritual products. As One ofthe legacy students of Professor Charles Porterfield\, promoting strength in others and keeping the tradition alive is his mission. Contact him at (786)586-9215 or @propheticsoulguideinc on instagram.
URL:https://school.ritualcravt.com/class/virtual-gods-pharmacy-hoodoo-herbs-roots-curios/
LOCATION:RitualCravt\, Ritualcravt\, 7700 W 44th Ave CO\, Wheat Ridge\, CO\, 80033\, United States
ORGANIZER;CN="RitualCravt School":MAILTO:Learn@Ritualcravt.com
END:VEVENT
BEGIN:VEVENT
DTSTART;TZID=America/Denver:20240423T190000
DTEND;TZID=America/Denver:20240423T210000
DTSTAMP:20260424T024226
CREATED:20240311T192246Z
LAST-MODIFIED:20240311T192246Z
UID:10000304-1713898800-1713906000@school.ritualcravt.com
SUMMARY:{VIRTUAL} SUMMERTIDE & MIDSUMMER IN NORDIC TRADITION
DESCRIPTION:ZOOM CLASSES OPERATE THE SAME AS IN PERSON CLASSES. WE DO NOT RECORD CLASSES TO PROTECT THE INTELLECTUAL PROPERTY OF OUR TEACHERS. \nPLEASE NOTE: This class is not an in-person class. This class is being offered as a LIVE ONLINE-ONLY OFFERING. The zoom link will be attached to your ticket. Please check your junk folder in your email if you do not receive a ticket. If you have not received one please email learn@ritualcravt.com. Please register ahead of time to ensure that you make it to the online session on time! (Class times are in MDT time zone) \nClass fees are non transferable\, please note that we stick to the student agreements clicked on during registration. Please ensure you are able to attend the scheduled class time. \nRegistration will close one hour prior to class starting. \n  \nSummertide is an important time in Nordic countries\, when the sun is at its peak and there is much to celebrate. I will share a keynote lecture on the Summertide with important timings and events that we can observe in the diaspora. There will be great emphasis on Midsommar\, the high holiday of summer\, and I will share the history\, magic\, medicine\, folklore and rituals of this holy day past and present. We will discuss ways to utilize these ancestral traditions in modern ways on the lands we live on today. \nMissy Johanna Rhysing is an American woman practicing Nordic folk traditions in Denver\, CO and Mpls\, MN. Her people hail from Scandinavia\, Bohemia/Czech Republic\, France and England. She places great importance on working with our ancestral root cultures as a means of reclaiming and reweaving folk magic and medicine to improve our lives and our relationships with the lands we live on today.\nMissy’s trainings include Trolldom\, Nordic spirituality and animism\, Swedish massage\, past life regression\, meditation\, shiatsu\, tattooing\, folk herbal and nutritional support\, and more. Missy facilitates community sauna ceremonies and is passionate about sauna tradition and culture. She has been offered the name Völva\, or cunning woman\, and holds that close to her heart with great honor. She carries immense gratitude for her mentors\, spirit council\, and peers for the doors that have been opened to her and the blessings she has received.
URL:https://school.ritualcravt.com/class/virtual-summertide-midsummer-in-nordic-tradition/
LOCATION:RitualCravt\, Ritualcravt\, 7700 W 44th Ave CO\, Wheat Ridge\, CO\, 80033\, United States
ATTACH;FMTTYPE=image/jpeg:https://school.ritualcravt.com/wp-content/uploads/2023/03/juhannussalko.jpg
ORGANIZER;CN="RitualCravt School":MAILTO:Learn@Ritualcravt.com
END:VEVENT
BEGIN:VEVENT
DTSTART;TZID=America/Denver:20240425T190000
DTEND;TZID=America/Denver:20240425T210000
DTSTAMP:20260424T024226
CREATED:20240312T162845Z
LAST-MODIFIED:20240313T031258Z
UID:10000326-1714071600-1714078800@school.ritualcravt.com
SUMMARY:{IN PERSON 5 PART SERIES} QUINTESSENTIAL TAROT
DESCRIPTION:Please read class description in its entirety. This for is for IN PERSON registration only. \nTICKETS ARE NOT TRANSFERABLE. \nClass fees are non transferable\, please note that we stick to the student agreements clicked on during registration. Please ensure you are able to attend the scheduled class time. \nCOURSE FEES INCLUDE ALL 5 PARTS OF THE SERIES  \nQ: How can I plan for a future that’s unknown?\nA: By knowing – by having more information!\nThe Tarot is a tool to illuminate our personal road maps. It overlaps many other disciplines\, all expressed here though art. Specifically\, this is art that delivers practical information wrapping in a sensory visual experience. As we craft an ever-stronger working alliance with the cards\, magic happens.\nWe’ll begin with thorough orientations:\n—the Minor Arcana via the elements (Week 1)\n—the Court Cards for identity and connection (Week 2)\n—the Major Arcana with myths and archetypes (Week 3)\nand then take this material into\n—alliance-deepening personal work (Week 4)\n—reading the Tarot for yourself and for others\, and for maximum personal creativity and well-being (Week 5). \nThis series is for beginners and beyond. Please allow a minimum of two hours every week for take-home assignments between class sessions. \nPlease bring:\n— Note-taking materials\n— A fully illustrated\, “scenic” tarot deck\, i.e. instead of simply seeing five Cups\, you’ll see people/beings interacting with the three Cups. I recommend the Smith-Waite tarot deck (aka Rider-Waite-Smith\, RWS). Ritualcravt carries several different versions\, and I’ll have loaner decks on hand the first night\, so you can see several before making your own choice. \nEvery session of the course includes:\n— Extensive handout pages\n— Hands-on practice with exercises\, readings and practice \nRenna Shesso is a witch\, tarot reader\, shamanic practitioner\, and author. She’s been reading cards professionally for over 20 years\, and using tarot as a personal tool of exploration for much longer.\n____________
URL:https://school.ritualcravt.com/class/in-person-5-part-series-quintessential-tarot/
LOCATION:RitualCravt\, Ritualcravt\, 7700 W 44th Ave CO\, Wheat Ridge\, CO\, 80033\, United States
ORGANIZER;CN="RitualCravt School":MAILTO:Learn@Ritualcravt.com
END:VEVENT
END:VCALENDAR