BEGIN:VCALENDAR
VERSION:2.0
PRODID:-//RitualCravt School - ECPv6.7.0//NONSGML v1.0//EN
CALSCALE:GREGORIAN
METHOD:PUBLISH
X-ORIGINAL-URL:https://school.ritualcravt.com
X-WR-CALDESC:Events for RitualCravt School
REFRESH-INTERVAL;VALUE=DURATION:PT1H
X-Robots-Tag:noindex
X-PUBLISHED-TTL:PT1H
BEGIN:VTIMEZONE
TZID:America/Denver
BEGIN:DAYLIGHT
TZOFFSETFROM:-0700
TZOFFSETTO:-0600
TZNAME:MDT
DTSTART:20250309T090000
END:DAYLIGHT
BEGIN:STANDARD
TZOFFSETFROM:-0600
TZOFFSETTO:-0700
TZNAME:MST
DTSTART:20251102T080000
END:STANDARD
END:VTIMEZONE
BEGIN:VEVENT
DTSTART;TZID=America/Denver:20250427T180000
DTEND;TZID=America/Denver:20250427T200000
DTSTAMP:20260419T223803
CREATED:20250324T192625Z
LAST-MODIFIED:20250326T011358Z
UID:10000451-1745776800-1745784000@school.ritualcravt.com
SUMMARY:{IN PERSON} EMBODIMENT TEMPLE: New Moon in Taurus\, Embodied Stability
DESCRIPTION:PLEASE READ: This class is IN PERSON. TICKETS ARE NOT TRANSFERABLE. \nClass fees are non transferable\, we stick to the student agreements agreed upon during registration. Please ensure you are able to attend the scheduled class time. \n  \nGround into the steady\, sensual energy of the Taurus New Moon as we explore the connection between voice\, body\, and inner security. Through vocal toning\, meditation\, and embodied practices\, we’ll cultivate self-respect and presence\, anchoring into our worth beyond material stability. In a time of shifting foundations\, Taurus reminds us that true security comes from within. Join us in finding harmony between change and tranquility. \nThis circle is designed to be a community ritual\, offering space to connect with the moon’s energy\, embody its themes\, and recharge your spirit in the supportive company of others. Please bring an item to place on the altar for charging and come dressed in comfortable clothing for movement. Don’t forget your journal! \n  \nYOUR INSTRUCTOR: \nAbby Jane Palmer: I am a 4th-generation bodyworker who has been practicing massage\, shiatsu\, and energy work since graduating from the Boulder College of Massage Therapy in 2001. I hold a BA in Psychology and am a certified life coach. My bodywork offerings include prenatal massage\, integrative techniques\, and shiatsu\, with certifications in modalities such as Swedish\, Neuromuscular\, Zen Shiatsu\, Craniosacral\, Maya Abdominal Massage\, and Quantum Shiatsu. In 2022\, I completed additional abdominal massage training to support clients with menstruation\, digestive\, urinary\, and reproductive concerns. \nMy energy work and readings focus on self-care\, embodiment\, and connection to your highest self\, incorporating runes\, tarot and oracle cards. I apprenticed with Johannes Björn Gårdbäck in Nordic Folk Magic and offer combination sessions blending bodywork\, energy healing\, and readings. \nMy practice\, Green Room Healing Arts\, is located on South Broadway in Denver\, and I also provide virtual offerings. I love creating sacred spaces at events and festivals\, with past work including SXSW and Bonnaroo. Let’s amplify your light and connect you with your healing journey!
URL:https://school.ritualcravt.com/class/in-person-embodiment-temple-new-moon-in-taurus-embodied-stability/
LOCATION:RitualCravt\, Ritualcravt\, 7700 W 44th Ave CO\, Wheat Ridge\, CO\, 80033\, United States
ATTACH;FMTTYPE=image/webp:https://school.ritualcravt.com/wp-content/uploads/2025/03/pexels-photo-1921336.webp
ORGANIZER;CN="RitualCravt School":MAILTO:Learn@Ritualcravt.com
END:VEVENT
BEGIN:VEVENT
DTSTART;TZID=America/Denver:20250428T190000
DTEND;TZID=America/Denver:20250428T210000
DTSTAMP:20260419T223803
CREATED:20250324T220731Z
LAST-MODIFIED:20250324T220731Z
UID:10000461-1745866800-1745874000@school.ritualcravt.com
SUMMARY:{VIRTUAL} Summertide and Midsommar in Nordic Tradition
DESCRIPTION:PLEASE READ: VIRTUAL ZOOM CLASSES OPERATE AS LIVE CLASSES ONLY\, WE DO NOT RECORD TO PROTECT THE INTELLECTUAL PROPERTY OF OUR TEACHERS. \nThis class is not an in-person class. It is being offered as a LIVE ONLINE-ONLY OFFERING. The zoom link will be attached to your ticket. Please also check your junk\, spam and promotions folders in your email for your ticket. If you have not received one please email learn@ritualcravt.com.  \nPlease register ahead of time to ensure that you make it to the online session on time! (Classes are in MDT time zone.) Class fees are non transferable\, we stick to the student agreements agreed upon during registration. Registration closes one hour prior to class starting. \n  \nSummertide is an important time in Nordic countries\, when the sun is at its peak and there is much to celebrate! \nI will share a keynote lecture on the Summertide with important timings and events that we can observe in the diaspora. There will be great emphasis on Midsommar\, the high holiday of summer\, and I will share the history\, magic\, medicine\, folklore and rituals of this holy day past and present. We will discuss ways to utilize these Scandinavian ancestral traditions in modern ways on the lands we live on today. \n  \nYOUR INSTRUCTOR: \nMissy Johanna Rhysing is a Swedish-American woman who grew up in the Swedish diaspora in Minnesota\, and is the owner and founder of Ritualcravt in Colorado. Her people hail from Scandinavia\, Bohemia/Czech Republic\, France and England. She places great importance on working with our ancestral root cultures as a means of reweaving folk magic and traditions to improve our lives and our relationships with the lands we live on today.\n\nMissy’s trainings include Trolldom\, Nordic spirituality and animism\, Swedish massage\, past life regression\, meditation\, shiatsu\, tattooing\, folk herbal and nutritional support\, and more. She facilitates community sauna ceremonies and is passionate about sauna culture. Missy has been offered the name Mästerinna as a lineage teacher in Trolldom\, and holds that close to her heart with great honor. She carries immense gratitude for her mentors\, spirit council\, and peers for the doors that have been opened to her and the blessings she has received.
URL:https://school.ritualcravt.com/class/virtual-summertide-and-midsommar-in-nordic-tradition/
LOCATION:Virtual
CATEGORIES:Virtual
ATTACH;FMTTYPE=image/jpeg:https://school.ritualcravt.com/wp-content/uploads/2025/03/pexels-photo-51548-1-scaled.jpg
ORGANIZER;CN="RitualCravt School":MAILTO:Learn@Ritualcravt.com
END:VEVENT
BEGIN:VEVENT
DTSTART;TZID=America/Denver:20250430T180000
DTEND;TZID=America/Denver:20250430T193000
DTSTAMP:20260419T223803
CREATED:20250324T205515Z
LAST-MODIFIED:20250324T205515Z
UID:10000456-1746036000-1746041400@school.ritualcravt.com
SUMMARY:{IN PERSON} Nourishing Your Nervous System: Herbs\, Tea\, and Simple Self-Care
DESCRIPTION:PLEASE READ: This class is IN PERSON. TICKETS ARE NOT TRANSFERABLE. \nClass fees are non transferable\, we stick to the student agreements agreed upon during registration. Please ensure you are able to attend the scheduled class time. \n  \n\nJoin us for a cozy and supportive class designed to help you care for your nervous system with the power of herbs\, gentle movement\, and mindful practices. You’ll be guided through simple and approachable ways to create calm\, build resilience\, and reconnect with your inner peace.\n\nIn this class\, we’ll explore soothing herbs that can help support your body during times of stress and overwhelm. You’ll learn how to prepare your own calming tea blend that you get to take home\, practice gentle breathing exercises to settle your mind\, and incorporate soft movements to ease tension and restore balance. Whether you’re new to herbs or looking for fresh ways to nurture yourself\, this class will leave you feeling grounded\, empowered\, and ready to invite more calm into your daily life. This class is perfect for anyone seeking gentle\, natural ways to support their well-being. No experience with herbs or movement is necessary—just come as you are and bring a willingness to care for yourself and mug to drink tea!\n\n\n\nYOUR INSTRUCTOR:\n\nMclean has had a lifelong passion for helping others embrace and utilize their own magic\, even on the most mundane days. As a certified master herbalist\, crystal healer\, spiritual coach\, birth and postpartum doula\, reiki master\, and practiced tarot and oracle reader\, she offers support for all aspects of being human. Bringing that witch in the woods who gives you a magic potion vibes\, Mclean is here to help you with spells\, tinctures\, trinkets and tools to help you build your own thriving\, magical life. She has been working with the mystical and magical for over 20 years and continually implements metaphysical and spiritual practices into as many places as possible within everyday life. Mclean loves to support humans in an all inclusive\, whole being way. \nAlong with many certifications\, she loves to continue to expand on her spiritual knowledge. Her studies have included energy work\, crystals\, spell work\, herbal astrology\, working with the phases of the moon\, LOA\, and so much more. \n\n“People are capable\, at any time in their lives\, of doing what they dream of.”\nPaulo Coelho\, The Alchemist
URL:https://school.ritualcravt.com/class/in-person-nourishing-your-nervous-system-herbs-tea-and-simple-self-care-2/
LOCATION:RitualCravt\, Ritualcravt\, 7700 W 44th Ave CO\, Wheat Ridge\, CO\, 80033\, United States
ATTACH;FMTTYPE=image/jpeg:https://school.ritualcravt.com/wp-content/uploads/2025/03/free-photo-of-cozy-reading-scene-with-tea-and-flowers.jpg
ORGANIZER;CN="RitualCravt School":MAILTO:Learn@Ritualcravt.com
END:VEVENT
BEGIN:VEVENT
DTSTART;TZID=America/Denver:20250503T140000
DTEND;TZID=America/Denver:20250503T160000
DTSTAMP:20260419T223803
CREATED:20250324T175400Z
LAST-MODIFIED:20250324T175400Z
UID:10000446-1746280800-1746288000@school.ritualcravt.com
SUMMARY:{IN PERSON} Monthly Tarot Meetup!
DESCRIPTION:This class is IN PERSON. TICKETS ARE NOT TRANSFERABLE. \nClass fees are non transferable\, we stick to the student agreements agreed upon during registration. Please ensure you are able to attend the scheduled class time. \n  \nJoin us for our monthly tarot meet-up! This meet-up is designed to be a facilitated space for those interested in tarot\, not a “class.” There will be two facilitators\, current readers here at Ritualcravt – Andrea Carla and Reese Quinn.  \nTarot meet-ups will start with a monthly topic discussion decided by your facilitators or the prior month’s group! Your facilitators will be there to offer topics for discussion\, hold space for questions\, encourage “practice” readings\, and provide time for intentional community building as it fits the group.  \nPlease come with your tarot deck and your curiosity! Tarot decks will also be available to borrow if you do not have your own just yet! \n  \nYOUR INSTRUCTORS: \nAndrea’s fascination with reading cards began from a young age after being introduced to the Smith-Waite Tarot. From then on\, she began to explore different methods of divination and fell in love with Lenormand\, a system of cartomancy originating in late 18th century Europe. Andrea’s style of reading cards could be described as pragmatic and deeply rooted in tradition\, influenced by a true reverence for the sibyls of the past. As a teacher\, Andrea has both an academic and scholarly approach to the way that she presents her classes as well as sharing from her experiences and gnosis as a professional reader. She considers the Tarot to be a book of esoteric mysteries and has spent years of her life in studying and peeling back its many layers to share the knowledge and wisdom embedded in every card. \nReese Quinn (she/they) is a tarot and astrology reader and what they lovingly call a practical witch. They have a strong awareness of the crossroads between astrology\, cartomancy\, and elemental practices. You’ll note that Reese embraces their queer\, intersectional identities when both teaching and reading. Reese has been a reader at Ritualcravt for over two years and has studied with well-known witches like Lindsay Mack and Pam Grossman and well-respected teachers locally in Denver. In 2021-2022\, they completed an apprenticeship with best-selling author and reader of 20+ years\, Stefanie Caponi. Their writing is available via the Moon Void Tarot website and they have additional works forthcoming. (@western.moon.witch)
URL:https://school.ritualcravt.com/class/in-person-monthly-tarot-meetup-4/
LOCATION:RitualCravt\, Ritualcravt\, 7700 W 44th Ave CO\, Wheat Ridge\, CO\, 80033\, United States
ATTACH;FMTTYPE=image/jpeg:https://school.ritualcravt.com/wp-content/uploads/2025/03/pexels-photo-14253705.jpg
ORGANIZER;CN="RitualCravt School":MAILTO:Learn@Ritualcravt.com
END:VEVENT
END:VCALENDAR