BEGIN:VCALENDAR
VERSION:2.0
PRODID:-//RitualCravt School - ECPv6.7.0//NONSGML v1.0//EN
CALSCALE:GREGORIAN
METHOD:PUBLISH
X-WR-CALNAME:RitualCravt School
X-ORIGINAL-URL:https://school.ritualcravt.com
X-WR-CALDESC:Events for RitualCravt School
REFRESH-INTERVAL;VALUE=DURATION:PT1H
X-Robots-Tag:noindex
X-PUBLISHED-TTL:PT1H
BEGIN:VTIMEZONE
TZID:America/Denver
BEGIN:DAYLIGHT
TZOFFSETFROM:-0700
TZOFFSETTO:-0600
TZNAME:MDT
DTSTART:20250309T090000
END:DAYLIGHT
BEGIN:STANDARD
TZOFFSETFROM:-0600
TZOFFSETTO:-0700
TZNAME:MST
DTSTART:20251102T080000
END:STANDARD
END:VTIMEZONE
BEGIN:VEVENT
DTSTART;TZID=America/Denver:20250504T120000
DTEND;TZID=America/Denver:20250504T140000
DTSTAMP:20260420T051917
CREATED:20250324T231508Z
LAST-MODIFIED:20250324T231508Z
UID:10000464-1746360000-1746367200@school.ritualcravt.com
SUMMARY:{VIRTUAL} Lucid Dreaming 101
DESCRIPTION:PLEASE READ: VIRTUAL ZOOM CLASSES OPERATE AS LIVE CLASSES ONLY\, WE DO NOT RECORD TO PROTECT THE INTELLECTUAL PROPERTY OF OUR TEACHERS. \nThis class is not an in-person class. It is being offered as a LIVE ONLINE-ONLY OFFERING. The zoom link will be attached to your ticket. Please also check your junk\, spam and promotions folders in your email for your ticket. If you have not received one please email learn@ritualcravt.com.  \nPlease register ahead of time to ensure that you make it to the online session on time! (Classes are in MDT time zone.) Class fees are non transferable\, we stick to the student agreements agreed upon during registration. Registration closes one hour prior to class starting. \n  \n\n\nLucid Dreaming 101 will assist you in becoming a conscious dreamer\, therefore accelerating your healing and spiritual transformation.\nIn this class you will learn:\n-How to create a dream journal and bedtime ritual.\n-Basics of lucid dreaming\n-How to induce lucid dreams\n-What to do when you are lucid in a dream.\n-How to integrate your lucid dream experience.\n\n\n\nYOUR INSTRUCTOR: \n\nUrania Harp is a professional astrologer and intuitive guide. She has over 15 years experience in adapting esoteric teachings and practices to modern ways of existence. Her areas of expertise are astrology\, tarot\, dreams\, ritual practices\, and energetic healing. \nAs a graduate of the University of Colorado at Boulder with a B.A. in astronomy\, Urania has an instinctual drive to bridge the gap between science and spirituality. She is passionate about uncovering the core connection between the spiritual and physical realms \nUrania has oriented her studies and practices towards dream analysis for healing and self-transformation. She is a co-host of Journey Through the Innerverse\, a podcast discussing various topics pertaining to dreams\, astral travel and mysticism. \nVisit www.uraniauniverse.com to explore her work and offerings.
URL:https://school.ritualcravt.com/class/virtual-lucid-dreaming-101/
LOCATION:Virtual
CATEGORIES:Virtual
ATTACH;FMTTYPE=image/webp:https://school.ritualcravt.com/wp-content/uploads/2025/03/pexels-photo-209831-scaled.webp
ORGANIZER;CN="RitualCravt School":MAILTO:Learn@Ritualcravt.com
END:VEVENT
BEGIN:VEVENT
DTSTART;TZID=America/Denver:20250504T140000
DTEND;TZID=America/Denver:20250504T160000
DTSTAMP:20260420T051917
CREATED:20250324T170606Z
LAST-MODIFIED:20250326T012106Z
UID:10000444-1746367200-1746374400@school.ritualcravt.com
SUMMARY:{IN PERSON} Candle Magick
DESCRIPTION:PLEASE READ: This class is IN PERSON. TICKETS ARE NOT TRANSFERABLE. \nClass fees are non transferable\, we stick to the student agreements agreed upon during registration. Please ensure you are able to attend the scheduled class time. \nReal-world challenges?\nMagical leverage can unsnarl them. \nCandle magick is a luscious way of spell-working. It engages heart\, head and all of our sensory awareness. Using a candle as focal point\, you’ll learn practical techniques and some big secrets for performing successful spells. Especially\, we’ll look at how to custom-design beautiful and effective spells\, from start to finish\, including the follow-through: Getting results you can use.\nAbracadabra\, indeed. (Aramaic : Abraq ad habra = “I will create as I speak”) \nPlease bring: — Note-taking materials\nFee includes Renna’s chapbook\, Candle Magick !\n\nTeacher Renna Shesso has been designing and working effective candle-spells for several decades. \n  \nYOUR INSTRUCTOR: \n\nRenna Shesso is a shamanic healing practitioner and teacher\, professional tarot reader\, priestess of the Craft\, and writer. \n\n\nShe began exploring magical knowledge-paths as a young adult\, learning astrology from her grandmother\, and has expended her interests exponentially in the decades since then. In addition to her own self-published zines on magical workings\, Renna is the author of Planets for Pagans and Math for Mystics (both published by Weiser Books). While privileged to study with many fine teachers\, she turns to Nature Herself as the ultimate teacher and healer.
URL:https://school.ritualcravt.com/class/in-person-candle-magick-3/
LOCATION:RitualCravt\, Ritualcravt\, 7700 W 44th Ave CO\, Wheat Ridge\, CO\, 80033\, United States
ATTACH;FMTTYPE=image/jpeg:https://school.ritualcravt.com/wp-content/uploads/2025/03/vintage-candle.jpg
ORGANIZER;CN="RitualCravt School":MAILTO:Learn@Ritualcravt.com
END:VEVENT
BEGIN:VEVENT
DTSTART;TZID=America/Denver:20250509T173000
DTEND;TZID=America/Denver:20250509T190000
DTSTAMP:20260420T051917
CREATED:20250321T210036Z
LAST-MODIFIED:20250321T210036Z
UID:10000439-1746811800-1746817200@school.ritualcravt.com
SUMMARY:{VIRTUAL} Moon Magic 101
DESCRIPTION:ZOOM CLASSES OPERATE THE SAME AS IN PERSON CLASSES. WE DO NOT RECORD CLASSES TO PROTECT THE INTELLECTUAL PROPERTY OF OUR TEACHERS. \nPLEASE NOTE: This class is not an in-person class. This class is being offered as a LIVE ONLINE-ONLY OFFERING. The zoom link will be attached to your ticket. Please check your junk folder in your email if you do not receive a ticket. If you have not received one please email learn@ritualcravt.com. Please register ahead of time to ensure that you make it to the online session on time! (Class times are in MDT time zone) \nClass fees are non transferable\, please note that we stick to the student agreements clicked on during registration. Please ensure you are able to attend the scheduled class time. \nRegistration will close one hour prior to class starting. \n  \nThe Moon is an essential aspect of the cosmos\, having a pull on us physically\, emotionally\, mentally\, and spiritually. In this class\, we will examine the different aspects of the moon\, what each cycle means\, and how to utilize the moon’s phases. We will also view how the Moon is represented in different spiritual traditions from around the world and even learn about the various gods and goddesses associated with this celestial being. \n  \nYOUR INSTRUCTOR: \nGabriel Varzalyi is a biracial Virginia-born folk practitioner\, a devotee to his ancestors\, spirits of nature\, and the God and Goddess of his mother and father. He is a seer\, diviner\, spiritual medium\, and conjurer trained in the Marigny neighborhood of New Orleans. His practice has always been dedicated to the community\, working in local spiritual shops in New Orleans Louisiana\, Pittsburgh Pennsylvania\, and Denver Colorado. Dedicated to his spiritual work for over a decade\, while also assisting the community in his legal profession through his daily life\, Gabriel sees the balance that both the spiritual world and material world have in the progression of someone’s life. May it be through a limpieza espiritual or the making of protection spikes for one’s home\, money gris-gris for the gambler or investment broker\, or for a love and domination spell for young women wanting to attract their lovers of choice\, Gabriel would lend a hand for the ones true to their heart\, and honesty in Spirit’s eyes. Being born from a lineage of witches and orthodox priests\, he understands the differences and similarities of the messages that come to pass with each person\, allowing for a different type of magical work to occur. Gabriel is also a writer for Witches Magazine under his mundane alias\, an independent magazine based in the United Kingdom. An adventurous spirit\, Gabriel feels and hears the call of spirit through the wind\, through winding southern brooks\, and on high mountain peaks\, observing the simple magics that each of us cherishes in our everyday lives.
URL:https://school.ritualcravt.com/class/virtual-moon-magic-101-2/
LOCATION:Virtual
ATTACH;FMTTYPE=image/webp:https://school.ritualcravt.com/wp-content/uploads/2025/03/pexels-photo-4100130-scaled.webp
ORGANIZER;CN="RitualCravt School":MAILTO:Learn@Ritualcravt.com
END:VEVENT
BEGIN:VEVENT
DTSTART;TZID=America/Denver:20250509T190000
DTEND;TZID=America/Denver:20250509T210000
DTSTAMP:20260420T051917
CREATED:20250403T214851Z
LAST-MODIFIED:20250403T214851Z
UID:10000475-1746817200-1746824400@school.ritualcravt.com
SUMMARY:{IN PERSON} A Star Between the Horns
DESCRIPTION:PLEASE READ: This class is IN PERSON. TICKETS ARE NOT TRANSFERABLE. \nClass fees are non transferable\, we stick to the student agreements agreed upon during registration. Please ensure you are able to attend the scheduled class time. \n  \nJoin Melanie of Seven Sisters as we take a deep dive into the mysteries of Venus! \nSince the earliest civilizations\, people have been tracking and honouring the star Venus as both Deity and Way-Show-er.  It’s influence in our daily lives repeatedly leads us through our own personal underworld\, through the portals of initiation\, and toward our own path of ascension and reclamation. Whether we are paying attention to the Venusian influence in our lives or not\, it’s a rhythm that we are all participating in.  When we attune ourselves to this flow\, it grants us the gnosis of our divine celestial connection to The All in ways only the initiated will know. \nThis class will focus on the divine masculine and the divine feminine Venusian mysteries of the Morning and Evening Star;  how connecting to them can amplify our practices via the path of initiation\, understanding the cycles of Venus in the sky\, in our bodies\, as well as how they manifest through our spiritual experience. \nThis two hour class will conclude with  journey work to deepen into the frequency of Venus as it is alive in our bodies at that time\, and initiating contact (or deepening your relationship ) with your personal Venusian guide. Each participant will also go home with some Venus attuned SvS goodies to help you integrate all that you have learned during our time together. \n  \nYOUR INSTRUCTOR: \nMelanie is heavily devoted to The Old Ones and her Great Work as Witch\, Priestess\, and the path of The Hallowed Bone. She is of British\, and Mi’kmaq descent\, she now resides in the countryside of Southwestern Ontario. She teaches magick and journey work based on her study of Traditional Craft\, Eclectic Mysticism\, Shamanistic practices\, and Folk Magick. She holds regular lunar circles and Sabbat celebrations within her temple in London Ontario as well as online.  For the past two years\, Melanie has been deepening her own dedications through guiding others to their own path of devotion through her Priestess Mentorship\, The Attunement of the Hallowed Bone. \nShe is a ritual herbalist\, shadow worker\, hedge crosser\, and clairvoyant. \nMelanie is the owner and curator of Seven Sisters Ritual Apothecary\, and Liminal Space London Ltd.
URL:https://school.ritualcravt.com/class/in-person-a-star-between-the-horns/
LOCATION:RitualCravt\, Ritualcravt\, 7700 W 44th Ave CO\, Wheat Ridge\, CO\, 80033\, United States
ATTACH;FMTTYPE=image/jpeg:https://school.ritualcravt.com/wp-content/uploads/2025/04/3-3.jpg
ORGANIZER;CN="RitualCravt School":MAILTO:Learn@Ritualcravt.com
END:VEVENT
BEGIN:VEVENT
DTSTART;TZID=America/Denver:20250510T110000
DTEND;TZID=America/Denver:20250510T130000
DTSTAMP:20260420T051917
CREATED:20250324T222333Z
LAST-MODIFIED:20250324T222333Z
UID:10000462-1746874800-1746882000@school.ritualcravt.com
SUMMARY:{IN PERSON} Trollpåse: Spring Spells in Scandinavian Folk Magic
DESCRIPTION:This class is IN PERSON. TICKETS ARE NOT TRANSFERABLE. \nClass fees are non transferable\, we stick to the student agreements agreed upon during registration. Please ensure you are able to attend the scheduled class time. \n  \nIn my lineage of Trolldom\, the folk magic of Scandinavia\, one of the ways in which we cast spells is by making a trollpåse \, or a magical pouch. Join me live at Ritualcravt for an afternoon of casting spells for the Spring season! Please come with some ideas of what you would like to grow or cultivate more of in your life during for Spring. We will have a short lecture on traditional trollpåse\, discuss materia for magical bags\, and learn how to cast spells with them. All students will make atleast one bag to bring home. All materials will be provided! \n  \nYOUR INSTRUCTOR: \nMissy Johanna Rhysing is a Swedish-American woman who grew up in the Swedish diaspora in Minnesota\, and is the owner and founder of Ritualcravt in Colorado. Her people hail from Scandinavia\, Bohemia/Czech Republic\, France and England. She places great importance on working with our ancestral root cultures as a means of reweaving folk magic and traditions to improve our lives and our relationships with the lands we live on today. \nMissy’s trainings include Trolldom\, Nordic spirituality and animism\, Swedish massage\, past life regression\, meditation\, shiatsu\, tattooing\, folk herbal and nutritional support\, and more. She facilitates community sauna ceremonies and is passionate about sauna culture. Missy has been offered the name Mästerinna as a lineage teacher in Trolldom\, and holds that close to her heart with great honor. She carries immense gratitude for her mentors\, spirit council\, and peers for the doors that have been opened to her and the blessings she has received. \n 
URL:https://school.ritualcravt.com/class/in-person-trollpase-spring-spells-in-scandinavian-folk-magic/
LOCATION:RitualCravt\, Ritualcravt\, 7700 W 44th Ave CO\, Wheat Ridge\, CO\, 80033\, United States
ATTACH;FMTTYPE=image/jpeg:https://school.ritualcravt.com/wp-content/uploads/2025/03/pexels-photo-133407.jpg
ORGANIZER;CN="RitualCravt School":MAILTO:Learn@Ritualcravt.com
END:VEVENT
END:VCALENDAR