BEGIN:VCALENDAR
VERSION:2.0
PRODID:-//RitualCravt School - ECPv6.7.0//NONSGML v1.0//EN
CALSCALE:GREGORIAN
METHOD:PUBLISH
X-WR-CALNAME:RitualCravt School
X-ORIGINAL-URL:https://school.ritualcravt.com
X-WR-CALDESC:Events for RitualCravt School
REFRESH-INTERVAL;VALUE=DURATION:PT1H
X-Robots-Tag:noindex
X-PUBLISHED-TTL:PT1H
BEGIN:VTIMEZONE
TZID:America/Denver
BEGIN:DAYLIGHT
TZOFFSETFROM:-0700
TZOFFSETTO:-0600
TZNAME:MDT
DTSTART:20250309T090000
END:DAYLIGHT
BEGIN:STANDARD
TZOFFSETFROM:-0600
TZOFFSETTO:-0700
TZNAME:MST
DTSTART:20251102T080000
END:STANDARD
END:VTIMEZONE
BEGIN:VEVENT
DTSTART;TZID=America/Denver:20250511T180000
DTEND;TZID=America/Denver:20250511T193000
DTSTAMP:20260420T060154
CREATED:20250324T193852Z
LAST-MODIFIED:20250326T011228Z
UID:10000452-1746986400-1746991800@school.ritualcravt.com
SUMMARY:Descent to the Underworld Journey
DESCRIPTION:PLEASE READ: This class is IN PERSON. TICKETS ARE NOT TRANSFERABLE. \nClass fees are non transferable\, we stick to the student agreements agreed upon during registration. Please ensure you are able to attend the scheduled class time. \n  \nUnder the powerful light of the Scorpio Full Moon\, we embark on a deep\, transformative journey into the unseen realms. This is a time of profound emotional alchemy—where we shed old layers\, confront hidden truths\, and reconnect with the wisdom of our ancestors\, guides\, and deities. \nUsing a technique passed down by Janet Farrar and Gavin Bone\, this guided journey will lead you through the gates of the Underworld\, where you will meet those who hold insights for you. We begin by activating the energetic body\, grounding deeply\, and setting our intentions before stepping into the liminal space of deep transformation. \n  \nYOUR INSTRUCTOR: \nAbby Jane Palmer: I am a 4th-generation bodyworker who has been practicing massage\, shiatsu\, and energy work since graduating from the Boulder College of Massage Therapy in 2001. I hold a BA in Psychology and am a certified life coach. My bodywork offerings include prenatal massage\, integrative techniques\, and shiatsu\, with certifications in modalities such as Swedish\, Neuromuscular\, Zen Shiatsu\, Craniosacral\, Maya Abdominal Massage\, and Quantum Shiatsu. In 2022\, I completed additional abdominal massage training to support clients with menstruation\, digestive\, urinary\, and reproductive concerns. \nMy energy work and readings focus on self-care\, embodiment\, and connection to your highest self\, incorporating runes\, tarot and oracle cards. I apprenticed with Johannes Björn Gårdbäck in Nordic Folk Magic and offer combination sessions blending bodywork\, energy healing\, and readings. \nMy practice\, Green Room Healing Arts\, is located on South Broadway in Denver\, and I also provide virtual offerings. I love creating sacred spaces at events and festivals\, with past work including SXSW and Bonnaroo. Let’s amplify your light and connect you with your healing journey!
URL:https://school.ritualcravt.com/class/descent-to-the-underworld-journey/
LOCATION:RitualCravt\, Ritualcravt\, 7700 W 44th Ave CO\, Wheat Ridge\, CO\, 80033\, United States
ATTACH;FMTTYPE=image/jpeg:https://school.ritualcravt.com/wp-content/uploads/2025/03/pexels-photo-11711904-scaled.jpg
ORGANIZER;CN="RitualCravt School":MAILTO:Learn@Ritualcravt.com
END:VEVENT
BEGIN:VEVENT
DTSTART;TZID=America/Denver:20250512T183000
DTEND;TZID=America/Denver:20250512T200000
DTSTAMP:20260420T060154
CREATED:20250324T183421Z
LAST-MODIFIED:20250324T204016Z
UID:10000450-1747074600-1747080000@school.ritualcravt.com
SUMMARY:{IN PERSON} Weaving Seasons of Grief Gathering
DESCRIPTION:PLEASE READ: This class is IN PERSON. TICKETS ARE NOT TRANSFERABLE. \nClass fees are non transferable\, we stick to the student agreements agreed upon during registration. Please ensure you are able to attend the scheduled class time. \n  \nGrief is a thread woven into the fabric of our lives\, coexisting with the cycles of nature.\nJoin Carla Torres-Davis\, Death Doula + Midwife & Resse Quinn\, Tarot Reader + Astrologer for an evening of weaving our collective and communal Grief of a loved one – no matter how recent or long ago – in a community setting. During our time together\, we will honor the lives of those who are dear to us but no longer with us in intentional activities that thread the layers and cycles of Grief that are still very present within us. \nSpring is a time of rebirth and new beginnings\, but for those grieving\, this can feel like a harsh reminder of the loss we are still carrying. It’s important to allow ourselves to experience the change of seasons at our own pace\, finding comfort in both the sorrow and the growth that spring brings. This gathering offers a healing and safe space to witness and be witnessed in our own and each other’s collective Grief around the loss of a special person in our lives. All stories\, death circumstances\, and genuine human feelings are welcomed and invited! \nThere will be a Tarot Ritual and an acknowledgment of the energy of the Full Moon in Scorpio to open our gathering. Additionally\, we will build a communal Grief Altar during our time together\, so please come with a picture or memento of a loved one you would like to honor. If you do not have any mementos\, we will provide paper upon which to write their name(s). \n  \nYOUR INSTRUCTORS: \nReese Quinn (she/they) is a tarot and astrology reader and what they lovingly call a practical witch. They have a strong awareness of the crossroads between astrology\, cartomancy\, and elemental practices. You’ll note that Reese embraces their queer\, intersectional identities when both teaching and reading. Reese has been a reader at Ritualcravt for over two years and has studied with well-known witches like Lindsay Mack and Pam Grossman and well-respected teachers locally in Denver. In 2021-2022\, they completed an apprenticeship with best-selling author and reader of 20+ years\, Stefanie Caponi. Their writing is available via the Moon Void Tarot website and they have additional works forthcoming. (@western.moon.witch) \nCarla is a Witch\, End of Life Coach & Death Doula\, she has been practicing magick since she was 18 years old and is an initiate of COTW Coven here in Colorado. Carla received both her End of Life Coaching & Death Doula certifications through her course work with the Conscious Dying Institute in Boulder\, Colorado. Carla is passionate about the Death Positive movement and is an advocate of normalizing death and mortality in everyday life. She hopes to bring death back to its sacred place in the community through her death work services and discussions. Carla’s strengths in the death work field are being able to approach this part of life with a radical presence of non-judgment\, love and a bold vulnerability. Carla is a end of life care volunteer for Hospice and is currently working towards a Home Funeral Guide certification. When Carla is not hosting death related discussions\, helping families plan for a good death or sitting vigil\, she can be found talking to her house plants or rolling around in laughter with her two daughters.
URL:https://school.ritualcravt.com/class/in-person-weaving-seasons-of-grief-gathering/
LOCATION:RitualCravt\, Ritualcravt\, 7700 W 44th Ave CO\, Wheat Ridge\, CO\, 80033\, United States
ATTACH;FMTTYPE=image/jpeg:https://school.ritualcravt.com/wp-content/uploads/2025/03/3-2.jpg
ORGANIZER;CN="RitualCravt School":MAILTO:Learn@Ritualcravt.com
END:VEVENT
BEGIN:VEVENT
DTSTART;TZID=America/Denver:20250514T190000
DTEND;TZID=America/Denver:20250514T203000
DTSTAMP:20260420T060154
CREATED:20250321T201734Z
LAST-MODIFIED:20250416T173326Z
UID:10000438-1747249200-1747254600@school.ritualcravt.com
SUMMARY:{VIRTUAL} Tending To The Spirit Of Your Houseplants
DESCRIPTION:ZOOM CLASSES OPERATE THE SAME AS IN PERSON CLASSES. WE DO NOT RECORD CLASSES TO PROTECT THE INTELLECTUAL PROPERTY OF OUR TEACHERS. \nPLEASE NOTE: This class is not an in-person class. This class is being offered as a LIVE ONLINE-ONLY OFFERING. The zoom link will be attached to your ticket. Please check your junk folder in your email if you do not receive a ticket. If you have not received one please email learn@ritualcravt.com. Please register ahead of time to ensure that you make it to the online session on time! (Class times are in MDT time zone) \nClass fees are non transferable\, please note that we stick to the student agreements clicked on during registration. Please ensure you are able to attend the scheduled class time. \nRegistration will close one hour prior to class starting. \n  \nPlants have their own consciousness just like every living being and creature on the planet. When we not only give plants a solid and wonderful environment to thrive in and we are also incorporate an understanding of the unique life and spirit of the plant they can truly flourish. Plants have a subtle way of communicating with us and expressing what they need\, like or don’t like. All we need to do is tap into our own subtle awareness on what our plant/s needs are fundamentally\, practically & holistically.\nIn this virtual workshop\, Carla will guide you through different ways to care and tend to the spirit of your house plants that will take your green- thumb qualities to the next level. She will focus on different aspects of indoor plant care from lighting\, environment\, watering\, re-potting to talking to your plants\, playing music for them and building a routine of care that will deepen the physical and energetic bond with your indoor plant babies. Carla will also give you tips & remedies to help cure and revive struggling plant pals.\nIf you have questions about a certain plant of your own bring them with you to class!! Small to medium plants would be best.\n\n“And without this bonding\, what is life? What is life without this exchange of soul essence between the human and the wildness of the world?” \n– Stephen Buhner from the book The Secret Teaching Of Plants”\n\n\n\nYOUR INSTRUCTOR:\n\nCarla has been the Plant House Witch at RitualCravt for the past 3 years and she has been a lover of plants all of her life. Carla’s love of plants really made a shift in 30’s when she started to intentionally care for her houseplants in a way that allowed them to thrive through individualized care. This is when I begin to deepened my curiosity of what their unique life force needs to survive. And\, it was surprising to see how clearly plants communicate their needs\, if we only shift our awareness of them in this way. \nCarla’s understanding of caring for plants went from a basic watering and lighting technique to a more holistic\, well rounded and relational\, care system of physical and energetic plant mothering. My learning in plant care is ever evolving! Carla is amazed by what plants can teach us and she hopes you can find the same value in this class on what she learned on her plant tending journey so far.
URL:https://school.ritualcravt.com/class/virtual-tending-to-the-spirit-of-your-houseplants/
LOCATION:Virtual
CATEGORIES:Virtual
ATTACH;FMTTYPE=image/jpeg:https://school.ritualcravt.com/wp-content/uploads/2025/03/free-photo-of-cozy-armchair-in-lush-indoor-greenhouse-setting.jpg
ORGANIZER;CN="RitualCravt School":MAILTO:Learn@Ritualcravt.com
END:VEVENT
BEGIN:VEVENT
DTSTART;TZID=America/Denver:20250516T160000
DTEND;TZID=America/Denver:20250516T170000
DTSTAMP:20260420T060154
CREATED:20250310T191705Z
LAST-MODIFIED:20250310T191705Z
UID:10000434-1747411200-1747414800@school.ritualcravt.com
SUMMARY:{IN PERSON} Native Plants for Every Colorado Garden
DESCRIPTION:PLEASE READ: This class is IN PERSON. TICKETS ARE NOT TRANSFERABLE. \nClass fees are non transferable\, we stick to the student agreements agreed upon during registration. Please ensure you are able to attend the scheduled class time. \nGarden Designer Danna Liebert will share some of her favorite Colorado native plants for ecological value\, visual interest\, and resilience. In this workshop you will learn about the restorative benefits of native plants and how to plant them to mitigate challenges of climate change and biodiversity loss. Danna will share how she approaches naturalistic garden design and tips to increase your odds of success with new plants. This workshop is appropriate for people with any level of gardening experience. \nYOUR INSTRUCTOR: \n\nDanna is the owner of Grounded Growth Landscape Design https://www.groundedgrowthld.com\, an ecological garden design and installation company based in Englewood\, CO. Danna previously worked with the City of Englewood Parks Department to establish a native habitat demonstration garden at Depot Park https://www.engaged.englewoodco.gov/depot-pollinator-park. Danna also serves on the board of Wild Ones Front Range\, a non-profit that empowers Front Range residents to plant & promote native Coloradoscapes for a climate-resilient future https://frontrange.wildones.org.
URL:https://school.ritualcravt.com/class/in-person-native-plants-for-every-colorado-garden/
LOCATION:RitualCravt\, Ritualcravt\, 7700 W 44th Ave CO\, Wheat Ridge\, CO\, 80033\, United States
ATTACH;FMTTYPE=image/webp:https://school.ritualcravt.com/wp-content/uploads/2025/03/pexels-photo-562881-scaled.webp
ORGANIZER;CN="RitualCravt School":MAILTO:Learn@Ritualcravt.com
END:VEVENT
END:VCALENDAR