BEGIN:VCALENDAR
VERSION:2.0
PRODID:-//RitualCravt School - ECPv6.7.0//NONSGML v1.0//EN
CALSCALE:GREGORIAN
METHOD:PUBLISH
X-WR-CALNAME:RitualCravt School
X-ORIGINAL-URL:https://school.ritualcravt.com
X-WR-CALDESC:Events for RitualCravt School
REFRESH-INTERVAL;VALUE=DURATION:PT1H
X-Robots-Tag:noindex
X-PUBLISHED-TTL:PT1H
BEGIN:VTIMEZONE
TZID:America/Denver
BEGIN:DAYLIGHT
TZOFFSETFROM:-0700
TZOFFSETTO:-0600
TZNAME:MDT
DTSTART:20250309T090000
END:DAYLIGHT
BEGIN:STANDARD
TZOFFSETFROM:-0600
TZOFFSETTO:-0700
TZNAME:MST
DTSTART:20251102T080000
END:STANDARD
END:VTIMEZONE
BEGIN:VEVENT
DTSTART;TZID=America/Denver:20250518T130000
DTEND;TZID=America/Denver:20250518T150000
DTSTAMP:20260420T060225
CREATED:20250310T193017Z
LAST-MODIFIED:20250310T193017Z
UID:10000435-1747573200-1747580400@school.ritualcravt.com
SUMMARY:{IN PERSON} Botanical Dye Workshop
DESCRIPTION:PLEASE READ: This class is IN PERSON. TICKETS ARE NOT TRANSFERABLE. \nClass fees are non transferable\, we stick to the student agreements agreed upon during registration. Please ensure you are able to attend the scheduled class time. \nCome learn about the science and magic of plant dyes while you create your own botanically dyed bandana. We will discuss fibers and plant pigments before diving into a variety of plants and design options. Using the bundle dye method\, we will steam and infuse botanicals into our bandanas. No experience is necessary\, all students receive 1 cotton bandana along with guidance and many flowers\, pigment rich plants\, and modifiers to create your own unique pattern. Students will take home their finished bandanas at the end of class. \nYOUR INSTRUCTOR: \nLeah\, of Round Trip Goods\, is a slow fashion designer and artist working with natural dyes and upcycled cotton.  She loves sharing her knowledge and passion for plant dyes and sustainable textiles with others through community building\, teaching\, art\, and fashion.
URL:https://school.ritualcravt.com/class/in-person-botanical-dye-workshop/
LOCATION:RitualCravt\, Ritualcravt\, 7700 W 44th Ave CO\, Wheat Ridge\, CO\, 80033\, United States
ORGANIZER;CN="RitualCravt School":MAILTO:Learn@Ritualcravt.com
END:VEVENT
BEGIN:VEVENT
DTSTART;TZID=America/Denver:20250521T180000
DTEND;TZID=America/Denver:20250521T193000
DTSTAMP:20260420T060225
CREATED:20250324T205917Z
LAST-MODIFIED:20250324T205917Z
UID:10000457-1747850400-1747855800@school.ritualcravt.com
SUMMARY:{IN PERSON} Everyday Magic: Simple Practices for Beginners
DESCRIPTION:PLEASE READ: This class is IN PERSON. TICKETS ARE NOT TRANSFERABLE. \nClass fees are non transferable\, we stick to the student agreements agreed upon during registration. Please ensure you are able to attend the scheduled class time. \n  \n\n\nStep into the enchanting world of everyday magic with this welcoming class designed for beginners. Learn some simple ways to weave simple\, intentional acts of magic into your daily life to bring joy\, balance\, and a deeper connection to yourself and the world around you.\n\nTogether\, we’ll explore how your magical pratice can be merged into your daily routine by tapping into the power of your intentions\, the rhythms of nature\, and small mindful practices that can transform your day. Whether you’re seeking inspiration\, clarity\, or just a touch of wonder\, this class will empower you to create a life filled with meaning and magic. This class is for anyone curious about bringing a sense of magic into their life—no prior experience required. Come as you are\, with an open heart and a desire to explore.\n\n\nYOUR INSTRUCTOR:\n\nMclean has had a lifelong passion for helping others embrace and utilize their own magic\, even on the most mundane days. As a certified master herbalist\, crystal healer\, spiritual coach\, birth and postpartum doula\, reiki master\, and practiced tarot and oracle reader\, she offers support for all aspects of being human. Bringing that witch in the woods who gives you a magic potion vibes\, Mclean is here to help you with spells\, tinctures\, trinkets and tools to help you build your own thriving\, magical life. She has been working with the mystical and magical for over 20 years and continually implements metaphysical and spiritual practices into as many places as possible within everyday life. Mclean loves to support humans in an all inclusive\, whole being way. \nAlong with many certifications\, she loves to continue to expand on her spiritual knowledge. Her studies have included energy work\, crystals\, spell work\, herbal astrology\, working with the phases of the moon\, LOA\, and so much more. \n\n“People are capable\, at any time in their lives\, of doing what they dream of.”\nPaulo Coelho\, The Alchemist
URL:https://school.ritualcravt.com/class/in-person-everyday-magic-simple-practices-for-beginners-2/
LOCATION:RitualCravt\, Ritualcravt\, 7700 W 44th Ave CO\, Wheat Ridge\, CO\, 80033\, United States
ATTACH;FMTTYPE=image/webp:https://school.ritualcravt.com/wp-content/uploads/2024/12/pexels-photo-326055-scaled.webp
ORGANIZER;CN="RitualCravt School":MAILTO:Learn@Ritualcravt.com
END:VEVENT
BEGIN:VEVENT
DTSTART;TZID=America/Denver:20250522T180000
DTEND;TZID=America/Denver:20250522T203000
DTSTAMP:20260420T060225
CREATED:20250329T170943Z
LAST-MODIFIED:20250403T185105Z
UID:10000473-1747936800-1747945800@school.ritualcravt.com
SUMMARY:{VIRTUAL} The Magic of Trees in Fairy Tales
DESCRIPTION:PLEASE READ: VIRTUAL ZOOM CLASSES OPERATE AS LIVE CLASSES ONLY\, WE DO NOT RECORD TO PROTECT THE INTELLECTUAL PROPERTY OF OUR TEACHERS. \nThis class is not an in-person class. It is being offered as a LIVE ONLINE-ONLY OFFERING. The zoom link will be attached to your ticket. Please also check your junk\, spam and promotions folders in your email for your ticket. If you have not received one please email learn@ritualcravt.com.  \nPlease register ahead of time to ensure that you make it to the online session on time! (Classes are in MDT time zone.) Class fees are non transferable\, we stick to the student agreements agreed upon during registration. Registration closes one hour prior to class starting. \n  \nIn times of such upheaval in the world\, we need anchors and the feeling of being grounded to the ancient world. Trees are one such conduit by which we may feel connection and interdependence. Furthermore\, whether they are grand old trees at the center of a forest or a tree newly sprouted\, watered by the tears of its gardener\, trees hold a magical place in fairy tales. In addition\, when we feel lost and confused\, or fearful and anxious\, trees may be asked to be our protectors and protectresses. This lecture will bring trees and fairy tales together in an exploration of several classic fairy tales from different eras\, authors\, and parts of the world\, that center on trees as protectors and guardians. Some attention will be given to scientific research about the sentience of trees and their behavior\, which will show that what we may think of as fairy-tale magic when it comes to trees may actually be scientifically based. My hope for the class is that you will look at trees with newfound knowledge and appreciation for the way they ground and watch over us. I’d love for you to be inspired by this class to make connections with trees in your world\, on your land\, on walks or hikes you take\, to name them\, to form relationships\, and perhaps even to cultivate growth of new trees. Who knows\, maybe you’ll even be inspired to write your own fairy tale incorporating trees! \nYOUR INSTRUCTOR \nSusan Redington Bobby\, the founder of Professor of Words\, LLC\, is an online teacher\, a freelance editor\, a writing mentor\, and a tutor. Her specialty is being able to read people on a deeper level through their writing\, and she has recently completed a certificate course on integrative somatic trauma therapy.  She is a retired professor of English with expertise in fairy tales\, adolescent literature\, goddess archetypes\, magical realism\, creative writing\, and film studies. She is the author of Beyond His Dark Materials\, the editor of Fairy Tales Reimagined\, and co-editor of The Artemis Archetype in Popular Culture. The Series Editor of Tales from Fiddler’s Green\, she also occasionally publishes creative fiction. She is currently studying the Bardic Course in Druidry from OBOD. She maintains Mellie’s Grove\, a certified NWF backyard wildlife habitat that is home to a rescued and small stabilized cat family and all manner of wildlife.
URL:https://school.ritualcravt.com/class/virtual-the-magic-of-trees-in-fairy-tales-2/
LOCATION:Virtual
CATEGORIES:Virtual
ATTACH;FMTTYPE=image/jpeg:https://school.ritualcravt.com/wp-content/uploads/2025/03/pexels-photo-142497-scaled.jpg
ORGANIZER;CN="RitualCravt School":MAILTO:Learn@Ritualcravt.com
END:VEVENT
END:VCALENDAR