BEGIN:VCALENDAR
VERSION:2.0
PRODID:-//RitualCravt School - ECPv6.7.0//NONSGML v1.0//EN
CALSCALE:GREGORIAN
METHOD:PUBLISH
X-WR-CALNAME:RitualCravt School
X-ORIGINAL-URL:https://school.ritualcravt.com
X-WR-CALDESC:Events for RitualCravt School
REFRESH-INTERVAL;VALUE=DURATION:PT1H
X-Robots-Tag:noindex
X-PUBLISHED-TTL:PT1H
BEGIN:VTIMEZONE
TZID:America/Denver
BEGIN:DAYLIGHT
TZOFFSETFROM:-0700
TZOFFSETTO:-0600
TZNAME:MDT
DTSTART:20260308T090000
END:DAYLIGHT
BEGIN:STANDARD
TZOFFSETFROM:-0600
TZOFFSETTO:-0700
TZNAME:MST
DTSTART:20261101T080000
END:STANDARD
END:VTIMEZONE
BEGIN:VEVENT
DTSTART;TZID=America/Denver:20260513T183000
DTEND;TZID=America/Denver:20260513T200000
DTSTAMP:20260422T130535
CREATED:20260401T172709Z
LAST-MODIFIED:20260401T172709Z
UID:10000680-1778697000-1778702400@school.ritualcravt.com
SUMMARY:{IN PERSON} Hanafuda Through the Seasons\, Quarter 2: Wisteria\, Iris\, Peony
DESCRIPTION:PLEASE READ: This class is IN PERSON. TICKETS ARE NOT TRANSFERABLE. Class fees are non transferable\, we stick to the student agreements agreed upon during registration. Please ensure you are able to attend the scheduled class time. \n  \nUsing the framework of Hanafuda playing cards\, we will look at various botanicals and their spiritual and historical significance in Japanese culture.  The class will include a history of Hanafuda and how it used in different games today.  Each suit in the deck represents a month and is assigned a seasonal botanical.  In this class\, we will look at the second quarter of the year: April – wisteria\, May – iris\, June – peony.  Participants are encouraged to bring their own Hanafuda decks if they already own one\, but possession of a deck is not required for the class\, as the content will be primarily focused on symbolism. If time allows\, during the informal discussion session that follows the structured content\, attendees are welcome to play cards.\n\nYOUR INSTRUCTOR: \nAkemi is a Nikkei storyteller\, writer\, teacher and visual/experiential creative. She has familial roots in Taiji-cho\, Wakayama-ken\, the neighborhood of Asakusa in Tōkyō-to and Terminal Island. She is the founder of Little Well Studio\, an atelier driven by the principles of preservation\, healing and education.  Her work actively nurtures traditions and stories through the visual/creative arts\, embodiment practices and engagement.  Akemi’s artistic and spiritual path is deeply informed by her upbringing within the Japanese cultural art of karate-do from the age of three and her experience as a kata athlete.  She describes karate-do as her ethnic and spiritual identity in motion\, at the intersection of tradition\, ancestral wisdom and modern identity.  Akemi views ancestral work as a living\, breathing relationship with those who have come before and traditions as a way to dialogue with the past.\n\nhttp://littlewellstudio.com/
URL:https://school.ritualcravt.com/class/in-person-hanafuda-through-the-seasons-quarter-2-wisteria-iris-peony/
LOCATION:RitualCravt\, Ritualcravt\, 7700 W 44th Ave CO\, Wheat Ridge\, CO\, 80033\, United States
ATTACH;FMTTYPE=image/jpeg:https://school.ritualcravt.com/wp-content/uploads/2025/12/Hanafuda.jpg
ORGANIZER;CN="RitualCravt School":MAILTO:Learn@Ritualcravt.com
END:VEVENT
BEGIN:VEVENT
DTSTART;TZID=America/Denver:20260514T183000
DTEND;TZID=America/Denver:20260514T200000
DTSTAMP:20260422T130535
CREATED:20260331T174040Z
LAST-MODIFIED:20260331T174040Z
UID:10000672-1778783400-1778788800@school.ritualcravt.com
SUMMARY:{IN PERSON} Sound of Savoring: A Taurus New Moon Reset
DESCRIPTION:PLEASE READ: This class is IN PERSON. TICKETS ARE NOT TRANSFERABLE. Class fees are non transferable\, we stick to the student agreements agreed upon during registration. Please ensure you are able to attend the scheduled class time. \n  \nThe Taurus New Moon on May 16 is a natural time to slow down\, sink into our bodies\, and fully inhabit the pleasures of the present moment. New moons call us to pause\, rest and turn inward\, and earthy\, Venus-ruled Taurus encourages us to savor comfort\, beauty\, and groundedness. This gathering is the perfect invitation to honor your body\, connect with your senses\, and luxuriate in deep restoration. Arriving near the end of Taurus season\, this new moon offers a final moment to root into your body and senses before Gemini’s airy\, curious energy takes flight. \nJoin artist and healer Tori Price in this compassionate space to align with the calming energies of this new moon through movement\, breath\, and sound. Beginning with gentle yoga\, mindful breathwork\, and sensory exploration\, you will reconnect with your body\, open your heart\, and soften into the present moment before finding stillness in a restorative sound bath meditation. The soothing immersive vibrations of crystal singing bowls and other ethereal sounds move gently through the body\, deepening your state of relaxation and self-connection. \nSlow down\, root into yourself\, and let yourself rest\, feel\, and simply be. Are you ready to savor the moment? \nAll are welcome\, and no experience with yoga\, breathwork\, or sound healing is needed. Please arrive 5-10 minutes early to arrive and settle in. \nWhat to bring: \nA yoga mat\, blankets\, bolsters/pillows\, anything to make yourself feel cozy and safe \n– (Ritualcravt has some available as well!) \nEye mask or scarf to cover your eyes \nWater \nWhat to expect: \nCommunity connection \nGentle\, slow yoga + breathwork \nMindfulness + sensory awareness practices \nSound bath with crystal singing bowls + other healing instruments \nTime for integration after the sound bath \nA few benefits of sound healing: \nIncreases parasympathetic response \nPromotes better sleep \nImproves mood and focus \nReduces stress\, anxiety\, depression \nBoosts immune system \nHelps with pain management \n  \nYOUR INSTRUCTOR: \nTori Price is a fine artist\, sound healer\, card reader\, and teacher. With over 12 years of experience in art and healing\, her degree in Psychology\, and certifications in yoga and sound healing\, Tori enjoys guiding others in gentle\, compassionate practices that cultivate a sense of restful\, harmonious self-connection. \nTori is an advocate for participating in accessible healing practices that encourage less mind energy and more heart and body energy; the ability to calm the mind and feel at ease during sound baths has always drawn her to this practice. She is honored to create immersive\, ethereal soundscapes with crystal singing bowls and other healing instruments for others to relax and return to their center. Growing up playing mallet percussion for 6+ years in school bands\, Tori’s inner child is overjoyed to be playing with mallets and music again to help others in a meaningful way. \nLearn more about Tori and her offerings: toripriceart.com / @toripriceart
URL:https://school.ritualcravt.com/class/in-person-sound-of-savoring-a-taurus-new-moon-reset/
LOCATION:RitualCravt\, Ritualcravt\, 7700 W 44th Ave CO\, Wheat Ridge\, CO\, 80033\, United States
ATTACH;FMTTYPE=image/jpeg:https://school.ritualcravt.com/wp-content/uploads/2026/03/pexels-cris-menles-4621648-35911274-scaled.jpg
ORGANIZER;CN="RitualCravt School":MAILTO:Learn@Ritualcravt.com
END:VEVENT
BEGIN:VEVENT
DTSTART;TZID=America/Denver:20260515T160000
DTEND;TZID=America/Denver:20260515T170000
DTSTAMP:20260422T130535
CREATED:20260401T174636Z
LAST-MODIFIED:20260401T174636Z
UID:10000683-1778860800-1778864400@school.ritualcravt.com
SUMMARY:{IN PERSON} Gardening for Pollinators with Native Plants
DESCRIPTION:PLEASE READ: This class is IN PERSON. TICKETS ARE NOT TRANSFERABLE. \nClass fees are non transferable\, we stick to the student agreements agreed upon during registration. Please ensure you are able to attend the scheduled class time. \nGarden and pollinator-obsessed Beth Lewis will share why we should plant native plants and how to approach supporting pollinators with them. We’ll discuss everything from specific plants to garden management in the interest of our little friends\, and habitat-building too! This talk is geared towards experienced gardeners and newbies alike! \n  \nYOUR INSTRUCTOR: \n\nBeth is a career photographer who made a full life pivot into gardening with native plants in working for Meadow Pro https://meadowpro.com/ in the Denver Metro area for the past 3 years. She can’t stop reading about the ecological benefits and current research and loves championing everyone in their efforts to improve little patches of earth.
URL:https://school.ritualcravt.com/class/in-person-gardening-for-pollinators-with-native-plants/
LOCATION:RitualCravt\, Ritualcravt\, 7700 W 44th Ave CO\, Wheat Ridge\, CO\, 80033\, United States
ATTACH;FMTTYPE=image/jpeg:https://school.ritualcravt.com/wp-content/uploads/2026/04/DSC9006.jpg
ORGANIZER;CN="RitualCravt School":MAILTO:Learn@Ritualcravt.com
END:VEVENT
BEGIN:VEVENT
DTSTART;TZID=America/Denver:20260516T160000
DTEND;TZID=America/Denver:20260516T180000
DTSTAMP:20260422T130535
CREATED:20260326T183253Z
LAST-MODIFIED:20260326T183253Z
UID:10000659-1778947200-1778954400@school.ritualcravt.com
SUMMARY:{VIRTUAL} Astrology 101
DESCRIPTION:PLEASE READ: VIRTUAL ZOOM CLASSES OPERATE AS LIVE CLASSES ONLY\, WE DO NOT RECORD TO PROTECT THE INTELLECTUAL PROPERTY OF OUR TEACHERS. \nThis class is not an in-person class. It is being offered as a LIVE ONLINE-ONLY OFFERING. The zoom link will be attached to your ticket. Please also check your junk\, spam and promotions folders in your email for your ticket. If you have not received one please email learn@ritualcravt.com.  \nPlease register ahead of time to ensure that you make it to the online session on time! (Classes are in MDT time zone.) Class fees are non transferable\, we stick to the student agreements agreed upon during registration. Registration closes one hour prior to class starting. \n  \nAstrology 101 aims to provide a basic introduction to astrology through working with your personal astrology. We will cover the astrological signs\, placements in your personal chart\, the astrological houses\, and major aspects in your chart.\nWhen you come to class\, please be sure to know your birth information (Month\, Day\, Year\, Time\, and Place). At the beginning of class\, we will all pull our charts via astro.com. If you don’t know your birth information\, don’t worry\, you’ll still be able to participate fully in class! \nSyllabus:\n● Astrological Signs\n● Personal Placements\n● Sun\, Moon\, and Rising/Ascendant\n● Interpersonal Placements\n● Mercury\, Mars\, and Venus\n● Extrapersonal Placements\n● Saturn\, Jupiter\, and Pluto\n● Astrological Houses\n● Major Aspects in your chart\n● Brief Q&A\n● Recommended Teachers and Readings (will be provided digitally) \nYOUR INSTRUCTOR: \nReese Quinn (she/they) is a tarot and astrology reader and what they lovingly call a practical witch. They have a strong awareness of the crossroads between astrology\, cartomancy\, and elemental practices. You’ll note that Reese embraces their queer\, intersectional identities when both teaching and reading. \nReese has been a reader at Ritualcravt for over two years and has studied with well-known witches like Lindsay Mack and Pam Grossman and well-respected teachers locally in Denver. In 2021-2022\, they completed an apprenticeship with best-selling author and reader of 20+ years\, Stefanie Caponi. Their writing is available via the Moon Void Tarot website and they have additional works forthcoming.
URL:https://school.ritualcravt.com/class/virtual-astrology-101-2/
LOCATION:Virtual
ATTACH;FMTTYPE=image/webp:https://school.ritualcravt.com/wp-content/uploads/2024/12/pexels-photo-6806707-scaled.webp
ORGANIZER;CN="RitualCravt School":MAILTO:Learn@Ritualcravt.com
END:VEVENT
END:VCALENDAR