BEGIN:VCALENDAR
VERSION:2.0
PRODID:-//RitualCravt School - ECPv6.7.0//NONSGML v1.0//EN
CALSCALE:GREGORIAN
METHOD:PUBLISH
X-ORIGINAL-URL:https://school.ritualcravt.com
X-WR-CALDESC:Events for RitualCravt School
REFRESH-INTERVAL;VALUE=DURATION:PT1H
X-Robots-Tag:noindex
X-PUBLISHED-TTL:PT1H
BEGIN:VTIMEZONE
TZID:America/Denver
BEGIN:DAYLIGHT
TZOFFSETFROM:-0700
TZOFFSETTO:-0600
TZNAME:MDT
DTSTART:20260308T090000
END:DAYLIGHT
BEGIN:STANDARD
TZOFFSETFROM:-0600
TZOFFSETTO:-0700
TZNAME:MST
DTSTART:20261101T080000
END:STANDARD
END:VTIMEZONE
BEGIN:VEVENT
DTSTART;TZID=America/Denver:20260517T130000
DTEND;TZID=America/Denver:20260517T160000
DTSTAMP:20260424T043120
CREATED:20260401T175245Z
LAST-MODIFIED:20260401T175333Z
UID:10000684-1779022800-1779033600@school.ritualcravt.com
SUMMARY:{IN PERSON} Hydrosol for Herbalists: Walking the Distiller’s Path
DESCRIPTION:PLEASE READ: This class is IN PERSON. TICKETS ARE NOT TRANSFERABLE. \nClass fees are non transferable\, we stick to the student agreements agreed upon during registration. Please ensure you are able to attend the scheduled class time. \nPlant Waters for Hearth\, Skin & Spirit \nLong before laboratories and perfumeries\, there were stillrooms: warm with steam\, copper shining in firelight\, herbs laid upon the table like offerings. From this old craft of water and flame comes the hydrosol – the plant’s gentle spirit carried in mist and memory. \nThese are not merely floral waters\, but living plant waters\, soft in touch – yet steady in their work. They cool and clarify the skin\, soothe overheated humors\, brighten heavy moods\, and cleanse both body and dwelling. Where essential oils blaze\, hydrosols murmur. They carry the subtle virtues of the green world in a form safe enough for daily blessing and tender care. \nIn this hands-on gathering\, we will tend an old-fashioned copper still and walk step-by-step through the ancient art of distillation. You will learn about the alchemic process and draw forth a fresh hydrosol of your own to carry home. \nAlong the way\, we’ll explore the aromatic herbs of aromatic Materia Medica\, the energetics of plant waters\, and the quiet alchemy that unfolds when we listen well. This is a class for those who feel kinship with the stillroom\, who trust the old ways\, and who wish to deepen their craft. \nCome stand by the steam.\nCome learn the old art.\nCome let the plants speak through their mist. \n  \nYOUR INSTRUCTOR: \n\nLauren Ann Nichols Sheffler\nImmersed in the verdant world of herbalism\, Lauren Ann Nichols-Sheffler blossomed at the Colorado School of Clinical Herbalism\, where she earned her certificate in medical herbalism. Rooted in deep reverence for crafting herbal remedies with land and place\, she champions bioregional herbalism and reciprocal bonds between plants\, people\, and place.\nFor seven years\, Lauren has specialized in herbal distillation – hand crafting hydrosols from fresh plants and tending this ancestral art with precision and heart.\nHer dedication to education and sustainability shines through guest teaching for community herbalism courses\, teaching at CSCH\, supporting the Sustainable Herbs Initiative\, stewarding wild lands\, and hosting community classes at her United Plant Savers Botanical Sanctuary in Denver\, CO.\nAs Senior Sourcing & Purchasing Manager at WishGarden Herbs\, she weaves her passion for ethical sourcing and botanical stewardship into every aspect of the supply chain – cultivating a future where plants and people thrive together.
URL:https://school.ritualcravt.com/class/in-person-hydrosol-for-herbalists-walking-the-distillers-path/
LOCATION:RitualCravt\, Ritualcravt\, 7700 W 44th Ave CO\, Wheat Ridge\, CO\, 80033\, United States
ATTACH;FMTTYPE=image/jpeg:https://school.ritualcravt.com/wp-content/uploads/2026/04/Lauren-with-flower-face-.jpeg
ORGANIZER;CN="RitualCravt School":MAILTO:Learn@Ritualcravt.com
END:VEVENT
BEGIN:VEVENT
DTSTART;TZID=America/Denver:20260517T170000
DTEND;TZID=America/Denver:20260517T190000
DTSTAMP:20260424T043120
CREATED:20260401T174225Z
LAST-MODIFIED:20260401T174225Z
UID:10000682-1779037200-1779044400@school.ritualcravt.com
SUMMARY:{IN PERSON} Botanically Dyed Bandanas
DESCRIPTION:PLEASE READ: This class is IN PERSON. TICKETS ARE NOT TRANSFERABLE. \nClass fees are non transferable\, we stick to the student agreements agreed upon during registration. Please ensure you are able to attend the scheduled class time. \nDiscover the science and magic of plant dyes while you create your own botanically dyed bandana. We will discuss plant pigments before diving into a variety of botanicals and design options. Using the bundle dye method\, we will steam our creations to infuse the pigments. No experience is necessary\, all students receive one cotton bandana along with guidance and plants to create their own unique pattern. Students will take home their finished bandanas at the end of class and have access to a digital Plant Dyeing 101 guide to help them in future projects. Teacher Leah\, of Round Trip Goods\, is a slow fashion designer and artist working with natural dyes and upcycled cotton. \n  \nYOUR INSTRUCTOR: \nLeah\, of Round Trip Goods\, is a slow fashion designer and artist working with natural dyes and upcycled cotton.  She loves sharing her knowledge and passion for plant dyes and sustainable textiles with others through community building\, teaching\, art\, and fashion.
URL:https://school.ritualcravt.com/class/in-person-botanically-dyed-bandanas/
LOCATION:RitualCravt\, Ritualcravt\, 7700 W 44th Ave CO\, Wheat Ridge\, CO\, 80033\, United States
ATTACH;FMTTYPE=image/jpeg:https://school.ritualcravt.com/wp-content/uploads/2026/04/IMG_0539-scaled.jpeg
ORGANIZER;CN="RitualCravt School":MAILTO:Learn@Ritualcravt.com
END:VEVENT
BEGIN:VEVENT
DTSTART;TZID=America/Denver:20260518T160000
DTEND;TZID=America/Denver:20260518T170000
DTSTAMP:20260424T043120
CREATED:20260423T171239Z
LAST-MODIFIED:20260423T171239Z
UID:10000685-1779120000-1779123600@school.ritualcravt.com
SUMMARY:{IN PERSON} Tarot Magic
DESCRIPTION:PLEASE READ: This class is IN PERSON. TICKETS ARE NOT TRANSFERABLE. Class fees are non transferable\, we stick to the student agreements agreed upon during registration. Please ensure you are able to attend the scheduled class time. \n  \n\n\n\n\n\n\nTarot is a tool for deep psychological reflection\, training your psychic centers\, and translating whispers from the spirit world\, but did you know it can also be used to ground your rituals and magic practice?\n\nTarot Magic is a class that teaches you how take fate into your own hands by creating the story you want to tell. Think of this as using the tarot as a divine focus—instead of a crystal grid\, wand\, or talisman\, your tarot skills light the way for transmutation.\n\nExperience with the tarot is recommended but not necessary for this course. Tarot readers will also gain value by learning deeper meanings of cards\, astrological associations\, numerological connections\, and types of magic the cards contain.\n\nWe will review:\n– A Healing Grid\n– A Manifestation Grid\n– A Protection Grid\n– As well as teach you how to form your own grid.\n\nFate is in your hands with Tarot Magic.\n\nYOUR GUEST INSTRUCTOR: \n\n\n\n\n\n\nHello! My name is Aster\, your local Mystic in Alexandria\, Virginia. I have been a Tarot enthusiast for twenty-three years. Through dedicated study and devotion to my craft\, I have developed a sixth sense for energies that exist within my clients\, and have learned to listen to the spirits around them offering advice. \nMy readings are a mixture of clairsentience\, clairvoyance\, numerology\, astrology and tarot. Depending on your needs\, we can customize where we pull the information for optimal solutions. \nIn addition to my digital offers\, I am also available for in-person private parties and events in the DMV. I have done weddings\, bridal showers\, baby showers\, graduations\, birthday parties\, corporate events and bring the appropriate energy to each. Whether you need an upbeat tarot reader for a birthday\, or a healing slumber party where we get real with emotions\, my services are adaptable to the vibe of the event. \nMy mission stems from my faith in humanity to heal during a seemingly hopeless time. I aid people in finding themselves on a spiritual level\, so they may analyze their thoughts and emotions to create physical healing. Together\, we do this through finding perspective\, deprogramming the mind\, discovering who you are\, and creating actionable steps toward the future you choose. \nMy motto: Fate deals cards\, but you choose how to play them.
URL:https://school.ritualcravt.com/class/in-person-tarot-magic/
LOCATION:RitualCravt\, Ritualcravt\, 7700 W 44th Ave CO\, Wheat Ridge\, CO\, 80033\, United States
ATTACH;FMTTYPE=image/jpeg:https://school.ritualcravt.com/wp-content/uploads/2026/04/unnamed.jpg
ORGANIZER;CN="RitualCravt School":MAILTO:Learn@Ritualcravt.com
END:VEVENT
BEGIN:VEVENT
DTSTART;TZID=America/Denver:20260523T140000
DTEND;TZID=America/Denver:20260523T160000
DTSTAMP:20260424T043120
CREATED:20260325T201605Z
LAST-MODIFIED:20260326T175648Z
UID:10000651-1779544800-1779552000@school.ritualcravt.com
SUMMARY:{IN PERSON} Monthly Drumming Circle for Experienced Journeyers
DESCRIPTION:PLEASE READ: This class is IN PERSON. TICKETS ARE NOT TRANSFERABLE. Class fees are non transferable\, we stick to the student agreements agreed upon during registration. Please ensure you are able to attend the scheduled class time. \n\nBy whatever name – trance\, shamanic journeying\, inner council work – if you’re already experienced with drum-driven journey practices\, please join us for ceremony\, journeying\, explorations\, drumming\, and community. Hone your skills and visit with your Guides\, within a circle of like-minded\, supportive humans. These practices – deeply personal though they are – were born and flourished within communities – humans gathering together in united energies and intentions\, through hundreds of generations\, in all times and places. When we circle together\, we’re a continuing part of that. \nNot a class\, but a circle\, we’ll generally have time for several journeys: first on a theme of your own choosing\, then others with varying intentions\, applications\, and styles of working. The options for exploration are unlimited!\nYou’re welcome to bring:\n— a drum or rattle\n— note-taking materials\n— a small blanket or yoga mat\n— an “eye-curtain\,” bandana or other eye-covering\n— mainly\, bring your own good intentions. All other items are optional. \nPlease note: This is drum- and rattle-driven journeying. Please respect our policy that this gathering is not the place for sacred plant practices or any consciousness-altering substances. Your participation will be taken as your agreement to honor this policy. \nThis offering has three sliding scale options! \nYour Facilitator:\nRenna Shesso is a shamanic practitioner and teacher\, professional tarot reader\, priestess of the Craft\, and writer. You can find more on her website: https://www.rennashesso.com \n\nYOUR INSTRUCTOR: \n\n\nRenna Shesso is a shamanic healing practitioner and teacher\, professional tarot reader\, priestess of the Craft\, and writer. \n\n\nShe began exploring magical knowledge-paths as a young adult\, learning astrology from her grandmother\, and has expended her interests exponentially in the decades since then. In addition to her own self-published zines on magical workings\, Renna is the author of Planets for Pagans and Math for Mystics (both published by Weiser Books). While privileged to study with many fine teachers\, she turns to Nature Herself as the ultimate teacher and healer.
URL:https://school.ritualcravt.com/class/in-person-monthly-drumming-circle-for-experienced-journeyers-5/
LOCATION:RitualCravt\, Ritualcravt\, 7700 W 44th Ave CO\, Wheat Ridge\, CO\, 80033\, United States
ATTACH;FMTTYPE=image/jpeg:https://school.ritualcravt.com/wp-content/uploads/2025/09/drum-BM12.jpg
ORGANIZER;CN="RitualCravt School":MAILTO:Learn@Ritualcravt.com
END:VEVENT
END:VCALENDAR