BEGIN:VCALENDAR
VERSION:2.0
PRODID:-//RitualCravt School - ECPv6.7.0//NONSGML v1.0//EN
CALSCALE:GREGORIAN
METHOD:PUBLISH
X-WR-CALNAME:RitualCravt School
X-ORIGINAL-URL:https://school.ritualcravt.com
X-WR-CALDESC:Events for RitualCravt School
REFRESH-INTERVAL;VALUE=DURATION:PT1H
X-Robots-Tag:noindex
X-PUBLISHED-TTL:PT1H
BEGIN:VTIMEZONE
TZID:America/Denver
BEGIN:DAYLIGHT
TZOFFSETFROM:-0700
TZOFFSETTO:-0600
TZNAME:MDT
DTSTART:20260308T090000
END:DAYLIGHT
BEGIN:STANDARD
TZOFFSETFROM:-0600
TZOFFSETTO:-0700
TZNAME:MST
DTSTART:20261101T080000
END:STANDARD
END:VTIMEZONE
BEGIN:VEVENT
DTSTART;TZID=America/Denver:20260524T140000
DTEND;TZID=America/Denver:20260524T160000
DTSTAMP:20260422T161650
CREATED:20260325T232025Z
LAST-MODIFIED:20260326T174729Z
UID:10000656-1779631200-1779638400@school.ritualcravt.com
SUMMARY:{IN PERSON} Quintessential Tarot 5 Week Series
DESCRIPTION:PLEASE READ: This class is IN PERSON. TICKETS ARE NOT TRANSFERABLE. \nClass fees are non transferable\, we stick to the student agreements agreed upon during registration. Please ensure you are able to attend the scheduled class time. \nThis class is a 5-week series taking place Sundays from 2-4pm on May 24\, 31\, and June 7\, 14\, 21! \nQ: How can I plan for a future that’s unknown?\nA: By knowing – by having more information! \nThe Tarot is a tool to illuminate our personal road maps. It overlaps many other disciplines\, all expressed here through art. Specifically\, this is art that delivers practical information wrapped in a sensory visual experience. As we craft an ever-stronger working alliance with the cards\, magic happens. \nWe’ll begin with thorough orientations:\n— the Minor Arcana via the elements (Week 1);\n— the Court Cards for identity and connection (Week 2);\n— the Major Arcana with myths and archetypes (Week 3);\nand then take this material into\n— alliance-deepening personal work (Week 4);\n— reading the Tarot for yourself and for others\, and for maximum personal creativity and well-being (Week 5). \nThis series is for beginners and beyond. Please plan on allowing a couple of hours every week for take-home assignments between our class sessions.\nPlease bring:\n— Note-taking materials\n— A fully illustrated tarot deck\, i.e. instead of simply seeing three Cups\, you’ll see people/beings interacting with three Cups. I recommend the Smith-Waite tarot deck (aka Pamela Colman Smith\, Rider-Waite-Smith\, RWS). Ritualcravt carries several different versions\, and I’ll have loaner decks on hand the first night\, so you can see several before making your own choice.\n\nEvery session of the course includes:\n— Extensive handout pages\n— Large\, vivid explorations of the artwork – Tarot is a visual medium!\n— Hands-on practice with readings and exercises\n\n\n  \nRenna Shesso is a witch\, tarot reader\, shamanic practitioner\, and author. She’s been reading cards professionally for over 20 years\, and using tarot as a personal tool of exploration for much longer.\n\nYOUR INSTRUCTOR: \n\nRenna Shesso is a shamanic healing practitioner and teacher\, professional tarot reader\, priestess of the Craft\, and writer. \n\n\nShe began exploring magical knowledge-paths as a young adult\, learning astrology from her grandmother\, and has expended her interests exponentially in the decades since then. In addition to her own self-published zines on magical workings\, Renna is the author of Planets for Pagans and Math for Mystics (both published by Weiser Books). While privileged to study with many fine teachers\, she turns to Nature Herself as the ultimate teacher and healer.
URL:https://school.ritualcravt.com/class/in-person-quintessential-tarot-5-week-series-2/
LOCATION:RitualCravt\, Ritualcravt\, 7700 W 44th Ave CO\, Wheat Ridge\, CO\, 80033\, United States
ATTACH;FMTTYPE=image/jpeg:https://school.ritualcravt.com/wp-content/uploads/2025/03/3-2-1.jpg
ORGANIZER;CN="RitualCravt School":MAILTO:Learn@Ritualcravt.com
END:VEVENT
BEGIN:VEVENT
DTSTART;TZID=America/Denver:20260527T180000
DTEND;TZID=America/Denver:20260527T200000
DTSTAMP:20260422T161650
CREATED:20260331T170700Z
LAST-MODIFIED:20260416T150726Z
UID:10000668-1779904800-1779912000@school.ritualcravt.com
SUMMARY:{VIRTUAL} The Poet’s Grimoire: How to Craft Simple Verse for Use in Spellwork
DESCRIPTION:PLEASE READ: VIRTUAL ZOOM CLASSES OPERATE AS LIVE CLASSES ONLY\, WE DO NOT RECORD TO PROTECT THE INTELLECTUAL PROPERTY OF OUR TEACHERS. This class is not an in-person class\, it is a live\, online only offering. Your zoom link will be attached to your ticket. Please also check your junk\, spam and promotions folders in your email for your ticket. Email learn@ritualcravt.com with any questions. Classes are in MDT time zone. Class fees are non transferable\, we stick to the student agreements agreed upon during registration. Registration closes one hour prior to class beginning. \n  \nOne of many ways to raise the energy of your spellwork is to write your ritual in verse\, but writing poetry can seem daunting. This special seasonal offering will focus on a few basic yet powerful poetic forms with an eye towards making the writing itself accessible and easy for a beginner. \nWe will cover poems as short as 2-line types and a few longer forms as well as both rhyming and non-rhyming styles. You’ll get a detailed “Poet’s Grimoire” guide filled with lots of examples and spell-starters to help you find your flow. You’ll also get the opportunity in the workshop to practice writing in a safe and supportive environment. You will leave class with some ideas and samples you can use to enhance your spellwork. \nClass is open to beginners as well as those with a little experience seeking further guidance. Come prepared with a specific intention\, such as protection\, prosperity\, or a personal spring renewal\, and we can work together to weave it into verse. It’s a great opportunity to get out that gorgeous notebook you had to have but are waiting to use! \n  \nYOUR INSTRUCTOR \nSusan Redington Bobby\, the founder of Professor of Words\, LLC\, is an online teacher\, a freelance editor\, a writing mentor\, and a tutor. Her specialty is being able to read people on a deeper level through their writing\, and she has recently completed a certificate course on integrative somatic trauma therapy.  She is a retired professor of English with expertise in fairy tales\, adolescent literature\, goddess archetypes\, magical realism\, creative writing\, and film studies. She is the author of Beyond His Dark Materials\, the editor of Fairy Tales Reimagined\, and co-editor of The Artemis Archetype in Popular Culture. The Series Editor of Tales from Fiddler’s Green\, she also occasionally publishes creative fiction. She is currently studying the Bardic Course in Druidry from OBOD. She maintains Mellie’s Grove\, a certified NWF backyard wildlife habitat that is home to a rescued and small stabilized cat family and all manner of wildlife.
URL:https://school.ritualcravt.com/class/virtual-the-poets-grimoire-how-to-craft-simple-verse-for-use-in-spellwork/
LOCATION:Virtual
CATEGORIES:Virtual
ATTACH;FMTTYPE=image/jpeg:https://school.ritualcravt.com/wp-content/uploads/2026/03/pexels-cottonbro-6037572.jpg
ORGANIZER;CN="RitualCravt School":MAILTO:Learn@Ritualcravt.com
END:VEVENT
BEGIN:VEVENT
DTSTART;TZID=America/Denver:20260529T183000
DTEND;TZID=America/Denver:20260529T200000
DTSTAMP:20260422T161650
CREATED:20260331T173511Z
LAST-MODIFIED:20260331T173511Z
UID:10000671-1780079400-1780084800@school.ritualcravt.com
SUMMARY:{IN PERSON} Sound of Expansion: A Sagittarius Full Moon Reset
DESCRIPTION:PLEASE READ: This class is IN PERSON. TICKETS ARE NOT TRANSFERABLE. Class fees are non transferable\, we stick to the student agreements agreed upon during registration. Please ensure you are able to attend the scheduled class time. \n  \nThe Sagittarius Full Moon on May 31 opens an energetic portal\, inviting us to step into light\, clarity\, and expansion. Full moons heighten energy\, reveal our journey to us\, help us celebrate how far we’ve come\, and call us to release patterns that no longer support our growth. As May’s second full moon of the month\, this Blue Moon amplifies that energy\, acting as a cosmic bonus round for reflection\, insight\, and accelerated transformation. Sagittarius brings fire\, ambition\, optimism\, and adventure\, encouraging us to dream boldly\, explore new possibilities\, seek truth\, trust our vision\, and shoot for the stars. This full\, Blue Moon in Sagittarius creates a powerful moment for evolution\, honest reflection\, and aligned release to move forward with courage. \nJoin artist and healer Tori Price in this compassionate space to connect with your fiery vision through sound\, stillness\, and self-inquiry. Beginning with guided journaling\, you’ll work with reflective writing prompts to support you in exploring your dreams and aspirations before relaxing into a restorative sound bath meditation. The soothing immersive vibrations of healing crystal singing bowls and other ethereal sounds work gently through the body\, returning you to your natural center to ground your illuminated insights into your body. \nCelebrate your growth\, release outdated patterns\, tap into your inner truth\, and step into the radiant light of your expanded vision. Are you ready to connect with your future self? \n  \nAll are welcome\, and no experience with sound healing or journaling is necessary. Please arrive 5-10 minutes early to arrive and settle in. \nWhat to bring: \nA yoga mat\, blankets\, bolsters/pillows\, anything to make yourself feel cozy and safe \n– (Ritualcravt has some available as well!) \nEye mask or scarf to cover your eyes \nA journal and pen \nWater \nWhat to expect: \nGuided journaling prompts + intention setting \nGentle breathwork + grounding meditation \nSound bath with crystal bowls + other healing instruments \nTime for integration after the sound bath \nA few benefits of sound healing: \nIncreases parasympathetic response \nPromotes better sleep \nImproves mood and focus \nReduces stress\, anxiety\, depression \nBoosts immune system \nHelps with pain management \n  \nYOUR INSTRUCTOR: \nTori Price is a fine artist\, sound healer\, card reader\, and teacher. With over 12 years of experience in art and healing\, her degree in Psychology\, and certifications in yoga and sound healing\, Tori enjoys guiding others in gentle\, compassionate practices that cultivate a sense of restful\, harmonious self-connection. \nTori is an advocate for participating in accessible healing practices that encourage less mind energy and more heart and body energy; the ability to calm the mind and feel at ease during sound baths has always drawn her to this practice. She is honored to create immersive\, ethereal soundscapes with crystal singing bowls and other healing instruments for others to relax and return to their center. Growing up playing mallet percussion for 6+ years in school bands\, Tori’s inner child is overjoyed to be playing with mallets and music again to help others in a meaningful way. \nLearn more about Tori and her offerings: toripriceart.com / @toripriceart
URL:https://school.ritualcravt.com/class/in-person-sound-of-expansion-a-sagittarius-full-moon-reset/
LOCATION:RitualCravt\, Ritualcravt\, 7700 W 44th Ave CO\, Wheat Ridge\, CO\, 80033\, United States
ATTACH;FMTTYPE=image/jpeg:https://school.ritualcravt.com/wp-content/uploads/2026/03/pexels-202977425-11603220.jpg
ORGANIZER;CN="RitualCravt School":MAILTO:Learn@Ritualcravt.com
END:VEVENT
BEGIN:VEVENT
DTSTART;TZID=America/Denver:20260530T140000
DTEND;TZID=America/Denver:20260530T160000
DTSTAMP:20260422T161650
CREATED:20260401T173515Z
LAST-MODIFIED:20260401T173515Z
UID:10000681-1780149600-1780156800@school.ritualcravt.com
SUMMARY:{IN PERSON} Psychometry Circle
DESCRIPTION:PLEASE READ: This class is IN PERSON. TICKETS ARE NOT TRANSFERABLE. \nClass fees are non transferable\, we stick to the student agreements agreed upon during registration. Please ensure you are able to attend the scheduled class time. \n  \nHave you ever picked up an item and gotten a sense of the stories behind it? \nPsychometry involves receiving psychic impressions about an object\, person\, place\, or event by physically handling an item associated with them. The first hour of the circle will include basic information about the process\, the psychic senses that make psychometry possible\, and preparation for hands-on practice. The second hour will be spent in practice\, handling available items and seeing what impressions we get\, including if what we get can be verified. However\, this isn’t so much as “right and wrong” as it is about practice and having fun! \nThere will be a variety of items to practice with including found objects\, items that have been used in magical workings\, and those thought to be haunted or otherwise attached to a spirit. You are welcome to bring an item share\, so long as you are comfortable with it being handled by others. \n  \nYOUR INSTRUCTOR: \n\n\n\n\nSterling Moon (she/her) is a full time\, heels-on-the-ground\, tarot reader\, psychic medium\, folk magician\, animal communicator\, published author\, podcaster\, and an educator on the mystical and strange. Sterling has been working with clients and teaching professionally since 2013 and has been a teacher with Ritualcravt School since 2017. \nShe is the author of Talking to Spirits: A Modern Medium’s Practical Advice for Spirit Communication (2023) and Llewellyn’s Little Book of Spirit Communication (2025)\, published by Llewelyn Books. She has several self-published works and more formal titles on the way. \nSterling also spent almost 20 years as a professional advocate for victims and survivors of crime in Wyoming\, Minnesota\, and Colorado\, which will forever remind her of the importance of serving her communities. \n\n\n\nSterlingMoonTarot.com
URL:https://school.ritualcravt.com/class/in-person-psychometry-circle-2/
LOCATION:RitualCravt\, Ritualcravt\, 7700 W 44th Ave CO\, Wheat Ridge\, CO\, 80033\, United States
ATTACH;FMTTYPE=image/jpeg:https://school.ritualcravt.com/wp-content/uploads/2026/04/pexels-esranurkalay-32039022.jpg
ORGANIZER;CN="RitualCravt School":MAILTO:Learn@Ritualcravt.com
END:VEVENT
BEGIN:VEVENT
DTSTART;TZID=America/Denver:20260530T183000
DTEND;TZID=America/Denver:20260530T203000
DTSTAMP:20260422T161650
CREATED:20260331T163349Z
LAST-MODIFIED:20260331T163349Z
UID:10000665-1780165800-1780173000@school.ritualcravt.com
SUMMARY:{IN PERSON} Post-Ragnarök: Rebuilding the World of the Gods\, A Monthly Training in Norse Lore\, Ritual\, and Personal Practice
DESCRIPTION:PLEASE READ: This class is IN PERSON. TICKETS ARE NOT TRANSFERABLE. Class fees are non transferable\, we stick to the student agreements agreed upon during registration. Please ensure you are able to attend the scheduled class time. \n  \n\n\n\n\n\n\nLate May: Oath and Authority \nWarriors once fought for glory and a seat in Valhöll. But  after Ragnarök\, the age of endless war is over. What remains? \nIn this class we explore how the warrior ideal transforms after Ragnarök. The figures who remain embody a different kind of power: discipline\, restraint\, endurance\, and a commitment to rebuilding rather than conquering. We will examine how the surviving gods represent a shift in the meaning of strength and what this transformation reveals about leadership\, responsibility\, and personal authority in a world after collapse. \nWe will also explore the deeper meaning of oath and honor in the Norse tradition. When institutions fail and external authority disappears\, the responsibility for order falls to the individual. Oath becomes a binding force that shapes character\, establishes trust\, and gives structure to the rebuilding of society. \nThe session concludes with a ritual practice centered on the making of a quiet\, personal oath. In silence and reflection\, participants will consider the principles they choose to live by in a changing world and symbolically anchor their commitment to walking the path of those who endure and rebuild. \nWhat if Ragnarök has already happened and we are living in the world that comes after? \nThis monthly working explores the continuation of the gods’ legacy through lore\, ritual\, and personal practice. In a time when institutions falter and old structures collapse\, we turn to the surviving powers of the Norse cosmos to help us confront shadow\, cultivate strength\, and rebuild a coherent way of being in a changed world. \n\nYOUR INSTRUCTORS: \n\n\n\n\n\n\nKaedrich Olsen has a lifetime of experience exploring the spirit world and more than 30 years teaching and guiding others in the paranormal arts. Growing up in a haunted house and attending a spiritualist church\, he developed early skills in séance work and spirit communication. Today he helps others understand paranormal experiences\, communicate with spirits responsibly\, and navigate the unseen world with clarity and confidence. \nNelly Olsen has had a connection with the spirit world since childhood. After growing up in a religious environment that discouraged these experiences\, she later reclaimed her abilities through years of study\, practice\, and deep personal work. Today she is known for her clear communication with spirits and her work helping souls cross over and serving as a trusted guide for those seeking to better understand the paranormal.
URL:https://school.ritualcravt.com/class/in-person-post-ragnarok-rebuilding-the-world-of-the-gods-a-monthly-training-in-norse-lore-ritual-and-personal-practice-2/
LOCATION:RitualCravt\, Ritualcravt\, 7700 W 44th Ave CO\, Wheat Ridge\, CO\, 80033\, United States
ATTACH;FMTTYPE=image/jpeg:https://school.ritualcravt.com/wp-content/uploads/2026/03/pexels-pixabay-41949.jpg
ORGANIZER;CN="RitualCravt School":MAILTO:Learn@Ritualcravt.com
END:VEVENT
END:VCALENDAR